From mboxrd@z Thu Jan 1 00:00:00 1970 Return-Path: Received: from mails.dpdk.org (mails.dpdk.org [217.70.189.124]) by inbox.dpdk.org (Postfix) with ESMTP id CAC1B48A86 for ; Fri, 7 Nov 2025 01:41:22 +0100 (CET) Received: from mails.dpdk.org (localhost [127.0.0.1]) by mails.dpdk.org (Postfix) with ESMTP id BBC834013F; Fri, 7 Nov 2025 01:41:22 +0100 (CET) Received: from mail-io1-f100.google.com (mail-io1-f100.google.com [209.85.166.100]) by mails.dpdk.org (Postfix) with ESMTP id 266FE4013F for ; Fri, 7 Nov 2025 01:41:21 +0100 (CET) Received: by mail-io1-f100.google.com with SMTP id ca18e2360f4ac-93e2c9821fcso21831539f.3 for ; Thu, 06 Nov 2025 16:41:21 -0800 (PST) DKIM-Signature: v=1; a=rsa-sha256; c=relaxed/relaxed; d=iol.unh.edu; s=unh-iol; t=1762476080; x=1763080880; darn=dpdk.org; h=references:in-reply-to:cc:to:from:subject:message-id:date:from:to :cc:subject:date:message-id:reply-to; bh=fpT7DXszkbsWqPr0zWVdQM0djdze/eeeXP4TfZ8JL/Y=; b=WciirJDGGZ6KHIjQXLOvGTl8tV4F+4PFeV5D45i6UNQCu0In84GKTzZ97eGklcXEJm 6EOlIsYKlzQNykOoEqKeXB6PA6CT6bQFa2yk4yCF+VI1QzHeAbs4tihMOmrBnTU9AI2O seJjbDIARmLiQFrO6fhREgw1dSthD/Zghq8kY= X-Google-DKIM-Signature: v=1; a=rsa-sha256; c=relaxed/relaxed; d=1e100.net; s=20230601; t=1762476080; x=1763080880; h=references:in-reply-to:cc:to:from:subject:message-id:date:x-gm-gg :x-gm-message-state:from:to:cc:subject:date:message-id:reply-to; bh=fpT7DXszkbsWqPr0zWVdQM0djdze/eeeXP4TfZ8JL/Y=; b=G87UkIu9kEuBm3ToB61JQf+w83WseNbQkyKuR5n2An2F4BrEprRiqnADRu0jAUaztt vRcJ4GNi/xQta4j2hkTqHdrCYYQL5KwT27pWz3nbD/xL5pCcc7KJUI9YcaIFcsThSM5p f4JmXlCmmyI5ZxUyuUEebRdnaJYuRnBmI64S0QttUfYPGyiy2Pt/eiirQeDoyR1kQnrn 7DOROehEqueYfJ+o7oMQ8qGnnGvbpdzPmKOWH9ybOpv5XoVcXF3KpbZNZ3pUWqgypuEQ i5LJgjc+wKlGpu2Ro3AQ/A/8Mhcam5TGH0k6KEabHxg5XJQDeb8e8C0JiVaDirGrGHJ7 8czw== X-Gm-Message-State: AOJu0Yy16dojDI+XEr1zh8dMjCUqDLREDZyO8cecNLrvCeVJKW7lQ56j W7dgXx5Rb/soSEFCHziD18dqjA2IsUBBnGBWdaRHQLyBdjp98d9EGw/NjCXlyC4bJRe1L/B5e+L GotNtp7z2FHXX0/Xmo8iO81jA7cZgKzR6vsb4YmxcDchF8UhitaG7RRlVmXiE X-Gm-Gg: ASbGnctUWJAlRCIUPgabNr79/tjRsIal/TS/tKpOgIzwr1JDH+RUVwKsbW0CWqKTg4G KwMNL4Sx79ql3sbPwINbXTg3iEmQwYyPaQXT09nll09HAVdD9hl1PRSrwXYVDbbK1YwzOHoqZFG sy/UJ9F3vBQSbMqkCLLrRZxoV7lH8+wpN1r3exRaIdXtXd/EexIBHN1FNZBvihXcK0VS+v/hG2B nFRhtldpBDanP3CJLyeeKY/g3Gbf4C/oTbDW/2PJkZHhkHntG/fS+2nzaJJEDUO8Wq9C5izeEyd T1b8PEZguO1GPhqNl1sFpBc+laAc13NCIAurhrVcU4HfhwOhSGHu/poE6xPoWF9y5IoxyR6K5zb s3QYigbWT X-Google-Smtp-Source: AGHT+IE4Wq02Qi/luXwscy7HVY8k1hiMiXpf+7Pa0XORwhw1F8AazZAYy+FMW3WD9qj3N1odEKZNBb71TCH3 X-Received: by 2002:a05:6602:2ccb:b0:887:26b5:a581 with SMTP id ca18e2360f4ac-94888f1a2c7mr211976839f.12.1762476080402; Thu, 06 Nov 2025 16:41:20 -0800 (PST) Received: from postal.iol.unh.edu (postal.iol.unh.edu. [2606:4100:3880:1234::84]) by smtp-relay.gmail.com with ESMTPS id ca18e2360f4ac-94888c495c4sm6009739f.12.2025.11.06.16.41.20 (version=TLS1_2 cipher=ECDHE-ECDSA-AES128-GCM-SHA256 bits=128/128); Thu, 06 Nov 2025 16:41:20 -0800 (PST) X-Relaying-Domain: iol.unh.edu Date: Thu, 06 Nov 2025 16:41:20 -0800 (PST) Message-ID: <690d4030.050a0220.14c3.33e8SMTPIN_ADDED_MISSING@mx.google.com> Received: from [172.21.0.2] (unknown [172.18.0.240]) by postal.iol.unh.edu (Postfix) with ESMTP id E8638604D420; Thu, 6 Nov 2025 19:41:19 -0500 (EST) Subject: |SUCCESS| pw158493-158494 [PATCH] [v4,2/2] net/mlx5: support PF repr From: dpdklab@iol.unh.edu To: Test Report Cc: dpdk-test-reports@iol.unh.edu, Stephen Hemminger In-Reply-To: <20251106055246.360824-2-getelson@nvidia.com> References: <20251106055246.360824-2-getelson@nvidia.com> Content-Type: text/plain X-BeenThere: test-report@dpdk.org X-Mailman-Version: 2.1.29 Precedence: list List-Id: automatic DPDK test reports List-Unsubscribe: , List-Archive: List-Post: List-Help: List-Subscribe: , Errors-To: test-report-bounces@dpdk.org Test-Label: iol-unit-amd64-testing Test-Status: SUCCESS http://dpdk.org/patch/158494 _Testing PASS_ Submitter: Gregory Etelson Date: Thursday, November 06 2025 05:52:45 DPDK git baseline: Repo:dpdk-next-net Branch: master CommitID:591ee7f468aebec30d68d30afa8d5e4dcfc897dc 158493-158494 --> testing pass Upstream job id: Generic-VM-Unit-Test-DPDK#32359 Test environment and result as below: +-------------------------------+----------------+ | Environment | dpdk_unit_test | +===============================+================+ | Ubuntu 20.04 | PASS | +-------------------------------+----------------+ | Fedora Linux 41 | PASS | +-------------------------------+----------------+ | Fedora Linux 42 | PASS | +-------------------------------+----------------+ | Ubuntu 24.04 | PASS | +-------------------------------+----------------+ | Red Hat Enterprise Linux 8.10 | PASS | +-------------------------------+----------------+ | Fedora Linux 40 | PASS | +-------------------------------+----------------+ | Ubuntu 22.04 | PASS | +-------------------------------+----------------+ | Red Hat Enterprise Linux 9.5 | PASS | +-------------------------------+----------------+ | CentOS Stream 9 | PASS | +-------------------------------+----------------+ | Debian GNU/Linux 12 | PASS | +-------------------------------+----------------+ | CentOS Stream 10 | PASS | +-------------------------------+----------------+ | Windows Server 2022 | PASS | +-------------------------------+----------------+ Ubuntu 20.04 Kernel: 5.15 Compiler: gcc gcc (Ubuntu 9.4.0-1ubuntu1~20.04.2) 9.4.0 Fedora Linux 41 Kernel: 5.15 Compiler: gcc gcc (GCC) 14.3.1 20250523 (Red Hat 14.3.1-1) Fedora Linux 42 Kernel: 5.15 Compiler: clang gcc (GCC) 15.2.1 20250808 (Red Hat 15.2.1-1) Ubuntu 24.04 Kernel: 5.15 Compiler: gcc gcc (Ubuntu 13.3.0-6ubuntu2~24.04) 13.3.0 Red Hat Enterprise Linux 8.10 Kernel: 5.15 Compiler: gcc gcc (GCC) 8.5.0 20210514 (Red Hat 8.5.0-22) Fedora Linux 40 Kernel: 5.15 Compiler: clang gcc (GCC) 14.2.1 20240912 (Red Hat 14.2.1-3) Ubuntu 22.04 Kernel: 5.15 Compiler: gcc gcc (Ubuntu 11.4.0-1ubuntu1~22.04) 11.4.0 Red Hat Enterprise Linux 9.5 Kernel: 5.15 Compiler: gcc gcc (GCC) 11.5.0 20240719 (Red Hat 11.5.0-2) CentOS Stream 9 Kernel: 5.15 Compiler: gcc gcc (GCC) 11.5.0 20240719 (Red Hat 11.5.0-11) Debian GNU/Linux 12 Kernel: 5.15 Compiler: gcc gcc (Debian 12.2.0-14+deb12u1) 12.2.0 CentOS Stream 10 Kernel: 5.15 Compiler: gcc gcc (GCC) 14.2.1 20250110 (Red Hat 14.2.1-8) Windows Server 2022 Kernel: 10.0.20348.2031 Compiler: clang 15.0.7, gcc 14.1.0 (MinGW), and MSVC VS 19.39.33521 To view detailed results, visit: https://lab.dpdk.org/results/dashboard/patchsets/34494/ UNH-IOL DPDK Community Lab To manage your email subscriptions, visit: https://lab.dpdk.org/results/dashboard/preferences/subscriptions/