From mboxrd@z Thu Jan 1 00:00:00 1970 Return-Path: Received: from mails.dpdk.org (mails.dpdk.org [217.70.189.124]) by inbox.dpdk.org (Postfix) with ESMTP id 0511446E24 for ; Fri, 7 Nov 2025 01:51:40 +0100 (CET) Received: from mails.dpdk.org (localhost [127.0.0.1]) by mails.dpdk.org (Postfix) with ESMTP id E65F54013F; Fri, 7 Nov 2025 01:51:39 +0100 (CET) Received: from mail-yx1-f98.google.com (mail-yx1-f98.google.com [74.125.224.98]) by mails.dpdk.org (Postfix) with ESMTP id 233D14013F for ; Fri, 7 Nov 2025 01:51:39 +0100 (CET) Received: by mail-yx1-f98.google.com with SMTP id 956f58d0204a3-63fd17f0cd2so207434d50.3 for ; Thu, 06 Nov 2025 16:51:39 -0800 (PST) DKIM-Signature: v=1; a=rsa-sha256; c=relaxed/relaxed; d=iol.unh.edu; s=unh-iol; t=1762476698; x=1763081498; darn=dpdk.org; h=references:in-reply-to:cc:to:from:subject:message-id:date:from:to :cc:subject:date:message-id:reply-to; bh=96tUwElv3BqAoVvtfH70AfWgfqxbrTFSLFQ0gv10fNc=; b=DolQoYpn6V+/E132c1tGfQkWKjWX1HW2Q5BuSrBrXrIr4h5Ff/CivUBXOI7A6a5AC8 W+dYvltLgYYB4ETu8IgWKXyzBnnLQ7PG8dELPFj1mh63jQTKMP7KR7+ABay7rVzQ8fCu tTlRVm4cWKW9gcFyd4i5myf5JoQq/e506nquI= X-Google-DKIM-Signature: v=1; a=rsa-sha256; c=relaxed/relaxed; d=1e100.net; s=20230601; t=1762476698; x=1763081498; h=references:in-reply-to:cc:to:from:subject:message-id:date:x-gm-gg :x-gm-message-state:from:to:cc:subject:date:message-id:reply-to; bh=96tUwElv3BqAoVvtfH70AfWgfqxbrTFSLFQ0gv10fNc=; b=Y/jiK+pRF+MYkrqKY/8SwxZHl58IRHaUjSfmvsv+j+TdTB5SMkOebBK7jTjJg6vned ZbdkHID8Sj8AMdI5fHl73FiX5IhLks3Wkb8RA2dBLO+g/4+jPncBFGmbGdLxG7ayFcbg zIWHpY0sK6qA5XAigkYYom/irPDNu/bgHfCNtysSi28cSN7e7CCFBsHM40JMQhuTFVzK Hd1W3WIAOlqWLdowOQc8Esi0L1y1zRTSXVf/Z/aqdzVBL/ELwuu7ZER19L8FUy1Kxlsu tTaxwn57CavSPiZ7VWStaOc63016JDWT1bODqTTYX9blC9NtwEa2s17I3PE4FCtJdY3V 882A== X-Gm-Message-State: AOJu0YzReWOW5hBWDJ2OC0sqzKU45Qgcscs/PPcS6BIIjVRcBMDZo5l8 JgObd9p79oGwB2VLNNR3dRCVqyYqrih3tJPkK8XTKXXQ+V8kG1xf2hASfeokr/CXVIpd9RfWx5g fC+cS7jwsr2zQan1gzfcn4503CvkXUy6QsEG8tq1rx7sktcJNCDvoB057Dfxf X-Gm-Gg: ASbGncsuO0zJ0PNPIyMjUxfx22YfSPsPYbzHYy7/2hkqJfZ9dqkiE1lNvrZbasvbM9f 4r27Uhqg3puAa/3LB7evNNWnrY6iY3RnnFX6JAb/cZvxy0rhShw1dJ8KoZyppVP8FUJbjZw/16D hoKXjzmcd3gP0bpGb0NPPbMDv2KV7xAm3ORRFH/FQyGk1dpvFbilR4bUXreJ0B13FWB1VEoIQo0 hcRhu2VyOeGtHXoDq0J4Gfuiev41yCAhtvBn4t1hUYCowEcwd8QJkYSaP4sZsE5rUqMZCG1uwwL 36QGQKOAe3uul11aYNrILagPW00pcYxNycgrJm016jvhvUoOcw7ACgbvI/UeuY4Gyn9Sq9J+kBM xCNzkQPvM X-Google-Smtp-Source: AGHT+IG4601dpL6geAl8SK3NCgWF1CbZJ1DwUeZe52/05QxKWvv6A3OMGOXvc4Y/KPTjVqZ4BKq5zNJ8UPei X-Received: by 2002:a05:690e:15d4:b0:63f:ba88:e905 with SMTP id 956f58d0204a3-640c420de99mr1083724d50.30.1762476698426; Thu, 06 Nov 2025 16:51:38 -0800 (PST) Received: from postal.iol.unh.edu (postal.iol.unh.edu. [2606:4100:3880:1234::84]) by smtp-relay.gmail.com with ESMTPS id 956f58d0204a3-640b5c910bdsm221292d50.1.2025.11.06.16.51.38 (version=TLS1_2 cipher=ECDHE-ECDSA-AES128-GCM-SHA256 bits=128/128); Thu, 06 Nov 2025 16:51:38 -0800 (PST) X-Relaying-Domain: iol.unh.edu Date: Thu, 06 Nov 2025 16:51:38 -0800 (PST) Message-ID: <690d429a.050a0220.22985d.bb21SMTPIN_ADDED_MISSING@mx.google.com> Received: from [172.21.0.2] (unknown [172.18.0.240]) by postal.iol.unh.edu (Postfix) with ESMTP id CEA07604D420; Thu, 6 Nov 2025 19:51:37 -0500 (EST) Subject: |SUCCESS| pw158492 [PATCH] [v2] check-spdk: check that tag is on fir From: dpdklab@iol.unh.edu To: Test Report Cc: dpdk-test-reports@iol.unh.edu In-Reply-To: <20251106012200.921242-1-stephen@networkplumber.org> References: <20251106012200.921242-1-stephen@networkplumber.org> Content-Type: text/plain X-BeenThere: test-report@dpdk.org X-Mailman-Version: 2.1.29 Precedence: list List-Id: automatic DPDK test reports List-Unsubscribe: , List-Archive: List-Post: List-Help: List-Subscribe: , Errors-To: test-report-bounces@dpdk.org Test-Label: iol-unit-amd64-testing Test-Status: SUCCESS http://dpdk.org/patch/158492 _Testing PASS_ Submitter: Stephen Hemminger Date: Thursday, November 06 2025 01:22:00 DPDK git baseline: Repo:dpdk Branch: master CommitID:87f7895e470c13e13efd6762d701139d0987294a 158492 --> testing pass Upstream job id: Generic-Unit-Test-DPDK#389618 Test environment and result as below: +-------------------------------+----------------+ | Environment | dpdk_unit_test | +===============================+================+ | Fedora Linux 40 | PASS | +-------------------------------+----------------+ | CentOS Stream 9 | PASS | +-------------------------------+----------------+ | Ubuntu 24.04 | PASS | +-------------------------------+----------------+ | Debian GNU/Linux 12 | PASS | +-------------------------------+----------------+ | CentOS Stream 10 | PASS | +-------------------------------+----------------+ | Fedora Linux 41 | PASS | +-------------------------------+----------------+ | Ubuntu 22.04 | PASS | +-------------------------------+----------------+ | Red Hat Enterprise Linux 9.5 | PASS | +-------------------------------+----------------+ | Fedora Linux 42 | PASS | +-------------------------------+----------------+ | Red Hat Enterprise Linux 8.10 | PASS | +-------------------------------+----------------+ | Ubuntu 20.04 | PASS | +-------------------------------+----------------+ Fedora Linux 40 Kernel: 5.15 Compiler: gcc gcc (GCC) 14.2.1 20240912 (Red Hat 14.2.1-3) CentOS Stream 9 Kernel: 5.15 Compiler: gcc gcc (GCC) 11.5.0 20240719 (Red Hat 11.5.0-11) Ubuntu 24.04 Kernel: 5.15 Compiler: gcc gcc (Ubuntu 13.3.0-6ubuntu2~24.04) 13.3.0 Debian GNU/Linux 12 Kernel: 5.15 Compiler: gcc gcc (Debian 12.2.0-14+deb12u1) 12.2.0 CentOS Stream 10 Kernel: 5.15 Compiler: gcc gcc (GCC) 14.2.1 20250110 (Red Hat 14.2.1-8) Fedora Linux 41 Kernel: 5.15 Compiler: gcc gcc (GCC) 14.3.1 20250523 (Red Hat 14.3.1-1) Ubuntu 22.04 Kernel: 5.15 Compiler: gcc gcc (Ubuntu 11.4.0-1ubuntu1~22.04) 11.4.0 Red Hat Enterprise Linux 9.5 Kernel: 5.15 Compiler: gcc gcc (GCC) 11.5.0 20240719 (Red Hat 11.5.0-2) Fedora Linux 42 Kernel: 5.15 Compiler: gcc gcc (GCC) 15.2.1 20250808 (Red Hat 15.2.1-1) Red Hat Enterprise Linux 8.10 Kernel: 5.15 Compiler: gcc gcc (GCC) 8.5.0 20210514 (Red Hat 8.5.0-22) Ubuntu 20.04 Kernel: 5.15 Compiler: gcc gcc (Ubuntu 9.4.0-1ubuntu1~20.04.2) 9.4.0 To view detailed results, visit: https://lab.dpdk.org/results/dashboard/patchsets/34495/ UNH-IOL DPDK Community Lab To manage your email subscriptions, visit: https://lab.dpdk.org/results/dashboard/preferences/subscriptions/