From mboxrd@z Thu Jan 1 00:00:00 1970 Return-Path: Received: from mails.dpdk.org (mails.dpdk.org [217.70.189.124]) by inbox.dpdk.org (Postfix) with ESMTP id 28E0248A86 for ; Fri, 7 Nov 2025 02:00:10 +0100 (CET) Received: from mails.dpdk.org (localhost [127.0.0.1]) by mails.dpdk.org (Postfix) with ESMTP id 12EA64013F; Fri, 7 Nov 2025 02:00:10 +0100 (CET) Received: from mail-il1-f227.google.com (mail-il1-f227.google.com [209.85.166.227]) by mails.dpdk.org (Postfix) with ESMTP id EFD034013F for ; Fri, 7 Nov 2025 02:00:08 +0100 (CET) Received: by mail-il1-f227.google.com with SMTP id e9e14a558f8ab-4330e912c51so840365ab.3 for ; Thu, 06 Nov 2025 17:00:08 -0800 (PST) DKIM-Signature: v=1; a=rsa-sha256; c=relaxed/relaxed; d=iol.unh.edu; s=unh-iol; t=1762477208; x=1763082008; darn=dpdk.org; h=references:in-reply-to:cc:to:from:subject:message-id:date:from:to :cc:subject:date:message-id:reply-to; bh=TpsUwDOp+YAeF15MUydyskcqyI7u8fE0Pxt/afj9tKs=; b=WFkOcPAxse1NWgSZagTLe4wNm7kLz0+YYqdm4nYMChMxBsAORn+hXVQ+7G03aLYW8Z Ell6WQjmUTcqxF5ECHC/Mbx3qR0PtEom467CnZa7SYbh/9UfBWIKv4I+6H2d5geqBlpT rYZ1I7obsvnua7C1hHIBIiGZTuuUoe83kXynY= X-Google-DKIM-Signature: v=1; a=rsa-sha256; c=relaxed/relaxed; d=1e100.net; s=20230601; t=1762477208; x=1763082008; h=references:in-reply-to:cc:to:from:subject:message-id:date:x-gm-gg :x-gm-message-state:from:to:cc:subject:date:message-id:reply-to; bh=TpsUwDOp+YAeF15MUydyskcqyI7u8fE0Pxt/afj9tKs=; b=NKv+hw+xJTAywkLqF1AmTAtxxkSSk6zA4Tks3T7MR5Dot1U4yYz6n8ZHDNS/PBiDNH Y5sjWaAxPlr7y/knxdSHmnUUXmHA1KuAkb+5YhUuwuGTQiBJPJo7KbABPp96WYh/Qiu1 XLrZliiUjRex0sny6YnjqYg4NYpzEoaWzzXVQ5eJHUkQCWnroP/vDkrng0MZLp80zI6d 3sCP2xarq5EGlRA23rXFkuEWLD71XHNtnooD9C3Augfrhi0lD9tSR0lfualzmcxhGTUt A++1BujeRjpRyubkfpQxfGlE4E6kZNvAj6blLU9xs9PW47+m0f3LMxzliBW8Y9SdiP5I P/iA== X-Gm-Message-State: AOJu0YyAIEs2UUZvYLrYbGXIGYxHPgAWyEaW04epClWrk9Yrr0p+XXSF aZAZ/NYAKuoZigAbLFN4c6jzh9jYp4uR0MOVue/iw480FvNQz+Ek99Gp2LCQ0Bs3cTYi5s4BGzI m3tWBSWhaPzhjvc081xPN87OL+LUOuMNF9xIqdYqvPQW1 X-Gm-Gg: ASbGnctOfr8Z1JI/dSqNmdsguXui6Xqpio6dPSxGZYtz0W8Ig0j9TBaj1I25WhL69mc 0XImVvairnRLzKcJ2BIrsAuWVbNy7NZUmPA4N888zuzWhq4k0kXrciRu5mJ0mzh0XojIQu7YgcW WP52ISpimyBHuC2sP0i6tCglL1vRLZJN4FDBFeGO1eGSNvsfe34PKMUMGnDwpZHhGvJCsJubsJq CK9ncTl1PB+qoPf3rD/h95UtcuMfjAfjSUZUlrgV+CDQsVmI3FOXwInirQs7PjJBzAGSg29KeUS omgF+5pM6fZ22XdaW1Jfly8a4KzS5s+QjTsNB1/W17qZ9yIyHrG9O3ghs6gH8T6LoehSfDcV8eK pSyd8cqBCD9YUJuuqZE7SmdJotUH8NAo= X-Google-Smtp-Source: AGHT+IEfAwYEpfi5uI5Hb2wbWd0wvq2tAf6IC9FCco00+m4sMkfguCYzK/Umo/E+2V5/PmhEYqUcCRrsDRzs X-Received: by 2002:a05:6e02:12cc:b0:430:c17c:5082 with SMTP id e9e14a558f8ab-4335f3e1622mr23864475ab.6.1762477208263; Thu, 06 Nov 2025 17:00:08 -0800 (PST) Received: from postal.iol.unh.edu (postal.iol.unh.edu. [132.177.123.84]) by smtp-relay.gmail.com with ESMTPS id e9e14a558f8ab-4335b9eabbfsm1889465ab.0.2025.11.06.17.00.08 (version=TLS1_2 cipher=ECDHE-ECDSA-AES128-GCM-SHA256 bits=128/128); Thu, 06 Nov 2025 17:00:08 -0800 (PST) X-Relaying-Domain: iol.unh.edu Date: Thu, 06 Nov 2025 17:00:08 -0800 (PST) Message-ID: <690d4498.050a0220.7ce4e.9e14SMTPIN_ADDED_MISSING@mx.google.com> Received: from [172.21.0.4] (unknown [172.18.0.240]) by postal.iol.unh.edu (Postfix) with ESMTP id D22C06051830; Thu, 6 Nov 2025 20:00:07 -0500 (EST) Subject: |SUCCESS| pw158493-158494 [PATCH] [v4,2/2] net/mlx5: support PF repr From: dpdklab@iol.unh.edu To: Test Report Cc: dpdk-test-reports@iol.unh.edu, Stephen Hemminger In-Reply-To: <20251106055246.360824-2-getelson@nvidia.com> References: <20251106055246.360824-2-getelson@nvidia.com> Content-Type: text/plain X-BeenThere: test-report@dpdk.org X-Mailman-Version: 2.1.29 Precedence: list List-Id: automatic DPDK test reports List-Unsubscribe: , List-Archive: List-Post: List-Help: List-Subscribe: , Errors-To: test-report-bounces@dpdk.org Test-Label: iol-unit-amd64-testing Test-Status: SUCCESS http://dpdk.org/patch/158494 _Testing PASS_ Submitter: Gregory Etelson Date: Thursday, November 06 2025 05:52:45 DPDK git baseline: Repo:dpdk-next-net Branch: master CommitID:591ee7f468aebec30d68d30afa8d5e4dcfc897dc 158493-158494 --> testing pass Upstream job id: Generic-VM-Unit-Test-DPDK#32360 Test environment and result as below: +-------------------------------+----------------+ | Environment | dpdk_unit_test | +===============================+================+ | Ubuntu 20.04 | PASS | +-------------------------------+----------------+ | Fedora Linux 41 | PASS | +-------------------------------+----------------+ | Fedora Linux 42 | PASS | +-------------------------------+----------------+ | Ubuntu 24.04 | PASS | +-------------------------------+----------------+ | Red Hat Enterprise Linux 8.10 | PASS | +-------------------------------+----------------+ | Fedora Linux 40 | PASS | +-------------------------------+----------------+ | Ubuntu 22.04 | PASS | +-------------------------------+----------------+ | Red Hat Enterprise Linux 9.5 | PASS | +-------------------------------+----------------+ | CentOS Stream 9 | PASS | +-------------------------------+----------------+ | Debian GNU/Linux 12 | PASS | +-------------------------------+----------------+ | CentOS Stream 10 | PASS | +-------------------------------+----------------+ | Windows Server 2022 | PASS | +-------------------------------+----------------+ Ubuntu 20.04 Kernel: 5.15 Compiler: gcc gcc (Ubuntu 9.4.0-1ubuntu1~20.04.2) 9.4.0 Fedora Linux 41 Kernel: 5.15 Compiler: gcc gcc (GCC) 14.3.1 20250523 (Red Hat 14.3.1-1) Fedora Linux 42 Kernel: 5.15 Compiler: clang gcc (GCC) 15.2.1 20250808 (Red Hat 15.2.1-1) Ubuntu 24.04 Kernel: 5.15 Compiler: gcc gcc (Ubuntu 13.3.0-6ubuntu2~24.04) 13.3.0 Red Hat Enterprise Linux 8.10 Kernel: 5.15 Compiler: gcc gcc (GCC) 8.5.0 20210514 (Red Hat 8.5.0-22) Fedora Linux 40 Kernel: 5.15 Compiler: clang gcc (GCC) 14.2.1 20240912 (Red Hat 14.2.1-3) Ubuntu 22.04 Kernel: 5.15 Compiler: gcc gcc (Ubuntu 11.4.0-1ubuntu1~22.04) 11.4.0 Red Hat Enterprise Linux 9.5 Kernel: 5.15 Compiler: gcc gcc (GCC) 11.5.0 20240719 (Red Hat 11.5.0-2) CentOS Stream 9 Kernel: 5.15 Compiler: gcc gcc (GCC) 11.5.0 20240719 (Red Hat 11.5.0-11) Debian GNU/Linux 12 Kernel: 5.15 Compiler: gcc gcc (Debian 12.2.0-14+deb12u1) 12.2.0 CentOS Stream 10 Kernel: 5.15 Compiler: gcc gcc (GCC) 14.2.1 20250110 (Red Hat 14.2.1-8) Windows Server 2022 Kernel: 10.0.20348.2031 Compiler: clang 15.0.7, gcc 14.1.0 (MinGW), and MSVC VS 19.39.33521 To view detailed results, visit: https://lab.dpdk.org/results/dashboard/patchsets/34494/ UNH-IOL DPDK Community Lab To manage your email subscriptions, visit: https://lab.dpdk.org/results/dashboard/preferences/subscriptions/