From mboxrd@z Thu Jan 1 00:00:00 1970 Return-Path: Received: from mails.dpdk.org (mails.dpdk.org [217.70.189.124]) by inbox.dpdk.org (Postfix) with ESMTP id A07CB48A8A for ; Fri, 7 Nov 2025 02:04:42 +0100 (CET) Received: from mails.dpdk.org (localhost [127.0.0.1]) by mails.dpdk.org (Postfix) with ESMTP id 9C1DC4013F; Fri, 7 Nov 2025 02:04:42 +0100 (CET) Received: from mail-qv1-f100.google.com (mail-qv1-f100.google.com [209.85.219.100]) by mails.dpdk.org (Postfix) with ESMTP id 9AF2B4013F for ; Fri, 7 Nov 2025 02:04:41 +0100 (CET) Received: by mail-qv1-f100.google.com with SMTP id 6a1803df08f44-795be3a3644so1484926d6.0 for ; Thu, 06 Nov 2025 17:04:41 -0800 (PST) DKIM-Signature: v=1; a=rsa-sha256; c=relaxed/relaxed; d=iol.unh.edu; s=unh-iol; t=1762477481; x=1763082281; darn=dpdk.org; h=references:in-reply-to:cc:to:from:subject:message-id:date:from:to :cc:subject:date:message-id:reply-to; bh=OqATzUDbtLTvU4SOIT35Zbi5B/W3IhGY44z/lJxcHfM=; b=Pi8ZouavuPUuVAFWZXnGOygMuZT4+Q/MD5SCWI/qR4cJP5aEvulCtJjudJT4iH13Sa gl/3K45Hdo9jQ3a00zQmpMbKmatiUag8yCrbBfNVB9koUiuuOTrhZSHEytoRAG5MpJ9r 7Vnaca7wKsIrIR8mhGBqgZd5QT48049qS2RC4= X-Google-DKIM-Signature: v=1; a=rsa-sha256; c=relaxed/relaxed; d=1e100.net; s=20230601; t=1762477481; x=1763082281; h=references:in-reply-to:cc:to:from:subject:message-id:date:x-gm-gg :x-gm-message-state:from:to:cc:subject:date:message-id:reply-to; bh=OqATzUDbtLTvU4SOIT35Zbi5B/W3IhGY44z/lJxcHfM=; b=KWyf82vnsuNxLfsEN+pzjxhQXNeLkTwkdvxOwEPnCmBf8zCGftGdonXmPrthInV0U0 4/G9lRZxqhLyeG8sFqrQyw2ylnLGmGx9HM0ji9kLgrkXPDFXAZLPL7YKXsc+JXseZG1N a60XDWe7oMcXxMulKkL+e+cuQroEYqrnKTtolJmI6pJU0DrU1B5DGw54SQFNEjvG6Rgc BIJxBO9WfKWqKngH45ZVPTUWsfZGCGKMlWmDHu/8+AqIXAVoVfN6OnZR3OM+vQPT06xT r9R2LVpbJXvAO69sLUFCVa3UjC8aTwADUJdI3n3QppXGo6Cw8xhVWUXAd18rtBa1dZsA lc8Q== X-Gm-Message-State: AOJu0Yy098/G0mOcLaOeEt+eIgvNkwhjqc8HRGJxPqdCwreeSHLW5IHO BEudXw4as/DCtHsiSmFeyXD0BRYaXlNsJr8r0y5Whyqh+bmyHg8msZA9vjHxAz90/nflXktbpJm 1QtXlAy9y7AJJ3loed5NGL7DjnaDncAL9FE0sFQUnfZJBYfZ6EkgIG5N2o9PT X-Gm-Gg: ASbGncsPn6tSGsXNjwlskikoFaQuM607/UVhFI82fJ6VnUxSxYAM0R95SImfKCYJBbH Wd+8huJIuiV6RBD7uHVKAn2LLdjmezFo7WX6haeM0/GdPpzV1x0r5Zys5buWITWTBSJchivf+A5 XzDCVvwwt0KHPnEPaa3wESdlAoxrrrMMD26G5fzWKiPx4P9pcjxkYyso5VF1QdRdUr1sazlU5kD IVUMbIfqRAAk0Jtr1R82YvvXasIBAS109PbffmduFq564c76UzXW1dfv5Q/XsIR2WO76AbK1bj4 uIn5U+KkXQheskGnxFI004Z0jpoTaFrswqsIc9ktlVqwR1fw+TEjhpXxC5uOZzPIK4ju8vEEByx eYakbU8GP X-Google-Smtp-Source: AGHT+IGwkup/oE2RyGRWnbqR00DdA8Tm0AV8G1K7sEuT9BKom6dCqBjMqS4o2ER+pSiKiWB5D0nsAtth70pa X-Received: by 2002:ad4:5ca6:0:b0:880:5747:e92f with SMTP id 6a1803df08f44-88176773a52mr21416916d6.57.1762477480900; Thu, 06 Nov 2025 17:04:40 -0800 (PST) Received: from postal.iol.unh.edu (postal.iol.unh.edu. [2606:4100:3880:1234::84]) by smtp-relay.gmail.com with ESMTPS id 6a1803df08f44-88082a32983sm3710856d6.30.2025.11.06.17.04.40 (version=TLS1_2 cipher=ECDHE-ECDSA-AES128-GCM-SHA256 bits=128/128); Thu, 06 Nov 2025 17:04:40 -0800 (PST) X-Relaying-Domain: iol.unh.edu Date: Thu, 06 Nov 2025 17:04:40 -0800 (PST) Message-ID: <690d45a8.050a0220.3253a9.3995SMTPIN_ADDED_MISSING@mx.google.com> Received: from [172.21.0.2] (unknown [172.18.0.240]) by postal.iol.unh.edu (Postfix) with ESMTP id A671E6051830; Thu, 6 Nov 2025 20:04:40 -0500 (EST) Subject: |SUCCESS| pw158527 [PATCH] [v3] examples/l3fwd: add Tx burst size co From: dpdklab@iol.unh.edu To: Test Report Cc: dpdk-test-reports@iol.unh.edu In-Reply-To: <20251106141631.179443-1-sivaprasad.tummala@amd.com> References: <20251106141631.179443-1-sivaprasad.tummala@amd.com> Content-Type: text/plain X-BeenThere: test-report@dpdk.org X-Mailman-Version: 2.1.29 Precedence: list List-Id: automatic DPDK test reports List-Unsubscribe: , List-Archive: List-Post: List-Help: List-Subscribe: , Errors-To: test-report-bounces@dpdk.org Test-Label: iol-unit-arm64-testing Test-Status: SUCCESS http://dpdk.org/patch/158527 _Testing PASS_ Submitter: Sivaprasad Tummala Date: Thursday, November 06 2025 14:16:31 DPDK git baseline: Repo:dpdk Branch: master CommitID:87f7895e470c13e13efd6762d701139d0987294a 158527 --> testing pass Upstream job id: Generic-Unit-Test-DPDK#389388 Test environment and result as below: +------------------------------+--------------+------------------------------+---------------------------+----------------+ | Environment | lpm_autotest | cryptodev_sw_snow3g_autotest | cryptodev_sw_zuc_autotest | dpdk_unit_test | +==============================+==============+==============================+===========================+================+ | Ubuntu 20.04 | PASS | SKIPPED | SKIPPED | PASS | +------------------------------+--------------+------------------------------+---------------------------+----------------+ | Debian 12 (arm) | SKIPPED | PASS | PASS | SKIPPED | +------------------------------+--------------+------------------------------+---------------------------+----------------+ | Ubuntu 22.04 | SKIPPED | SKIPPED | SKIPPED | PASS | +------------------------------+--------------+------------------------------+---------------------------+----------------+ | CentOS Stream 9 | SKIPPED | SKIPPED | SKIPPED | PASS | +------------------------------+--------------+------------------------------+---------------------------+----------------+ | Fedora Linux 40 | SKIPPED | SKIPPED | SKIPPED | PASS | +------------------------------+--------------+------------------------------+---------------------------+----------------+ | CentOS Stream 10 | SKIPPED | SKIPPED | SKIPPED | PASS | +------------------------------+--------------+------------------------------+---------------------------+----------------+ | Debian GNU/Linux 12 | SKIPPED | SKIPPED | SKIPPED | PASS | +------------------------------+--------------+------------------------------+---------------------------+----------------+ | Fedora Linux 41 | SKIPPED | SKIPPED | SKIPPED | PASS | +------------------------------+--------------+------------------------------+---------------------------+----------------+ | Fedora Linux 42 | SKIPPED | SKIPPED | SKIPPED | PASS | +------------------------------+--------------+------------------------------+---------------------------+----------------+ | Red Hat Enterprise Linux 9.5 | SKIPPED | SKIPPED | SKIPPED | PASS | +------------------------------+--------------+------------------------------+---------------------------+----------------+ | Ubuntu 24.04 | SKIPPED | SKIPPED | SKIPPED | PASS | +------------------------------+--------------+------------------------------+---------------------------+----------------+ Ubuntu 20.04 Kernel: 5.4 Compiler: gcc gcc (Ubuntu 9.4.0-1ubuntu1~20.04.2) 9.4.0 Debian 12 (arm) Kernel: Depends on container host Compiler: gcc (Debian 12.2.0-14) 12.2.0 Ubuntu 22.04 Kernel: 5.15 Compiler: gcc gcc (Ubuntu 11.4.0-1ubuntu1~22.04.2) 11.4.0 CentOS Stream 9 Kernel: 5.4 Compiler: gcc gcc (GCC) 11.5.0 20240719 (Red Hat 11.5.0-11) Fedora Linux 40 Kernel: 5.4 Compiler: gcc gcc (GCC) 14.2.1 20240912 (Red Hat 14.2.1-3) CentOS Stream 10 Kernel: 5.4 Compiler: gcc gcc (GCC) 14.2.1 20250110 (Red Hat 14.2.1-8) Debian GNU/Linux 12 Kernel: 5.4 Compiler: gcc gcc (Debian 12.2.0-14+deb12u1) 12.2.0 Fedora Linux 41 Kernel: 5.4 Compiler: gcc gcc (GCC) 14.3.1 20250523 (Red Hat 14.3.1-1) Fedora Linux 42 Kernel: 5.4 Compiler: gcc gcc (GCC) 15.2.1 20250808 (Red Hat 15.2.1-1) Red Hat Enterprise Linux 9.5 Kernel: 5.4 Compiler: gcc gcc (GCC) 11.5.0 20240719 (Red Hat 11.5.0-2) Ubuntu 24.04 Kernel: 5.4 Compiler: gcc gcc (Ubuntu 13.3.0-6ubuntu2~24.04) 13.3.0 To view detailed results, visit: https://lab.dpdk.org/results/dashboard/patchsets/34487/ UNH-IOL DPDK Community Lab To manage your email subscriptions, visit: https://lab.dpdk.org/results/dashboard/preferences/subscriptions/