From mboxrd@z Thu Jan 1 00:00:00 1970 Return-Path: Received: from mails.dpdk.org (mails.dpdk.org [217.70.189.124]) by inbox.dpdk.org (Postfix) with ESMTP id 740DA48A8A for ; Fri, 7 Nov 2025 02:38:17 +0100 (CET) Received: from mails.dpdk.org (localhost [127.0.0.1]) by mails.dpdk.org (Postfix) with ESMTP id 665FB4013F; Fri, 7 Nov 2025 02:38:17 +0100 (CET) Received: from mail-pl1-f227.google.com (mail-pl1-f227.google.com [209.85.214.227]) by mails.dpdk.org (Postfix) with ESMTP id 1106A4013F for ; Fri, 7 Nov 2025 02:38:16 +0100 (CET) Received: by mail-pl1-f227.google.com with SMTP id d9443c01a7336-27d3540a43fso2103815ad.3 for ; Thu, 06 Nov 2025 17:38:16 -0800 (PST) DKIM-Signature: v=1; a=rsa-sha256; c=relaxed/relaxed; d=iol.unh.edu; s=unh-iol; t=1762479495; x=1763084295; darn=dpdk.org; h=references:in-reply-to:cc:to:from:subject:message-id:date:from:to :cc:subject:date:message-id:reply-to; bh=7vBiwrjnZSoeDlfzAVTS/L5LLvm1Gu47d8zrm0gkj1I=; b=RugxUf8lX2BaHFWydZWldRDn85lU54thznQg5wn9rSKmaw7ov4Q3n09RB3x2hmLdnr vwFpTSrZTyq2Bn4L4Prtp+52glXNgqa7U62k1X1WTy0zyZ9G7YaY0Z4TtksVZRfVSiB8 vLUWCoFcIDUwCcQ5JtMJJk2ImGTIG5Cy4dFzQ= X-Google-DKIM-Signature: v=1; a=rsa-sha256; c=relaxed/relaxed; d=1e100.net; s=20230601; t=1762479495; x=1763084295; h=references:in-reply-to:cc:to:from:subject:message-id:date:x-gm-gg :x-gm-message-state:from:to:cc:subject:date:message-id:reply-to; bh=7vBiwrjnZSoeDlfzAVTS/L5LLvm1Gu47d8zrm0gkj1I=; b=CJWVOho8Fb/0HHeqMMn1lFmXq8LfqmVDOz/ziOxPyt+1E+Cd0ClATtN+n01CMpxIVn LGMV59UwSNSDj5R9ZaAEHwYNE657RvOhJ69+L9W7Eo423yrfyTglEy6ZKT6zcrFIlkjm XVv5ce0ZQx5LVOAVUQiWe4dvc/1apjdKFmgEOm7mx3dqsCa7yiU7ZOOHNkEj/MJfwqvJ uSIrenmbauNQVfrTcRaisyZENFzlFXMvf/jJ+E7jTaTgHkXhUw66W/npXAKl+18rN8mw NcIA9nTUlgDzww+1rY1vJo9v1Ne+fPOV/POAqFL0fatz7djPeZFTXY/Jtiwz7FmRSTkP R9vw== X-Gm-Message-State: AOJu0YzUEO5mqqoucN6ACLTbXUT5WTDkBUK6vh0N7ofhIhSU251g4BFi iHvBgtXUeiaId/mL7z0as3kFvk0IqseBC4NMzShaB78PibBCcOYjFFABqEQBJRSnzRM4usFa1Lt pC6dDF4vbqcIurSgW97AzzYuY/J3QU6e1Q3RyfJ5dZZHx X-Gm-Gg: ASbGncsIj5jZTkmr5Q76d81aFqlm7COlI5TrPN12zQ5EM9KrMmUdaNAz0wJ9FkLXcPV 6zz/5YZ7iU4NdK2e9NpRIZUj60hyHyJJWAANquIO/38mzMdS0I2d6aY4jxITyA2pjTzVElVLdab RDV3TuH4WoZroAqQJ6WClK3kIysJxiSIv+/htVivnSJhpXIC2oDs9igbAVBtT6SjBgdT9Y1AlC6 vuGlZ+AjkQ9lyerPaXhFnUW54npXRDvIas6Xgxow+op3Vh1t9KujsroC8hOUwoBY8U5kMH+EebC ETjVv8mXZm8zKuVXcVeR4nvN/poFzafBofhTlvkZrROKOHXOf6KmXQ1+oRe6++Z3cqj/gb/MGYk nUeBXf+KqP6NkxG5X5CtyrsrtfKeKxsM= X-Google-Smtp-Source: AGHT+IEEzBk77BkO9Ll+4V4CNrkeJ6/wJMIh6NRyuTax6xFogbdpq8TiB1xFig5jM3k0ZIkG6/za4CGez4SM X-Received: by 2002:a17:902:ef0a:b0:295:702e:66e4 with SMTP id d9443c01a7336-297c03c6f87mr18445815ad.19.1762479495210; Thu, 06 Nov 2025 17:38:15 -0800 (PST) Received: from postal.iol.unh.edu (postal.iol.unh.edu. [132.177.123.84]) by smtp-relay.gmail.com with ESMTPS id d9443c01a7336-29651c8de62sm3571025ad.53.2025.11.06.17.38.15 (version=TLS1_2 cipher=ECDHE-ECDSA-AES128-GCM-SHA256 bits=128/128); Thu, 06 Nov 2025 17:38:15 -0800 (PST) X-Relaying-Domain: iol.unh.edu Date: Thu, 06 Nov 2025 17:38:15 -0800 (PST) Message-ID: <690d4d87.170a0220.1bd208.2e25SMTPIN_ADDED_MISSING@mx.google.com> Received: from [172.21.0.2] (unknown [172.18.0.240]) by postal.iol.unh.edu (Postfix) with ESMTP id 6EFEC6051830; Thu, 6 Nov 2025 20:38:14 -0500 (EST) Subject: |SUCCESS| pw158487-158489 [PATCH] [v6,3/3] dts: add performance test From: dpdklab@iol.unh.edu To: Test Report Cc: dpdk-test-reports@iol.unh.edu In-Reply-To: <20251105223628.1659390-4-probb@iol.unh.edu> References: <20251105223628.1659390-4-probb@iol.unh.edu> Content-Type: text/plain X-BeenThere: test-report@dpdk.org X-Mailman-Version: 2.1.29 Precedence: list List-Id: automatic DPDK test reports List-Unsubscribe: , List-Archive: List-Post: List-Help: List-Subscribe: , Errors-To: test-report-bounces@dpdk.org Test-Label: iol-unit-amd64-testing Test-Status: SUCCESS http://dpdk.org/patch/158489 _Testing PASS_ Submitter: Patrick Robb Date: Wednesday, November 05 2025 22:36:28 DPDK git baseline: Repo:dpdk-next-dts Branch: master CommitID:4f35a61a6a5a31f822c3d7519e8a1de1b7cbd9c4 158487-158489 --> testing pass Upstream job id: Generic-Unit-Test-DPDK#389683 Test environment and result as below: +-------------------------------+----------------+ | Environment | dpdk_unit_test | +===============================+================+ | CentOS Stream 9 | PASS | +-------------------------------+----------------+ | CentOS Stream 10 | PASS | +-------------------------------+----------------+ | Fedora Linux 40 | PASS | +-------------------------------+----------------+ | Debian GNU/Linux 12 | PASS | +-------------------------------+----------------+ | Fedora Linux 41 | PASS | +-------------------------------+----------------+ | Fedora Linux 42 | PASS | +-------------------------------+----------------+ | Red Hat Enterprise Linux 8.10 | PASS | +-------------------------------+----------------+ | Red Hat Enterprise Linux 9.5 | PASS | +-------------------------------+----------------+ | Ubuntu 22.04 | PASS | +-------------------------------+----------------+ | Ubuntu 20.04 | PASS | +-------------------------------+----------------+ | Ubuntu 24.04 | PASS | +-------------------------------+----------------+ CentOS Stream 9 Kernel: 5.15 Compiler: gcc gcc (GCC) 11.5.0 20240719 (Red Hat 11.5.0-11) CentOS Stream 10 Kernel: 5.15 Compiler: gcc gcc (GCC) 14.2.1 20250110 (Red Hat 14.2.1-8) Fedora Linux 40 Kernel: 5.15 Compiler: gcc gcc (GCC) 14.2.1 20240912 (Red Hat 14.2.1-3) Debian GNU/Linux 12 Kernel: 5.15 Compiler: gcc gcc (Debian 12.2.0-14+deb12u1) 12.2.0 Fedora Linux 41 Kernel: 5.15 Compiler: clang gcc (GCC) 14.3.1 20250523 (Red Hat 14.3.1-1) Fedora Linux 42 Kernel: 5.15 Compiler: gcc gcc (GCC) 15.2.1 20250808 (Red Hat 15.2.1-1) Red Hat Enterprise Linux 8.10 Kernel: 5.15 Compiler: gcc gcc (GCC) 8.5.0 20210514 (Red Hat 8.5.0-22) Red Hat Enterprise Linux 9.5 Kernel: 5.15 Compiler: gcc gcc (GCC) 11.5.0 20240719 (Red Hat 11.5.0-2) Ubuntu 22.04 Kernel: 5.15 Compiler: gcc gcc (Ubuntu 11.4.0-1ubuntu1~22.04) 11.4.0 Ubuntu 20.04 Kernel: 5.15 Compiler: gcc gcc (Ubuntu 9.4.0-1ubuntu1~20.04.2) 9.4.0 Ubuntu 24.04 Kernel: 5.15 Compiler: gcc gcc (Ubuntu 13.3.0-6ubuntu2~24.04) 13.3.0 To view detailed results, visit: https://lab.dpdk.org/results/dashboard/patchsets/34497/ UNH-IOL DPDK Community Lab To manage your email subscriptions, visit: https://lab.dpdk.org/results/dashboard/preferences/subscriptions/