From mboxrd@z Thu Jan 1 00:00:00 1970 Return-Path: Received: from mails.dpdk.org (mails.dpdk.org [217.70.189.124]) by inbox.dpdk.org (Postfix) with ESMTP id CC78D48A8A for ; Fri, 7 Nov 2025 03:04:23 +0100 (CET) Received: from mails.dpdk.org (localhost [127.0.0.1]) by mails.dpdk.org (Postfix) with ESMTP id A65574013F; Fri, 7 Nov 2025 03:04:23 +0100 (CET) Received: from mail-io1-f99.google.com (mail-io1-f99.google.com [209.85.166.99]) by mails.dpdk.org (Postfix) with ESMTP id 610004013F for ; Fri, 7 Nov 2025 03:04:22 +0100 (CET) Received: by mail-io1-f99.google.com with SMTP id ca18e2360f4ac-94822ad1baeso21729139f.2 for ; Thu, 06 Nov 2025 18:04:22 -0800 (PST) DKIM-Signature: v=1; a=rsa-sha256; c=relaxed/relaxed; d=iol.unh.edu; s=unh-iol; t=1762481061; x=1763085861; darn=dpdk.org; h=references:in-reply-to:cc:to:from:subject:message-id:date:from:to :cc:subject:date:message-id:reply-to; bh=yqIUNYwurHeZYmx8/ttydikTRw85RvqNcWsoeph5EAc=; b=KXkvhET6WzbRq6WSVX8BxXbJx9lqbpviLpZ4gPHr8dy4mB5I87/7Z/RCR3ChprENZo kKWk+Yf5FUehF8XoS5bbG/5ZiXvKy5E61k6E4EGTMuk1zoUlYdZ9qs4Wu+IVrhaCrWHS W5TfGCaI7IWD9vAwTU+FLPpoKleVo6zmbLae8= X-Google-DKIM-Signature: v=1; a=rsa-sha256; c=relaxed/relaxed; d=1e100.net; s=20230601; t=1762481061; x=1763085861; h=references:in-reply-to:cc:to:from:subject:message-id:date:x-gm-gg :x-gm-message-state:from:to:cc:subject:date:message-id:reply-to; bh=yqIUNYwurHeZYmx8/ttydikTRw85RvqNcWsoeph5EAc=; b=douv7fN4RnbcSjUhUFpQODUdr/NDvXq46J4aQTnUnbxEuA9HwsLjeQpl9Vdqu9WGAf kPrjrIhMor6CdXvnDZea/mirWVIlRYBUKARIWjNcY6mthJAVwmcWnpyfyO690wLvWZAF P2fcvYQinz0JQg3sgSPtdc+x5ZEOQMET9qE1c4TveJ1xGMp7km1lldb6pmC5FWXhH9d+ +CJWk+mSaD+vOwvlMShTFGpu5ukDLrYUzJ6JwmNC404WX2ha4/N+N2KrrhEsKL+BKw2m +23JfKlIbWWncDF/xd6RzhJ5VdZtd6c0ToHBjwWjt9bOuFrevg/KlR9ruc6rITn1V/nr 4RBA== X-Gm-Message-State: AOJu0YxkA1D2Ki42mubqgTxwftxDDtpaEA7fhTJMIpl8/lm58gbF5nio A7/dq+eU2FB9GGenD/DCDknWVTBqBcp4GQfl4JlGrHDLnueNNxJSibTwfqy9wWZ1cSpaZOz2k73 Oh6HcZs1pzslspAeNI7vZTGf4Uv4SMqlWsGg5PATWJkhIjAbGSs/nbT1nrbnb X-Gm-Gg: ASbGncvucfdXkbaMr0cZz+ivbGclxMYLPU7fIdCZLIJ4Z2iUU+/5QS2Q49EkJNkQhcl YXf53cNfcuJIB0Mw5SF5T9fiwt6oSdlUmHcD8Jx7suHAJyLBmShVwG/BHJD0QRYhEboKzriRFfI oI53MROlPuIZBOi0lUTdNKCqNDmL2Y+yRK9bOAsSvarjbVxxKnnXGZcWcl/piMs0cL+QcDpgs7P movA/3K8d73Eq2yJQzzEd1qP0aeonpBBfBmHBbeUmtakzYiPH5i9u77BR3dQ5xOmKO7hKKK/KVV 5ChJKJEpSbpUlfeAofiiNFQnAbGtq3pW0Y1KO4nebZ+1Tf4Kl8tbVtD/mLMxAh6mDad3fKM9IGd pYSjjN2EO X-Google-Smtp-Source: AGHT+IFfPx6R9iFeooT90trtBl4WZ8vwRyeioOKaHH2swhnnmMVGgxUQWM7s3M/N+sO/Cy1nG5JCnoDgjnjf X-Received: by 2002:a05:6e02:2194:b0:433:2936:48c2 with SMTP id e9e14a558f8ab-4335f56f036mr18274185ab.24.1762481061655; Thu, 06 Nov 2025 18:04:21 -0800 (PST) Received: from postal.iol.unh.edu (postal.iol.unh.edu. [2606:4100:3880:1234::84]) by smtp-relay.gmail.com with ESMTPS id e9e14a558f8ab-4334f4c683esm3465335ab.31.2025.11.06.18.04.21 (version=TLS1_2 cipher=ECDHE-ECDSA-AES128-GCM-SHA256 bits=128/128); Thu, 06 Nov 2025 18:04:21 -0800 (PST) X-Relaying-Domain: iol.unh.edu Date: Thu, 06 Nov 2025 18:04:21 -0800 (PST) Message-ID: <690d53a5.050a0220.23ec6b.2169SMTPIN_ADDED_MISSING@mx.google.com> Received: from [172.21.0.4] (unknown [172.18.0.240]) by postal.iol.unh.edu (Postfix) with ESMTP id 3A7D26051830; Thu, 6 Nov 2025 21:04:21 -0500 (EST) Subject: |SUCCESS| pw158487-158489 [PATCH] [v6,3/3] dts: add performance test From: dpdklab@iol.unh.edu To: Test Report Cc: dpdk-test-reports@iol.unh.edu In-Reply-To: <20251105223628.1659390-4-probb@iol.unh.edu> References: <20251105223628.1659390-4-probb@iol.unh.edu> Content-Type: text/plain X-BeenThere: test-report@dpdk.org X-Mailman-Version: 2.1.29 Precedence: list List-Id: automatic DPDK test reports List-Unsubscribe: , List-Archive: List-Post: List-Help: List-Subscribe: , Errors-To: test-report-bounces@dpdk.org Test-Label: iol-compile-amd64-testing Test-Status: SUCCESS http://dpdk.org/patch/158489 _Testing PASS_ Submitter: Patrick Robb Date: Wednesday, November 05 2025 22:36:28 DPDK git baseline: Repo:dpdk-next-dts Branch: master CommitID:4f35a61a6a5a31f822c3d7519e8a1de1b7cbd9c4 158487-158489 --> testing pass Upstream job id: Generic-DPDK-Compile-Meson#441752 Test environment and result as below: +-------------------------------+--------------------+------------------+ | Environment | dpdk_meson_compile | dpdk_compile_ovs | +===============================+====================+==================+ | Ubuntu 20.04 | PASS | SKIPPED | +-------------------------------+--------------------+------------------+ | FreeBSD 14.2 | PASS | SKIPPED | +-------------------------------+--------------------+------------------+ | CentOS Stream 9 | PASS | SKIPPED | +-------------------------------+--------------------+------------------+ | Debian GNU/Linux 12 | PASS | SKIPPED | +-------------------------------+--------------------+------------------+ | CentOS Stream 10 | PASS | SKIPPED | +-------------------------------+--------------------+------------------+ | Fedora Linux 42 | PASS | PASS | +-------------------------------+--------------------+------------------+ | openSUSE Leap 15.6 | PASS | SKIPPED | +-------------------------------+--------------------+------------------+ | Red Hat Enterprise Linux 8.10 | PASS | SKIPPED | +-------------------------------+--------------------+------------------+ | Red Hat Enterprise Linux 9.5 | PASS | SKIPPED | +-------------------------------+--------------------+------------------+ | Ubuntu 22.04 | PASS | SKIPPED | +-------------------------------+--------------------+------------------+ | Ubuntu 24.04 | PASS | PASS | +-------------------------------+--------------------+------------------+ | Alpine Linux 3.22.0 | PASS | SKIPPED | +-------------------------------+--------------------+------------------+ Ubuntu 20.04 Kernel: 4.19 Compiler: gcc gcc (Ubuntu 9.4.0-1ubuntu1~20.04.2) 9.4.0 FreeBSD 14.2 Kernel: 14.2-RELEASE Compiler: clang 18.1.6 CentOS Stream 9 Kernel: 5.15 Compiler: gcc gcc (GCC) 11.5.0 20240719 (Red Hat 11.5.0-11) Debian GNU/Linux 12 Kernel: 5.15 Compiler: gcc gcc (Debian 12.2.0-14+deb12u1) 12.2.0 CentOS Stream 10 Kernel: 5.15 Compiler: gcc gcc (GCC) 14.2.1 20250110 (Red Hat 14.2.1-8) Fedora Linux 42 Kernel: 5.15 Compiler: clang gcc (GCC) 15.2.1 20250808 (Red Hat 15.2.1-1) openSUSE Leap 15.6 Kernel: 5.15 Compiler: gcc gcc (SUSE Linux) 7.5.0 Red Hat Enterprise Linux 8.10 Kernel: 5.15 Compiler: gcc gcc (GCC) 8.5.0 20210514 (Red Hat 8.5.0-22) Red Hat Enterprise Linux 9.5 Kernel: 5.15 Compiler: gcc gcc (GCC) 11.5.0 20240719 (Red Hat 11.5.0-2) Ubuntu 22.04 Kernel: 5.15 Compiler: gcc gcc (Ubuntu 11.4.0-1ubuntu1~22.04) 11.4.0 Ubuntu 24.04 Kernel: 5.15 Compiler: gcc gcc (Ubuntu 13.3.0-6ubuntu2~24.04) 13.3.0 Alpine Linux 3.22.0 Kernel: 5.15 Compiler: gcc gcc (Alpine 14.2.0) 14.2.0 To view detailed results, visit: https://lab.dpdk.org/results/dashboard/patchsets/34497/ UNH-IOL DPDK Community Lab To manage your email subscriptions, visit: https://lab.dpdk.org/results/dashboard/preferences/subscriptions/