From mboxrd@z Thu Jan 1 00:00:00 1970 Return-Path: Received: from mails.dpdk.org (mails.dpdk.org [217.70.189.124]) by inbox.dpdk.org (Postfix) with ESMTP id 1EFD648A8A for ; Fri, 7 Nov 2025 03:07:46 +0100 (CET) Received: from mails.dpdk.org (localhost [127.0.0.1]) by mails.dpdk.org (Postfix) with ESMTP id 165794013F; Fri, 7 Nov 2025 03:07:46 +0100 (CET) Received: from mail-pg1-f227.google.com (mail-pg1-f227.google.com [209.85.215.227]) by mails.dpdk.org (Postfix) with ESMTP id CA7694013F for ; Fri, 7 Nov 2025 03:07:44 +0100 (CET) Received: by mail-pg1-f227.google.com with SMTP id 41be03b00d2f7-b67ae7e76abso146606a12.3 for ; Thu, 06 Nov 2025 18:07:44 -0800 (PST) DKIM-Signature: v=1; a=rsa-sha256; c=relaxed/relaxed; d=iol.unh.edu; s=unh-iol; t=1762481264; x=1763086064; darn=dpdk.org; h=references:in-reply-to:cc:to:from:subject:message-id:date:from:to :cc:subject:date:message-id:reply-to; bh=9ISZnm+OXtPEFQPPJiWMpARWe9CMb8e41SFnb8IiBPI=; b=XrF/oxG1iVdEzLjZewuO3M/6OOfvXmPM7PFzLUBsHyh7Kit0cIksnDT99HPMrvOJP+ O5JcTQlAHUIp2Ce0ALm6eLInC5bHH9jN2kzNNy8t1cC8zZ31o68QzY34xy0c8Jm4RPb6 1J4cD2/JdAnmIH+Y5b5YmaifUr2hafmYOtHQU= X-Google-DKIM-Signature: v=1; a=rsa-sha256; c=relaxed/relaxed; d=1e100.net; s=20230601; t=1762481264; x=1763086064; h=references:in-reply-to:cc:to:from:subject:message-id:date:x-gm-gg :x-gm-message-state:from:to:cc:subject:date:message-id:reply-to; bh=9ISZnm+OXtPEFQPPJiWMpARWe9CMb8e41SFnb8IiBPI=; b=WkADzVjxwTNSZxAfcnDe1NXrMN7oyXFSj7bK+arsAPzBCtqBbrvSzWLeW28F/DS8Fz ReCrLACnskw9X447uBDYfhZOW8B0LonnvakbRYgRwabW0SO5LKcrMDUAG3yYEoSFIix5 SeyVSsvh9ojMl/dMRtNJxj93Hl1pukcZDJgtZxX8BobZGvraK1dRmeHjx9nOHnxGtzzR gV5W+2gFywbrTIrMLNVCKg+vOhilLTohIQWF3me658vxvwTzCyQi03T2vYKXMt/0BRa7 89RHgR8O6uNJ2gZDfdjjJFtSeA8psmuUkW52g/4ejAdjNgiAS4DMyCxKCt/lOi08fpjv XsZQ== X-Gm-Message-State: AOJu0YxXkR8qYkZSc5Fg2QwLA4dAICPi8Q84UnMinZCyZ4UVmJOAXft0 WzYVWXp8N7oVbvG84h2pHrscjEFM+LeBCR/cp7NttGz+1rGyxYPcH5HUyQicoXXSW5hIXFunYMQ J06iEKqqGekAv0H7PW+gDR7CPhtTiEY4H/LOJ44FJJ8tq X-Gm-Gg: ASbGncvqUTtAZ94FiB3ZD3/IvjZSjSTbWiE1sIqSJvaBqF19UoH9PQB+ekScYSKUmmZ 519yKGhids/oGnVOmBVlmFdA6+IFULsK76BZ9+QgrKbJ07G5k1XAapJDFAMj8IDgIBV0zcNBLPk Ig6XDENRUaWhBP6WnTmv6U0vDMguLapQVT4d+QdXJj2EkWM09+84K2wRxJ8Je9xKj00vrHDAtNp N2abASFx1AgZKICiGXqAkP6TVHZodaUB//ZK9ZeSrsLWZSatbfnBhYGMpzaP9rSrRRRcGvkrAfX e4vWKMx8O7VAaRZIlJj+HF0hHJxXf+IQxM6HGzURZzjxdnYg4qhFOE+SFcGNjhWSTnq/Km2gCRv qndlxsNhKCutNKuiJ5KKf1a3+hPvNtqQ= X-Google-Smtp-Source: AGHT+IFDQWS+8gUaUojBGVwkZrJSjMT+8UCdcz8XwA8AkkhIOCH2yYBiFsV3TnXYpwxslf2H8IGK63jhHhWb X-Received: by 2002:a17:903:2290:b0:272:f9c3:31fb with SMTP id d9443c01a7336-297c04aa5f1mr21233165ad.58.1762481263963; Thu, 06 Nov 2025 18:07:43 -0800 (PST) Received: from postal.iol.unh.edu (postal.iol.unh.edu. [132.177.123.84]) by smtp-relay.gmail.com with ESMTPS id d9443c01a7336-29651c8e7d9sm3764585ad.48.2025.11.06.18.07.43 (version=TLS1_2 cipher=ECDHE-ECDSA-AES128-GCM-SHA256 bits=128/128); Thu, 06 Nov 2025 18:07:43 -0800 (PST) X-Relaying-Domain: iol.unh.edu Date: Thu, 06 Nov 2025 18:07:43 -0800 (PST) Message-ID: <690d546f.170a0220.1a3fd.3bc2SMTPIN_ADDED_MISSING@mx.google.com> Received: from [172.21.0.2] (unknown [172.18.0.240]) by postal.iol.unh.edu (Postfix) with ESMTP id 68BC56051830; Thu, 6 Nov 2025 21:07:43 -0500 (EST) Subject: |SUCCESS| pw158528 [PATCH] [v5] net/ice: add option to enable source From: dpdklab@iol.unh.edu To: Test Report Cc: dpdk-test-reports@iol.unh.edu, Bruce Richardson In-Reply-To: <20251106163334.95660-1-anurag.mandal@intel.com> References: <20251106163334.95660-1-anurag.mandal@intel.com> Content-Type: text/plain X-BeenThere: test-report@dpdk.org X-Mailman-Version: 2.1.29 Precedence: list List-Id: automatic DPDK test reports List-Unsubscribe: , List-Archive: List-Post: List-Help: List-Subscribe: , Errors-To: test-report-bounces@dpdk.org Test-Label: iol-compile-arm64-testing Test-Status: SUCCESS http://dpdk.org/patch/158528 _Testing PASS_ Submitter: Anurag Mandal Date: Thursday, November 06 2025 16:33:34 DPDK git baseline: Repo:dpdk-next-net-intel Branch: master CommitID:2a7bebfa5b488f8c49c9c63f2b7b7ce5cc088560 158528 --> testing pass Upstream job id: Generic-DPDK-Compile-Meson#441577 Test environment and result as below: +------------------------------+--------------------+ | Environment | dpdk_meson_compile | +==============================+====================+ | Debian GNU/Linux 12 | PASS | +------------------------------+--------------------+ | Fedora Linux 42 | PASS | +------------------------------+--------------------+ | Ubuntu 20.04 | PASS | +------------------------------+--------------------+ | Red Hat Enterprise Linux 9.5 | PASS | +------------------------------+--------------------+ | Ubuntu 22.04 | PASS | +------------------------------+--------------------+ | CentOS Stream 9 | PASS | +------------------------------+--------------------+ | CentOS Stream 10 | PASS | +------------------------------+--------------------+ | Ubuntu 24.04 | PASS | +------------------------------+--------------------+ Debian GNU/Linux 12 Kernel: 5.4 Compiler: gcc gcc (Debian 12.2.0-14+deb12u1) 12.2.0 Fedora Linux 42 Kernel: 5.4 Compiler: gcc gcc (GCC) 15.2.1 20250808 (Red Hat 15.2.1-1) Ubuntu 20.04 Kernel: 5.15 Compiler: aarch64-linux-gnu-gcc gcc (Ubuntu 9.4.0-1ubuntu1~20.04.2) 9.4.0 Red Hat Enterprise Linux 9.5 Kernel: 5.4 Compiler: gcc gcc (GCC) 11.5.0 20240719 (Red Hat 11.5.0-2) Ubuntu 22.04 Kernel: 5.4 Compiler: gcc gcc (Ubuntu 11.4.0-1ubuntu1~22.04) 11.4.0 CentOS Stream 9 Kernel: 5.4 Compiler: gcc gcc (GCC) 11.5.0 20240719 (Red Hat 11.5.0-11) CentOS Stream 10 Kernel: 5.4 Compiler: gcc gcc (GCC) 14.2.1 20250110 (Red Hat 14.2.1-8) Ubuntu 24.04 Kernel: 5.4 Compiler: gcc gcc (Ubuntu 13.3.0-6ubuntu2~24.04) 13.3.0 To view detailed results, visit: https://lab.dpdk.org/results/dashboard/patchsets/34490/ UNH-IOL DPDK Community Lab To manage your email subscriptions, visit: https://lab.dpdk.org/results/dashboard/preferences/subscriptions/