From mboxrd@z Thu Jan 1 00:00:00 1970 Return-Path: Received: from mails.dpdk.org (mails.dpdk.org [217.70.189.124]) by inbox.dpdk.org (Postfix) with ESMTP id F2DEF48A8A for ; Fri, 7 Nov 2025 03:29:31 +0100 (CET) Received: from mails.dpdk.org (localhost [127.0.0.1]) by mails.dpdk.org (Postfix) with ESMTP id C9E4D4013F; Fri, 7 Nov 2025 03:29:31 +0100 (CET) Received: from mail-yw1-f228.google.com (mail-yw1-f228.google.com [209.85.128.228]) by mails.dpdk.org (Postfix) with ESMTP id DBE284013F for ; Fri, 7 Nov 2025 03:29:30 +0100 (CET) Received: by mail-yw1-f228.google.com with SMTP id 00721157ae682-7869819394aso2835867b3.3 for ; Thu, 06 Nov 2025 18:29:30 -0800 (PST) DKIM-Signature: v=1; a=rsa-sha256; c=relaxed/relaxed; d=iol.unh.edu; s=unh-iol; t=1762482570; x=1763087370; darn=dpdk.org; h=references:in-reply-to:cc:to:from:subject:message-id:date:from:to :cc:subject:date:message-id:reply-to; bh=S6E7576G08Yb+3QWE5e5BWlVVWCtABVo/FBbiQJO+FA=; b=JtlUSqT1WQpzhYNadn4bcstm9RZwQtOzXrclbsPJlF2AyAaGPj+VquHsAn7af5u3W8 T3fH3DxBvkEC+gFEeKmgWnm/J5bp7HpkSxTJ+ioTSxBK54gKJ07J+uv5lWKYKOSJxe+O D0FIT8ZPk2qoj6/oXx6Lj7wlNL3dksRumVkDw= X-Google-DKIM-Signature: v=1; a=rsa-sha256; c=relaxed/relaxed; d=1e100.net; s=20230601; t=1762482570; x=1763087370; h=references:in-reply-to:cc:to:from:subject:message-id:date:x-gm-gg :x-gm-message-state:from:to:cc:subject:date:message-id:reply-to; bh=S6E7576G08Yb+3QWE5e5BWlVVWCtABVo/FBbiQJO+FA=; b=DxogJnDKF1dguUOQ/ZlvidSSWnKnhSYhk/XDVgHr3pFTPmXgLfM0m9aT6loeQ4XkeH f+SobBaKaoXMjJBOtEGUeV9ut070BiIYEvkCH5N6h6iDoisHsf4APNtyF8nDa+tsoLZg OvLyOKfcjTx/g/d1TvGbszMIXtzPR2D0RqyFcqadR964xLh0mvi7LtyCysKJpEFbtFUa PnkYS1d4hBQ3CNiJ+85TFJY6A98ho5tYVJ4F6iWhXb72xj4ZmCNdUFQndromXEJBfZJ8 3AHvcSjKwir5USg8zHwTe8zuJDG7PVjp4hbHorbpcbA5FTrJzTKAHDgcDeDNVUp6DS6F QrJg== X-Gm-Message-State: AOJu0YzHgu1VCOQ+zzeuuqsHHucM5NC6HkLE+beDcNv2pJv/PMqgukNj 8d5Li54U+O30+MhJuwNGgd9mluquJ6xtmumabQkj0MjIJXFw6A9s1vpj8GblQIZh3uOcxjRuDsp R/u8P/8V8J/eWlr5Ayir61ULXRYDcCN6P98e89WgkGrMv X-Gm-Gg: ASbGncuNxClwZ1yJt49sL0NwaA0wgp2Df7nJz16nrvGbFyRHN8n0jKa6JlNlJIsMv46 QwTxctsmshMA5RLr/DAilbrMOrMH4j8p90agRItMkrvLRMgKj7s2p6CQEfO7ovF4F5pig+bUd4N CgUhO/S6MMchoNr7Q4CwRj8lP0JBnEMdVLwMUDwHzKuP4/XhH6R8MThVhTF3RxouDe50FencI72 EgfVmDKB70Ex6BpR3cVlrdbCu/7NeLKOHjvpqa/CdQl5TNI7b7fkin+psXoqNPEzm18hoM4vFd1 5AOWrLAIdEruXUnK4Is48aCPA815olvyvRQwjKCLI63TfhRRMcNkGYMXYmx6hundC9DpuK4sa2s UVhK67TQ0sDOqQfaMTJvvX25K8JBdKfg= X-Google-Smtp-Source: AGHT+IER//eg2rVVLL0TZhX8uSgQ1eyI3ke3MgJGWpGgKObUSM2Ypxw2ub6T/34NG30v1Ex/0AQNbpq2sNuk X-Received: by 2002:a05:690e:4286:20b0:63f:9c56:96a with SMTP id 956f58d0204a3-640c43088e8mr1294067d50.5.1762482570220; Thu, 06 Nov 2025 18:29:30 -0800 (PST) Received: from postal.iol.unh.edu (postal.iol.unh.edu. [132.177.123.84]) by smtp-relay.gmail.com with ESMTPS id 00721157ae682-787b1d315b0sm2530727b3.17.2025.11.06.18.29.30 (version=TLS1_2 cipher=ECDHE-ECDSA-AES128-GCM-SHA256 bits=128/128); Thu, 06 Nov 2025 18:29:30 -0800 (PST) X-Relaying-Domain: iol.unh.edu Date: Thu, 06 Nov 2025 18:29:30 -0800 (PST) Message-ID: <690d598a.050a0220.2a1384.dbf7SMTPIN_ADDED_MISSING@mx.google.com> Received: from [172.21.0.2] (unknown [172.18.0.240]) by postal.iol.unh.edu (Postfix) with ESMTP id DA0C66051830; Thu, 6 Nov 2025 21:29:29 -0500 (EST) Subject: |SUCCESS| pw158490-158491 [PATCH] [2/2] app/testpmd: fix wrong Rx qu From: dpdklab@iol.unh.edu To: Test Report Cc: dpdk-test-reports@iol.unh.edu, Stephen Hemminger In-Reply-To: <20251106002920.6162-3-fengchengwen@huawei.com> References: <20251106002920.6162-3-fengchengwen@huawei.com> Content-Type: text/plain X-BeenThere: test-report@dpdk.org X-Mailman-Version: 2.1.29 Precedence: list List-Id: automatic DPDK test reports List-Unsubscribe: , List-Archive: List-Post: List-Help: List-Subscribe: , Errors-To: test-report-bounces@dpdk.org Test-Label: iol-unit-amd64-testing Test-Status: SUCCESS http://dpdk.org/patch/158491 _Testing PASS_ Submitter: fengchengwen Date: Thursday, November 06 2025 00:29:20 DPDK git baseline: Repo:dpdk-next-net Branch: master CommitID:591ee7f468aebec30d68d30afa8d5e4dcfc897dc 158490-158491 --> testing pass Upstream job id: Generic-VM-Unit-Test-DPDK#32363 Test environment and result as below: +-------------------------------+----------------+ | Environment | dpdk_unit_test | +===============================+================+ | Fedora Linux 41 | PASS | +-------------------------------+----------------+ | Fedora Linux 40 | PASS | +-------------------------------+----------------+ | CentOS Stream 10 | PASS | +-------------------------------+----------------+ | Ubuntu 22.04 | PASS | +-------------------------------+----------------+ | Fedora Linux 42 | PASS | +-------------------------------+----------------+ | CentOS Stream 9 | PASS | +-------------------------------+----------------+ | Red Hat Enterprise Linux 9.5 | PASS | +-------------------------------+----------------+ | Ubuntu 20.04 | PASS | +-------------------------------+----------------+ | Debian GNU/Linux 12 | PASS | +-------------------------------+----------------+ | Ubuntu 24.04 | PASS | +-------------------------------+----------------+ | Red Hat Enterprise Linux 8.10 | PASS | +-------------------------------+----------------+ | Windows Server 2022 | PASS | +-------------------------------+----------------+ Fedora Linux 41 Kernel: 5.15 Compiler: clang gcc (GCC) 14.3.1 20250523 (Red Hat 14.3.1-1) Fedora Linux 40 Kernel: 5.15 Compiler: gcc gcc (GCC) 14.2.1 20240912 (Red Hat 14.2.1-3) CentOS Stream 10 Kernel: 5.15 Compiler: gcc gcc (GCC) 14.2.1 20250110 (Red Hat 14.2.1-8) Ubuntu 22.04 Kernel: 5.15 Compiler: gcc gcc (Ubuntu 11.4.0-1ubuntu1~22.04) 11.4.0 Fedora Linux 42 Kernel: 5.15 Compiler: clang gcc (GCC) 15.2.1 20250808 (Red Hat 15.2.1-1) CentOS Stream 9 Kernel: 5.15 Compiler: gcc gcc (GCC) 11.5.0 20240719 (Red Hat 11.5.0-11) Red Hat Enterprise Linux 9.5 Kernel: 5.15 Compiler: gcc gcc (GCC) 11.5.0 20240719 (Red Hat 11.5.0-2) Ubuntu 20.04 Kernel: 5.15 Compiler: gcc gcc (Ubuntu 9.4.0-1ubuntu1~20.04.2) 9.4.0 Debian GNU/Linux 12 Kernel: 5.15 Compiler: gcc gcc (Debian 12.2.0-14+deb12u1) 12.2.0 Ubuntu 24.04 Kernel: 5.15 Compiler: gcc gcc (Ubuntu 13.3.0-6ubuntu2~24.04) 13.3.0 Red Hat Enterprise Linux 8.10 Kernel: 5.15 Compiler: gcc gcc (GCC) 8.5.0 20210514 (Red Hat 8.5.0-22) Windows Server 2022 Kernel: 10.0.20348.2031 Compiler: clang 15.0.7, gcc 14.1.0 (MinGW), and MSVC VS 19.39.33521 To view detailed results, visit: https://lab.dpdk.org/results/dashboard/patchsets/34496/ UNH-IOL DPDK Community Lab To manage your email subscriptions, visit: https://lab.dpdk.org/results/dashboard/preferences/subscriptions/