From mboxrd@z Thu Jan 1 00:00:00 1970 Return-Path: Received: from mails.dpdk.org (mails.dpdk.org [217.70.189.124]) by inbox.dpdk.org (Postfix) with ESMTP id 33AEF48A8A for ; Fri, 7 Nov 2025 03:32:16 +0100 (CET) Received: from mails.dpdk.org (localhost [127.0.0.1]) by mails.dpdk.org (Postfix) with ESMTP id 18D614013F; Fri, 7 Nov 2025 03:32:16 +0100 (CET) Received: from mail-io1-f98.google.com (mail-io1-f98.google.com [209.85.166.98]) by mails.dpdk.org (Postfix) with ESMTP id 131A34013F for ; Fri, 7 Nov 2025 03:32:15 +0100 (CET) Received: by mail-io1-f98.google.com with SMTP id ca18e2360f4ac-94880a46f3fso9447839f.2 for ; Thu, 06 Nov 2025 18:32:14 -0800 (PST) DKIM-Signature: v=1; a=rsa-sha256; c=relaxed/relaxed; d=iol.unh.edu; s=unh-iol; t=1762482734; x=1763087534; darn=dpdk.org; h=references:in-reply-to:cc:to:from:subject:message-id:date:from:to :cc:subject:date:message-id:reply-to; bh=Atd1KtESGQ57J8Gw1q7i+idks4q4oADLelsDWohCMlE=; b=I5tET9kBHrp71vUVHSmDb3JGXQ4UBeUEP469MRqtnHIrxsIhIYaQNdh5fHcUeQYbRV uryM9qZyNZuk1deM8uHoJcOyuvliqd8jBZZk7TuZjfNu4zZFVgwZfx20TqXEN/QSUcjb EnfkOCYTCZ+MEDbYvd0k1BwGnlVhMqvFzJa5A= X-Google-DKIM-Signature: v=1; a=rsa-sha256; c=relaxed/relaxed; d=1e100.net; s=20230601; t=1762482734; x=1763087534; h=references:in-reply-to:cc:to:from:subject:message-id:date:x-gm-gg :x-gm-message-state:from:to:cc:subject:date:message-id:reply-to; bh=Atd1KtESGQ57J8Gw1q7i+idks4q4oADLelsDWohCMlE=; b=PfXLZvuOcx4vnt6hgJ+aRXoqgihGiMQq+kp47d1jrE3qENMbObE3LfwTWRJffsqX0q fGd4nmva0RedOM/QOdvCnRasWFWCKt8pJdLsBt++fK+paDUEGfGDXNisZS0o4MYZu/X7 VXitBopYuq2NTIf1lTQX24l9NBQAgHjxLEMpDEekYNUaEDSTJfy2DAj/IbExahXcUS5G 4MJuARzqTY3ccCkneXsbiie9t+hZNnICGCvgb6YM/Jhnm6yBxsQS4aGxAJ0LvAI+yGQW sakPXnxGCM3la97AaPc+KlDzq/fCx1HXorXPcCJkmXO/escRe9YcoIwO1fanswxhOdbI LcFw== X-Gm-Message-State: AOJu0YzbHlWJpwNazy4WdqzI6/mq/iCi2NTEnjzWvkChAK7liu8csU80 I+zz1/kA01ahoRnmq5FwGm4vzJVaIG0ZJT2ULXL+Pe0AyBpF1spnoD9eju/nuL3/wRtfosBUMwm pnUa8bWzYJ+A1uT1ewm6iX8Gjq9qevuhcOAhANVEmCdFozJMmpl0Bf+rBs4Lm X-Gm-Gg: ASbGnct5LGDfYPOWOl9MenTCUgGvxf1QC02S0Ns0Py9NlagT2u/LiVtrPzvDv6/IXIO G3VIjoPxmGbC1W62vsFOARcOTAsWgGT3Yi7/hzl0YMR0kOtCtwkV5XTs5OtXRd2hifwjdAC2HXZ phvtNZ4ZZTnJ5Xrnt+osRRiY+pMGBkWo4kBCaokiJa7OdQy/JPvY1agLShfGNUMG94bTF09LLN8 AJYlBMUBiDtKX9e5Nxt55MHi7N4iH1qJp5ZVExdvIHKIShLejs2vmKxGRmY1PShuudc5oZzZrIN RwN1O0R9eDD0jxCndUq0JCXgE2e/IgRUMMtkZzbyV9Vwpy7yB8J7plhEOXWGk4MlMc3VSDZbynB KrxhctMwo X-Google-Smtp-Source: AGHT+IFMJ43b8yu/HY6L7ckWfxeAjuvGzQtKI+4o+pfZGKPN5bYiKwbNLMdzyiRiIsyxZjB6tA+k829ekoz5 X-Received: by 2002:a05:6e02:318e:b0:433:2844:111e with SMTP id e9e14a558f8ab-4335f3fd53amr30232505ab.14.1762482734302; Thu, 06 Nov 2025 18:32:14 -0800 (PST) Received: from postal.iol.unh.edu (postal.iol.unh.edu. [2606:4100:3880:1234::84]) by smtp-relay.gmail.com with ESMTPS id e9e14a558f8ab-4334f4571eesm3134215ab.12.2025.11.06.18.32.14 (version=TLS1_2 cipher=ECDHE-ECDSA-AES128-GCM-SHA256 bits=128/128); Thu, 06 Nov 2025 18:32:14 -0800 (PST) X-Relaying-Domain: iol.unh.edu Date: Thu, 06 Nov 2025 18:32:14 -0800 (PST) Message-ID: <690d5a2e.050a0220.1484f6.08feSMTPIN_ADDED_MISSING@mx.google.com> Received: from [172.21.0.2] (unknown [172.18.0.240]) by postal.iol.unh.edu (Postfix) with ESMTP id C9AAE6051830; Thu, 6 Nov 2025 21:32:13 -0500 (EST) Subject: |SUCCESS| pw158483 [PATCH] [v2] dts: testpmd link check on port star From: dpdklab@iol.unh.edu To: Test Report Cc: dpdk-test-reports@iol.unh.edu In-Reply-To: <20251105194925.1507334-1-probb@iol.unh.edu> References: <20251105194925.1507334-1-probb@iol.unh.edu> Content-Type: text/plain X-BeenThere: test-report@dpdk.org X-Mailman-Version: 2.1.29 Precedence: list List-Id: automatic DPDK test reports List-Unsubscribe: , List-Archive: List-Post: List-Help: List-Subscribe: , Errors-To: test-report-bounces@dpdk.org Test-Label: iol-unit-amd64-testing Test-Status: SUCCESS http://dpdk.org/patch/158483 _Testing PASS_ Submitter: Patrick Robb Date: Wednesday, November 05 2025 19:49:25 DPDK git baseline: Repo:dpdk-next-dts Branch: master CommitID:4f35a61a6a5a31f822c3d7519e8a1de1b7cbd9c4 158483 --> testing pass Upstream job id: Generic-Unit-Test-DPDK#389740 Test environment and result as below: +-------------------------------+----------------+ | Environment | dpdk_unit_test | +===============================+================+ | CentOS Stream 10 | PASS | +-------------------------------+----------------+ | Fedora Linux 41 | PASS | +-------------------------------+----------------+ | CentOS Stream 9 | PASS | +-------------------------------+----------------+ | Debian GNU/Linux 12 | PASS | +-------------------------------+----------------+ | Fedora Linux 42 | PASS | +-------------------------------+----------------+ | Fedora Linux 40 | PASS | +-------------------------------+----------------+ | Red Hat Enterprise Linux 9.5 | PASS | +-------------------------------+----------------+ | Ubuntu 20.04 | PASS | +-------------------------------+----------------+ | Red Hat Enterprise Linux 8.10 | PASS | +-------------------------------+----------------+ | Ubuntu 24.04 | PASS | +-------------------------------+----------------+ | Ubuntu 22.04 | PASS | +-------------------------------+----------------+ CentOS Stream 10 Kernel: 5.15 Compiler: gcc gcc (GCC) 14.2.1 20250110 (Red Hat 14.2.1-8) Fedora Linux 41 Kernel: 5.15 Compiler: clang gcc (GCC) 14.3.1 20250523 (Red Hat 14.3.1-1) CentOS Stream 9 Kernel: 5.15 Compiler: gcc gcc (GCC) 11.5.0 20240719 (Red Hat 11.5.0-11) Debian GNU/Linux 12 Kernel: 5.15 Compiler: gcc gcc (Debian 12.2.0-14+deb12u1) 12.2.0 Fedora Linux 42 Kernel: 5.15 Compiler: gcc gcc (GCC) 15.2.1 20250808 (Red Hat 15.2.1-1) Fedora Linux 40 Kernel: 5.15 Compiler: gcc gcc (GCC) 14.2.1 20240912 (Red Hat 14.2.1-3) Red Hat Enterprise Linux 9.5 Kernel: 5.15 Compiler: gcc gcc (GCC) 11.5.0 20240719 (Red Hat 11.5.0-2) Ubuntu 20.04 Kernel: 5.15 Compiler: gcc gcc (Ubuntu 9.4.0-1ubuntu1~20.04.2) 9.4.0 Red Hat Enterprise Linux 8.10 Kernel: 5.15 Compiler: gcc gcc (GCC) 8.5.0 20210514 (Red Hat 8.5.0-22) Ubuntu 24.04 Kernel: 5.15 Compiler: gcc gcc (Ubuntu 13.3.0-6ubuntu2~24.04) 13.3.0 Ubuntu 22.04 Kernel: 5.15 Compiler: gcc gcc (Ubuntu 11.4.0-1ubuntu1~22.04) 11.4.0 To view detailed results, visit: https://lab.dpdk.org/results/dashboard/patchsets/34500/ UNH-IOL DPDK Community Lab To manage your email subscriptions, visit: https://lab.dpdk.org/results/dashboard/preferences/subscriptions/