From mboxrd@z Thu Jan 1 00:00:00 1970 Return-Path: Received: from mails.dpdk.org (mails.dpdk.org [217.70.189.124]) by inbox.dpdk.org (Postfix) with ESMTP id 4F5DA48A8A for ; Fri, 7 Nov 2025 03:56:51 +0100 (CET) Received: from mails.dpdk.org (localhost [127.0.0.1]) by mails.dpdk.org (Postfix) with ESMTP id 1D22B4013F; Fri, 7 Nov 2025 03:56:51 +0100 (CET) Received: from mail-io1-f98.google.com (mail-io1-f98.google.com [209.85.166.98]) by mails.dpdk.org (Postfix) with ESMTP id CB4744013F for ; Fri, 7 Nov 2025 03:56:49 +0100 (CET) Received: by mail-io1-f98.google.com with SMTP id ca18e2360f4ac-9486b567baaso27090939f.0 for ; Thu, 06 Nov 2025 18:56:49 -0800 (PST) DKIM-Signature: v=1; a=rsa-sha256; c=relaxed/relaxed; d=iol.unh.edu; s=unh-iol; t=1762484209; x=1763089009; darn=dpdk.org; h=references:in-reply-to:cc:to:from:subject:message-id:date:from:to :cc:subject:date:message-id:reply-to; bh=2lMLTuKr/A2T1yx8T+/T9EqrX6SJw45xzdBLTcUfwpI=; b=HGKuynUbjUbaCJX5t3F1BA4vcbHe9NNt4rgfG2nAnRT6J0+SD5eQY2IVXb/Sj8xLVD 3b+RcKG5IDMg2vQvc7ZdQQdcX9+OcU3iK5s0cPwj7dQbb0zjy6i74J/7iHuMAA98dC5Y uG7m4jBJj+sYcvneZimvvU+Ym4Bkf7bruQwH0= X-Google-DKIM-Signature: v=1; a=rsa-sha256; c=relaxed/relaxed; d=1e100.net; s=20230601; t=1762484209; x=1763089009; h=references:in-reply-to:cc:to:from:subject:message-id:date:x-gm-gg :x-gm-message-state:from:to:cc:subject:date:message-id:reply-to; bh=2lMLTuKr/A2T1yx8T+/T9EqrX6SJw45xzdBLTcUfwpI=; b=D/dzCFMjDh1SaiK576eQWG7NJsEU7ma7d0S/RvEdlPwufeOqofLdBSXPMa5zSxtAP7 7rX9c22kE0jPIIx803gUGuEC4bGn3SqfPo6pRpq1axOuvGD+2Y0MnNtcspDh1CSHsk1c PRrE7hwZ2vIwUyuUD4Pdbwvn4yXq+6am0Om75boaKnOHGfFVjgMs+f4R9khLD54fciO7 8rY24Pu079wvTq031C21RnsTdh3MHlZZBufVDqFbiXsarcXulbRG9PqEm7ou1KTP7wjX nx0gSTrAdd8p7ZsuNPuN0BQOT228wO9PDa120ryv+6NHhWby9Ts9WCMk4+oCQtLqy1ae h2qA== X-Gm-Message-State: AOJu0YzQP8LzqTVEDLGPYrDAUYh/UnjCwuiQCsvdaIwAKHb9epT9DCJl bG2yV7QfzETSQWdzqy+Cee3lPOaHuY/l1yzB4uTF/i9GoqW7QwGlyqaabn7Liht01dfBd2Qu+zJ lx3sBN32yfYMRwpmEsfPksUk7hggLo2B5LhSAl/Abn8c4qtFpUNnR/G+gB2xa X-Gm-Gg: ASbGncvaSYRFMptRrjV24HUbcZ5JGtqS85fEfLXS7arIXgnRTyUBnaQhxZlwHGS59re RdEBNgopT0M6ro3ZvxGcofY9A2i7aymkxBsXjFlw1Zt/IAA/giVlO6fwe/sP+RBud8qPKfVWWbZ IZy59TWxmiqQWUuwr/rrujgFTZFK3NAEjx1mbGrif1ILMX4A2epiZcsCwaDtBe2le2wWUvJ2qDe ig0M16jcEYOsyO3TFvchNOSkWnztMWgiHp8lahJP50yVetdnuEsIRGTSUfGgWzv2JtMz6WeF6SV RREipjJeDAQl9MAgZV2n4PyzGfgGv24ox5rxDdZx1sOEv6qJNStzLD8vlKmpAkZvZD7htetd26i Qeutjj0+f X-Google-Smtp-Source: AGHT+IFFE816REkYcFuiI5rXdSt0VCkDMhP/NbeDTTWWwBM1Cf4wpZjSxXJeXV86JHVwfJnuxRB8UKg4Nujn X-Received: by 2002:a5e:c013:0:b0:948:79ed:8248 with SMTP id ca18e2360f4ac-94888e7b7d7mr215494039f.2.1762484209064; Thu, 06 Nov 2025 18:56:49 -0800 (PST) Received: from postal.iol.unh.edu (postal.iol.unh.edu. [2606:4100:3880:1234::84]) by smtp-relay.gmail.com with ESMTPS id ca18e2360f4ac-94888c64c88sm6972239f.14.2025.11.06.18.56.48 (version=TLS1_2 cipher=ECDHE-ECDSA-AES128-GCM-SHA256 bits=128/128); Thu, 06 Nov 2025 18:56:49 -0800 (PST) X-Relaying-Domain: iol.unh.edu Date: Thu, 06 Nov 2025 18:56:49 -0800 (PST) Message-ID: <690d5ff1.050a0220.7f940.3b07SMTPIN_ADDED_MISSING@mx.google.com> Received: from [172.21.0.16] (unknown [172.18.0.240]) by postal.iol.unh.edu (Postfix) with ESMTP id 059E36051830; Thu, 6 Nov 2025 21:56:48 -0500 (EST) Subject: |SUCCESS| pw158496 [PATCH] [v1] net/intel: changes to avoid comma op From: dpdklab@iol.unh.edu To: Test Report Cc: dpdk-test-reports@iol.unh.edu In-Reply-To: <20251106082354.1534181-1-venkatesh.vemula@intel.com> References: <20251106082354.1534181-1-venkatesh.vemula@intel.com> Content-Type: text/plain X-BeenThere: test-report@dpdk.org X-Mailman-Version: 2.1.29 Precedence: list List-Id: automatic DPDK test reports List-Unsubscribe: , List-Archive: List-Post: List-Help: List-Subscribe: , Errors-To: test-report-bounces@dpdk.org Test-Label: iol-compile-arm64-testing Test-Status: SUCCESS http://dpdk.org/patch/158496 _Testing PASS_ Submitter: Venkatesh Vemula Date: Thursday, November 06 2025 08:23:54 DPDK git baseline: Repo:dpdk Branch: master CommitID:87f7895e470c13e13efd6762d701139d0987294a 158496 --> testing pass Upstream job id: Generic-DPDK-Compile-Meson#441651 Test environment and result as below: +------------------------------+--------------------+ | Environment | dpdk_meson_compile | +==============================+====================+ | Red Hat Enterprise Linux 9.5 | PASS | +------------------------------+--------------------+ | Ubuntu 20.04 | PASS | +------------------------------+--------------------+ | Debian GNU/Linux 12 | PASS | +------------------------------+--------------------+ | Fedora Linux 42 | PASS | +------------------------------+--------------------+ | Ubuntu 22.04 | PASS | +------------------------------+--------------------+ | CentOS Stream 9 | PASS | +------------------------------+--------------------+ | Ubuntu 24.04 | PASS | +------------------------------+--------------------+ | CentOS Stream 10 | PASS | +------------------------------+--------------------+ Red Hat Enterprise Linux 9.5 Kernel: 5.4 Compiler: gcc gcc (GCC) 11.5.0 20240719 (Red Hat 11.5.0-2) Ubuntu 20.04 Kernel: 5.15 Compiler: aarch64-linux-gnu-gcc gcc (Ubuntu 9.4.0-1ubuntu1~20.04.2) 9.4.0 Debian GNU/Linux 12 Kernel: 5.4 Compiler: gcc gcc (Debian 12.2.0-14+deb12u1) 12.2.0 Fedora Linux 42 Kernel: 5.4 Compiler: clang gcc (GCC) 15.2.1 20250808 (Red Hat 15.2.1-1) Ubuntu 22.04 Kernel: 5.4 Compiler: gcc gcc (Ubuntu 11.4.0-1ubuntu1~22.04) 11.4.0 CentOS Stream 9 Kernel: 5.4 Compiler: gcc gcc (GCC) 11.5.0 20240719 (Red Hat 11.5.0-11) Ubuntu 24.04 Kernel: 5.4 Compiler: gcc gcc (Ubuntu 13.3.0-6ubuntu2~24.04) 13.3.0 CentOS Stream 10 Kernel: 5.4 Compiler: gcc gcc (GCC) 14.2.1 20250110 (Red Hat 14.2.1-8) To view detailed results, visit: https://lab.dpdk.org/results/dashboard/patchsets/34493/ UNH-IOL DPDK Community Lab To manage your email subscriptions, visit: https://lab.dpdk.org/results/dashboard/preferences/subscriptions/