From mboxrd@z Thu Jan 1 00:00:00 1970 Return-Path: Received: from mails.dpdk.org (mails.dpdk.org [217.70.189.124]) by inbox.dpdk.org (Postfix) with ESMTP id 67EF548A8A for ; Fri, 7 Nov 2025 03:58:17 +0100 (CET) Received: from mails.dpdk.org (localhost [127.0.0.1]) by mails.dpdk.org (Postfix) with ESMTP id 62BBD4013F; Fri, 7 Nov 2025 03:58:17 +0100 (CET) Received: from mail-pl1-f228.google.com (mail-pl1-f228.google.com [209.85.214.228]) by mails.dpdk.org (Postfix) with ESMTP id 329564013F for ; Fri, 7 Nov 2025 03:58:16 +0100 (CET) Received: by mail-pl1-f228.google.com with SMTP id d9443c01a7336-2951a817541so3230155ad.2 for ; Thu, 06 Nov 2025 18:58:16 -0800 (PST) DKIM-Signature: v=1; a=rsa-sha256; c=relaxed/relaxed; d=iol.unh.edu; s=unh-iol; t=1762484295; x=1763089095; darn=dpdk.org; h=references:in-reply-to:cc:to:from:subject:message-id:date:from:to :cc:subject:date:message-id:reply-to; bh=gVN97EcHvg+bG8xL3dXWRFvNyS8iIWuh1WtRfYz15yY=; b=aImZe1GjDqgW6cuigD78uspCmYb2ZsiRAB74HzL5wZfDoJO45b33b2dNmFe4oPpx4Z DOkuOwyjRIElwTVTXhTAUSpF1I8EaehwfTkHN0noqFm192bYwob+EtYaeg72FmBbDYP9 sXiYUt/WqGl7cQTHn8ri9trBpDUeSCUAeQPCo= X-Google-DKIM-Signature: v=1; a=rsa-sha256; c=relaxed/relaxed; d=1e100.net; s=20230601; t=1762484295; x=1763089095; h=references:in-reply-to:cc:to:from:subject:message-id:date:x-gm-gg :x-gm-message-state:from:to:cc:subject:date:message-id:reply-to; bh=gVN97EcHvg+bG8xL3dXWRFvNyS8iIWuh1WtRfYz15yY=; b=l+TGFHWPX1KoGqbErRLrH4LngKlB4U2e6tpBjZQzOahTrEY1pmV9X04TwEd0sx5/ME Pj4w4cpSLy2Whxxj4n9aFxQRDdSxJtV/WfF0oz8SNA8WIBYViM40KwVW2HWDW+BBcLc+ sqNuL5/+09cKfOvrgdFs0NmPtojifex6wmWX0UbA0nHEUPS2ZOdU8A7oLtcC6OtqtMmw 9VwzNFKAlqTheX86e4EmSlCtuzMaqPELTt+fOLcNORpfO3PmqEPUXSXPPDbz4/r9r03Y upHncmsyJZVos+3MfVMMc0oCE2jOPDaMPbc8XVFwiPIWj7NnNloKQeDMYXWNqgxFvM8P fQtQ== X-Gm-Message-State: AOJu0YyUgYMMjk5rskVnZQSzmqfyD4ovsu0PQWgXevx8oBmrLl8fu/5O t7EUJAKy6rPqC/XEpAJ/VbM6VsEjWmrpgnOcgEkAW3uaC68gwRve29hxuULPBx8bgM/vOMHQoRF 7z7eSfmcplvjj2PTzWyca+jfuLDnUcs4z1M0BNbC7WdET X-Gm-Gg: ASbGncvIhruVcvJki1LqwtwW9qTFfpbWYbn7clGKaLvmuB7qlyuGtUsRUrE6kRz8XYi db2mZSgAcsR+ef2U7Llm7gow7qO6jWVAWs1+DOTfpQ6ngRE60Y2QN3OB3a/AmGkggaDlPweho6y tHZH7GzRE3yulHCumXu6q4nGGtImzi72/cuxjoJ9At+7Mi5g8tf0e+y0OXuuzG9de/SmFaMxUQC tTT2dSAw9LJrIvyDqFyaA5dUllo75P4IimouLEdLWOjp8XRBfA4nWAv7CFZCCBo1W9KL0b6TSvT dj6fQ41A6bMJyOPz3/CtEM1FHC0j+T5EeEKKVFH3TL6nTTYpBpMhIcgVLEYOZpABCUILB7idfLW +9hiCLho0uhXfXZkrdVXnMw/ya8zGP6s= X-Google-Smtp-Source: AGHT+IFi/Si72PMaOwrQgqaD2Xeqgi8rizFg8MyEuTb90wyu0uWw+YyE4pXjOslIJ/PAWkEnacHNRm81+lIA X-Received: by 2002:a17:903:8c7:b0:258:f033:3ff9 with SMTP id d9443c01a7336-297c0475549mr22552025ad.48.1762484295301; Thu, 06 Nov 2025 18:58:15 -0800 (PST) Received: from postal.iol.unh.edu (postal.iol.unh.edu. [132.177.123.84]) by smtp-relay.gmail.com with ESMTPS id d9443c01a7336-29650c5fdc1sm3663995ad.14.2025.11.06.18.58.15 (version=TLS1_2 cipher=ECDHE-ECDSA-AES128-GCM-SHA256 bits=128/128); Thu, 06 Nov 2025 18:58:15 -0800 (PST) X-Relaying-Domain: iol.unh.edu Date: Thu, 06 Nov 2025 18:58:15 -0800 (PST) Message-ID: <690d6047.170a0220.68616.3dcfSMTPIN_ADDED_MISSING@mx.google.com> Received: from [172.21.0.4] (unknown [172.18.0.240]) by postal.iol.unh.edu (Postfix) with ESMTP id 4F7BD6051830; Thu, 6 Nov 2025 21:58:14 -0500 (EST) Subject: |SUCCESS| pw158487-158489 [PATCH] [v6,3/3] dts: add performance test From: dpdklab@iol.unh.edu To: Test Report Cc: dpdk-test-reports@iol.unh.edu In-Reply-To: <20251105223628.1659390-4-probb@iol.unh.edu> References: <20251105223628.1659390-4-probb@iol.unh.edu> Content-Type: text/plain X-BeenThere: test-report@dpdk.org X-Mailman-Version: 2.1.29 Precedence: list List-Id: automatic DPDK test reports List-Unsubscribe: , List-Archive: List-Post: List-Help: List-Subscribe: , Errors-To: test-report-bounces@dpdk.org Test-Label: iol-compile-amd64-testing Test-Status: SUCCESS http://dpdk.org/patch/158489 _Testing PASS_ Submitter: Patrick Robb Date: Wednesday, November 05 2025 22:36:28 DPDK git baseline: Repo:dpdk-next-dts Branch: master CommitID:4f35a61a6a5a31f822c3d7519e8a1de1b7cbd9c4 158487-158489 --> testing pass Upstream job id: Windows-Compile-DPDK-VS#7457 Test environment and result as below: +-------------------------------+--------------------+------------------+-------------------+ | Environment | dpdk_meson_compile | dpdk_compile_ovs | dpdk_msvc_compile | +===============================+====================+==================+===================+ | Ubuntu 20.04 | PASS | SKIPPED | SKIPPED | +-------------------------------+--------------------+------------------+-------------------+ | FreeBSD 14.2 | PASS | SKIPPED | SKIPPED | +-------------------------------+--------------------+------------------+-------------------+ | CentOS Stream 9 | PASS | SKIPPED | SKIPPED | +-------------------------------+--------------------+------------------+-------------------+ | Debian GNU/Linux 12 | PASS | SKIPPED | SKIPPED | +-------------------------------+--------------------+------------------+-------------------+ | CentOS Stream 10 | PASS | SKIPPED | SKIPPED | +-------------------------------+--------------------+------------------+-------------------+ | Fedora Linux 42 | PASS | PASS | SKIPPED | +-------------------------------+--------------------+------------------+-------------------+ | openSUSE Leap 15.6 | PASS | SKIPPED | SKIPPED | +-------------------------------+--------------------+------------------+-------------------+ | Red Hat Enterprise Linux 8.10 | PASS | SKIPPED | SKIPPED | +-------------------------------+--------------------+------------------+-------------------+ | Red Hat Enterprise Linux 9.5 | PASS | SKIPPED | SKIPPED | +-------------------------------+--------------------+------------------+-------------------+ | Ubuntu 22.04 | PASS | SKIPPED | SKIPPED | +-------------------------------+--------------------+------------------+-------------------+ | Ubuntu 24.04 | PASS | PASS | SKIPPED | +-------------------------------+--------------------+------------------+-------------------+ | Alpine Linux 3.22.0 | PASS | SKIPPED | SKIPPED | +-------------------------------+--------------------+------------------+-------------------+ | Windows Server 2022 | SKIPPED | SKIPPED | PASS | +-------------------------------+--------------------+------------------+-------------------+ Ubuntu 20.04 Kernel: 4.19 Compiler: gcc gcc (Ubuntu 9.4.0-1ubuntu1~20.04.2) 9.4.0 FreeBSD 14.2 Kernel: 14.2-RELEASE Compiler: clang 18.1.6 CentOS Stream 9 Kernel: 5.15 Compiler: gcc gcc (GCC) 11.5.0 20240719 (Red Hat 11.5.0-11) Debian GNU/Linux 12 Kernel: 5.15 Compiler: gcc gcc (Debian 12.2.0-14+deb12u1) 12.2.0 CentOS Stream 10 Kernel: 5.15 Compiler: gcc gcc (GCC) 14.2.1 20250110 (Red Hat 14.2.1-8) Fedora Linux 42 Kernel: 5.15 Compiler: clang gcc (GCC) 15.2.1 20250808 (Red Hat 15.2.1-1) openSUSE Leap 15.6 Kernel: 5.15 Compiler: gcc gcc (SUSE Linux) 7.5.0 Red Hat Enterprise Linux 8.10 Kernel: 5.15 Compiler: gcc gcc (GCC) 8.5.0 20210514 (Red Hat 8.5.0-22) Red Hat Enterprise Linux 9.5 Kernel: 5.15 Compiler: gcc gcc (GCC) 11.5.0 20240719 (Red Hat 11.5.0-2) Ubuntu 22.04 Kernel: 5.15 Compiler: gcc gcc (Ubuntu 11.4.0-1ubuntu1~22.04) 11.4.0 Ubuntu 24.04 Kernel: 5.15 Compiler: gcc gcc (Ubuntu 13.3.0-6ubuntu2~24.04) 13.3.0 Alpine Linux 3.22.0 Kernel: 5.15 Compiler: gcc gcc (Alpine 14.2.0) 14.2.0 Windows Server 2022 Kernel: 10.0.20348.2031 Compiler: clang 15.0.7, gcc 14.1.0 (MinGW), and MSVC VS 19.39.33521 To view detailed results, visit: https://lab.dpdk.org/results/dashboard/patchsets/34497/ UNH-IOL DPDK Community Lab To manage your email subscriptions, visit: https://lab.dpdk.org/results/dashboard/preferences/subscriptions/