From mboxrd@z Thu Jan 1 00:00:00 1970 Return-Path: Received: from mails.dpdk.org (mails.dpdk.org [217.70.189.124]) by inbox.dpdk.org (Postfix) with ESMTP id 7BEF348A8A for ; Fri, 7 Nov 2025 03:58:37 +0100 (CET) Received: from mails.dpdk.org (localhost [127.0.0.1]) by mails.dpdk.org (Postfix) with ESMTP id 73DAE4013F; Fri, 7 Nov 2025 03:58:37 +0100 (CET) Received: from mail-pf1-f228.google.com (mail-pf1-f228.google.com [209.85.210.228]) by mails.dpdk.org (Postfix) with ESMTP id 69FA74013F for ; Fri, 7 Nov 2025 03:58:36 +0100 (CET) Received: by mail-pf1-f228.google.com with SMTP id d2e1a72fcca58-7af6a6f20easo266352b3a.0 for ; Thu, 06 Nov 2025 18:58:36 -0800 (PST) DKIM-Signature: v=1; a=rsa-sha256; c=relaxed/relaxed; d=iol.unh.edu; s=unh-iol; t=1762484315; x=1763089115; darn=dpdk.org; h=references:in-reply-to:cc:to:from:subject:message-id:date:from:to :cc:subject:date:message-id:reply-to; bh=eLczmHc8LyDCLaOBfzijLnN7hDw8Rlq7AY1xRevESCc=; b=TciTmwzAKvGi90QZ2VaPYRXOewHgum9SdIFOfYum1z9FAbzN5l7UIUWRYeeulpteUs lychocplo3fpK4W56UQiJ5SKyww8tSO0/IgfU4fYOp5CrrHSeA4XiQDj6Ua2vupoN/Kc HUlX6v6c6Z0IfcQV6430IjiDsSYHMD7Rt11L4= X-Google-DKIM-Signature: v=1; a=rsa-sha256; c=relaxed/relaxed; d=1e100.net; s=20230601; t=1762484315; x=1763089115; h=references:in-reply-to:cc:to:from:subject:message-id:date:x-gm-gg :x-gm-message-state:from:to:cc:subject:date:message-id:reply-to; bh=eLczmHc8LyDCLaOBfzijLnN7hDw8Rlq7AY1xRevESCc=; b=Cpyu2aYpdoqTVj6uBMNUSmyXs04BGNq1P5Jf24PbJYfxNQnhxkhG65eQYqE1u/jmOb cNjOfBChfh4HD4w1wTBm70a3b5Z6V7j3Crml0JVLEnDtIwFuntYzy8C4zCa5VD5SznFc GQX8f+3YdUxYYjJHx2YOp3pvgXDinyJVnvenzv5Zy+uzixWMPHhva453QxEFePBtqPif q+laPlARyJXwtM9D75HnnZ+iqFS7Wemyxb6WEJLx6jqPa1LTzEeTcXfVyNyb4IfO+QFP mJeOerqVaYlmsv56qSnmWVbe5heIlVNf53wXNU292/3mg2ZqORmJ+ru/vPkAI9ycGpTP A3MA== X-Gm-Message-State: AOJu0Yw19QWozZu3zPCOMWB2W9GyOylm4PC28MIQR73+2tnkpZUHTEqi hGt5+avuc6S3H1DtvdxSZFm2BVN+4povUVO9phqh+IFMXWGXmGY/nx332v81kkRuJt1BUze9PMC YF5bn9aPq7oAu1iJ/pDY4Kzgs5YMRHNBFwdhz6KFr2Niv X-Gm-Gg: ASbGncvJBE9eoLXCSTz9e4aMyL68rJHJVPyjdufzU6X8A0NCbCrhTpUqTE3tGpI1sKV 0639tHxiorVUhrP2p8mFFbS7JgjJ1ZU6ME760hoD5wl5RmtzOnsNcwcxUOlBVkAlFyI/ir2UmCP 8elS9h8Q39enFYoGP9FKxZ39HmBIiCcqwP8OE033Hd6CZYB2jdtvD2rYZBICz7ERhE3aM/KJRp4 ASZb0RU1dGdGMm8POe94kep0flDzOmDljLYw6FTpykO9HJjtSrzDvOBhF143wwilHQks0f1MJkf hYWxnk/8k4/LglqmK6ICL20/cFKG/4cIHrnOwxQV0Cb4R+4W/viTREfN5vYSuohxKs+8ydmsQEN o2BvUj1GR9MsC7cqMdrSidkQ9kPCTjXs= X-Google-Smtp-Source: AGHT+IEmc4Bzg3t2P9wbQJbPeYz90GOJg8hICQGd1IyTK9dV0lUgVqwnxQlxkqaL0b/BZ7JyewyBab8SpMAb X-Received: by 2002:a05:6a21:33a5:b0:351:95e6:e216 with SMTP id adf61e73a8af0-3522ad771d0mr2586284637.51.1762484315502; Thu, 06 Nov 2025 18:58:35 -0800 (PST) Received: from postal.iol.unh.edu (postal.iol.unh.edu. [132.177.123.84]) by smtp-relay.gmail.com with ESMTPS id d2e1a72fcca58-7b0c953e6adsm124915b3a.2.2025.11.06.18.58.35 (version=TLS1_2 cipher=ECDHE-ECDSA-AES128-GCM-SHA256 bits=128/128); Thu, 06 Nov 2025 18:58:35 -0800 (PST) X-Relaying-Domain: iol.unh.edu Date: Thu, 06 Nov 2025 18:58:35 -0800 (PST) Message-ID: <690d605b.050a0220.2ce0d8.696fSMTPIN_ADDED_MISSING@mx.google.com> Received: from [172.21.0.2] (unknown [172.18.0.240]) by postal.iol.unh.edu (Postfix) with ESMTP id 586146051830; Thu, 6 Nov 2025 21:58:34 -0500 (EST) Subject: |SUCCESS| pw158492 [PATCH] [v2] check-spdk: check that tag is on fir From: dpdklab@iol.unh.edu To: Test Report Cc: dpdk-test-reports@iol.unh.edu In-Reply-To: <20251106012200.921242-1-stephen@networkplumber.org> References: <20251106012200.921242-1-stephen@networkplumber.org> Content-Type: text/plain X-BeenThere: test-report@dpdk.org X-Mailman-Version: 2.1.29 Precedence: list List-Id: automatic DPDK test reports List-Unsubscribe: , List-Archive: List-Post: List-Help: List-Subscribe: , Errors-To: test-report-bounces@dpdk.org Test-Label: iol-compile-amd64-testing Test-Status: SUCCESS http://dpdk.org/patch/158492 _Testing PASS_ Submitter: Stephen Hemminger Date: Thursday, November 06 2025 01:22:00 DPDK git baseline: Repo:dpdk Branch: master CommitID:87f7895e470c13e13efd6762d701139d0987294a 158492 --> testing pass Upstream job id: Windows-Compile-DPDK-Native#32188 Test environment and result as below: +-------------------------------+--------------------+------------------+-------------------+-------------------------+----------------------+ | Environment | dpdk_meson_compile | dpdk_compile_ovs | dpdk_msvc_compile | dpdk_llvm_clang_compile | dpdk_mingw64_compile | +===============================+====================+==================+===================+=========================+======================+ | Ubuntu 20.04 | PASS | SKIPPED | SKIPPED | SKIPPED | SKIPPED | +-------------------------------+--------------------+------------------+-------------------+-------------------------+----------------------+ | FreeBSD 14.2 | PASS | SKIPPED | SKIPPED | SKIPPED | SKIPPED | +-------------------------------+--------------------+------------------+-------------------+-------------------------+----------------------+ | CentOS Stream 9 | PASS | SKIPPED | SKIPPED | SKIPPED | SKIPPED | +-------------------------------+--------------------+------------------+-------------------+-------------------------+----------------------+ | Fedora Linux 42 | PASS | PASS | SKIPPED | SKIPPED | SKIPPED | +-------------------------------+--------------------+------------------+-------------------+-------------------------+----------------------+ | CentOS Stream 10 | PASS | SKIPPED | SKIPPED | SKIPPED | SKIPPED | +-------------------------------+--------------------+------------------+-------------------+-------------------------+----------------------+ | Debian GNU/Linux 12 | PASS | SKIPPED | SKIPPED | SKIPPED | SKIPPED | +-------------------------------+--------------------+------------------+-------------------+-------------------------+----------------------+ | Ubuntu 24.04 | PASS | PASS | SKIPPED | SKIPPED | SKIPPED | +-------------------------------+--------------------+------------------+-------------------+-------------------------+----------------------+ | Red Hat Enterprise Linux 8.10 | PASS | SKIPPED | SKIPPED | SKIPPED | SKIPPED | +-------------------------------+--------------------+------------------+-------------------+-------------------------+----------------------+ | Red Hat Enterprise Linux 9.5 | PASS | SKIPPED | SKIPPED | SKIPPED | SKIPPED | +-------------------------------+--------------------+------------------+-------------------+-------------------------+----------------------+ | openSUSE Leap 15.6 | PASS | SKIPPED | SKIPPED | SKIPPED | SKIPPED | +-------------------------------+--------------------+------------------+-------------------+-------------------------+----------------------+ | Alpine Linux 3.22.0 | PASS | SKIPPED | SKIPPED | SKIPPED | SKIPPED | +-------------------------------+--------------------+------------------+-------------------+-------------------------+----------------------+ | Ubuntu 22.04 | PASS | SKIPPED | SKIPPED | SKIPPED | SKIPPED | +-------------------------------+--------------------+------------------+-------------------+-------------------------+----------------------+ | Windows Server 2022 | SKIPPED | SKIPPED | PASS | PASS | PASS | +-------------------------------+--------------------+------------------+-------------------+-------------------------+----------------------+ Ubuntu 20.04 Kernel: 4.19 Compiler: gcc gcc (Ubuntu 9.4.0-1ubuntu1~20.04.2) 9.4.0 FreeBSD 14.2 Kernel: 14.2-RELEASE Compiler: clang 18.1.6 CentOS Stream 9 Kernel: 5.15 Compiler: gcc gcc (GCC) 11.5.0 20240719 (Red Hat 11.5.0-11) Fedora Linux 42 Kernel: 5.15 Compiler: clang gcc (GCC) 15.2.1 20250808 (Red Hat 15.2.1-1) CentOS Stream 10 Kernel: 5.15 Compiler: gcc gcc (GCC) 14.2.1 20250110 (Red Hat 14.2.1-8) Debian GNU/Linux 12 Kernel: 5.15 Compiler: gcc gcc (Debian 12.2.0-14+deb12u1) 12.2.0 Ubuntu 24.04 Kernel: 5.15 Compiler: gcc gcc (Ubuntu 13.3.0-6ubuntu2~24.04) 13.3.0 Red Hat Enterprise Linux 8.10 Kernel: 5.15 Compiler: gcc gcc (GCC) 8.5.0 20210514 (Red Hat 8.5.0-22) Red Hat Enterprise Linux 9.5 Kernel: 5.15 Compiler: gcc gcc (GCC) 11.5.0 20240719 (Red Hat 11.5.0-2) openSUSE Leap 15.6 Kernel: 5.15 Compiler: gcc gcc (SUSE Linux) 7.5.0 Alpine Linux 3.22.0 Kernel: 5.15 Compiler: gcc gcc (Alpine 14.2.0) 14.2.0 Ubuntu 22.04 Kernel: 5.15 Compiler: gcc gcc (Ubuntu 11.4.0-1ubuntu1~22.04) 11.4.0 Windows Server 2022 Kernel: 10.0.20348.2031 Compiler: clang 15.0.7, gcc 14.1.0 (MinGW), and MSVC VS 19.39.33521 To view detailed results, visit: https://lab.dpdk.org/results/dashboard/patchsets/34495/ UNH-IOL DPDK Community Lab To manage your email subscriptions, visit: https://lab.dpdk.org/results/dashboard/preferences/subscriptions/