From mboxrd@z Thu Jan 1 00:00:00 1970 Return-Path: Received: from mails.dpdk.org (mails.dpdk.org [217.70.189.124]) by inbox.dpdk.org (Postfix) with ESMTP id ECC8248A8C for ; Fri, 7 Nov 2025 04:05:37 +0100 (CET) Received: from mails.dpdk.org (localhost [127.0.0.1]) by mails.dpdk.org (Postfix) with ESMTP id E348F4013F; Fri, 7 Nov 2025 04:05:37 +0100 (CET) Received: from mail-oa1-f100.google.com (mail-oa1-f100.google.com [209.85.160.100]) by mails.dpdk.org (Postfix) with ESMTP id 8AB994013F for ; Fri, 7 Nov 2025 04:05:36 +0100 (CET) Received: by mail-oa1-f100.google.com with SMTP id 586e51a60fabf-3c9975a3d6eso119126fac.2 for ; Thu, 06 Nov 2025 19:05:36 -0800 (PST) DKIM-Signature: v=1; a=rsa-sha256; c=relaxed/relaxed; d=iol.unh.edu; s=unh-iol; t=1762484736; x=1763089536; darn=dpdk.org; h=references:in-reply-to:cc:to:from:subject:message-id:date:from:to :cc:subject:date:message-id:reply-to; bh=tlRptcj9W52k3V2oXNdGKL1MGbtYNf77/Sr+m9W3QOs=; b=MGOC0Ns/r4hZs83I4iFYla2oS/oitI6ScmGNffb2dn4+DQNSP/SmCWVuMXK7wEJ4uv 5qTrTm7gMrJop3GE3vG3xdknXQprUkNldoBDKaDeKG0gSq45/6Lj/+KQrwyA6qAULjh8 D07Ff9HPVsiFqcjEw4vBE964/yQazfFze+wDo= X-Google-DKIM-Signature: v=1; a=rsa-sha256; c=relaxed/relaxed; d=1e100.net; s=20230601; t=1762484736; x=1763089536; h=references:in-reply-to:cc:to:from:subject:message-id:date:x-gm-gg :x-gm-message-state:from:to:cc:subject:date:message-id:reply-to; bh=tlRptcj9W52k3V2oXNdGKL1MGbtYNf77/Sr+m9W3QOs=; b=Uz4kAhGUwsVlcNfXcQu15DKPpAFLp+RhzAbNQJpsmIdBC0K1tjQLB1zQw7H8jsGZD4 c7c/KkXFxqm2i4R45quyEk/HiPhQynz8xxZDDjiyxinsjXsX9/GEVX4zbrrKKgWwQ63j I096Jikp5vO//+wbuZH17NGs+tmuQWSWsb8ut8zjZL2zyHOESZ8fPtIdnL1HcD3pkAMJ Jh6SWUoDtOBg1+09ZH1zuwCzsVMaTjQrDFfs5fTy09a7NyMIBKpC1/N+I0FwSJrNl2gT hC5cUDqXIk+GAVhepRwM4P948qyA3zLOoo6CR0Ur264kN0P59AQ38IwN8O3DMTkERi+m Nw9Q== X-Gm-Message-State: AOJu0Yw2NbiHs3yD2nfV9JdHQWNcgdZbptc6rMqYlpIhAJeGVQBuJJbp iuKW3v28bXsRu6pVH228J2qU0ZU5zX01/idNrrhkt3kwOsyiiG7uccq68Cmyi7fXELPvKFQgzvg FzmXRvkkDT5HYMxyXtPKZL+vCAX3PV9uep6MG+ypHg/kYCshmD3RAi7x3FwJD X-Gm-Gg: ASbGncvtb7WW4C4SQRiQv31j7H9BESIdkPDu+weCqQXNN20lFbMKNUqwy7FeQvtQ9G5 90eqVaJx7rBTBEEOscotnuetn9Eh0UqBDGDAteUWr9LiNsiaq6fCi7v7pIXoOXxah3vyF0RKORX m+V0DcL8XNjVwUS210lyZjbRjgCUnzakZ681KhvTbYDc0lRbcoY60lJ4NFKc4jb32WzFftQXB0P iHPNSJjlixRyqmC3vir2xd/zUHMDvGqAxJC/vs7CVAWJkYjXrJnobwYWhNQkl4emFSQXQO7o5Wc vj1meNK11ZiuNa3MAg0xOKmlpr3y5dRww/5Q7c9awXP8pT2zBQSLxWNKdNEeh5fm//ckB4hBKX8 TM/ze2fL8 X-Google-Smtp-Source: AGHT+IEizwGdNRQ1/1A+bw4A31blxkbbQzHwtDKEdkCNXIoYM+zw7ZeTDBHxyhWuu33LAW9qUoDnse9+50RN X-Received: by 2002:a05:6870:8136:b0:3e1:45a5:d04 with SMTP id 586e51a60fabf-3e41e6805femr1246694fac.47.1762484735731; Thu, 06 Nov 2025 19:05:35 -0800 (PST) Received: from postal.iol.unh.edu (postal.iol.unh.edu. [2606:4100:3880:1234::84]) by smtp-relay.gmail.com with ESMTPS id 586e51a60fabf-3e41f1d2ea8sm114427fac.13.2025.11.06.19.05.35 (version=TLS1_2 cipher=ECDHE-ECDSA-AES128-GCM-SHA256 bits=128/128); Thu, 06 Nov 2025 19:05:35 -0800 (PST) X-Relaying-Domain: iol.unh.edu Date: Thu, 06 Nov 2025 19:05:35 -0800 (PST) Message-ID: <690d61ff.050a0220.1e1639.62e2SMTPIN_ADDED_MISSING@mx.google.com> Received: from [172.21.0.2] (unknown [172.18.0.240]) by postal.iol.unh.edu (Postfix) with ESMTP id 3CA736051830; Thu, 6 Nov 2025 22:05:35 -0500 (EST) Subject: |SUCCESS| pw158487-158489 [PATCH] [v6,3/3] dts: add performance test From: dpdklab@iol.unh.edu To: Test Report Cc: dpdk-test-reports@iol.unh.edu In-Reply-To: <20251105223628.1659390-4-probb@iol.unh.edu> References: <20251105223628.1659390-4-probb@iol.unh.edu> Content-Type: text/plain X-BeenThere: test-report@dpdk.org X-Mailman-Version: 2.1.29 Precedence: list List-Id: automatic DPDK test reports List-Unsubscribe: , List-Archive: List-Post: List-Help: List-Subscribe: , Errors-To: test-report-bounces@dpdk.org Test-Label: iol-unit-amd64-testing Test-Status: SUCCESS http://dpdk.org/patch/158489 _Testing PASS_ Submitter: Patrick Robb Date: Wednesday, November 05 2025 22:36:28 DPDK git baseline: Repo:dpdk-next-dts Branch: master CommitID:4f35a61a6a5a31f822c3d7519e8a1de1b7cbd9c4 158487-158489 --> testing pass Upstream job id: Generic-VM-Unit-Test-DPDK#32365 Test environment and result as below: +-------------------------------+----------------+ | Environment | dpdk_unit_test | +===============================+================+ | CentOS Stream 9 | PASS | +-------------------------------+----------------+ | CentOS Stream 10 | PASS | +-------------------------------+----------------+ | Fedora Linux 40 | PASS | +-------------------------------+----------------+ | Debian GNU/Linux 12 | PASS | +-------------------------------+----------------+ | Fedora Linux 41 | PASS | +-------------------------------+----------------+ | Fedora Linux 42 | PASS | +-------------------------------+----------------+ | Red Hat Enterprise Linux 8.10 | PASS | +-------------------------------+----------------+ | Red Hat Enterprise Linux 9.5 | PASS | +-------------------------------+----------------+ | Ubuntu 22.04 | PASS | +-------------------------------+----------------+ | Ubuntu 20.04 | PASS | +-------------------------------+----------------+ | Ubuntu 24.04 | PASS | +-------------------------------+----------------+ | Windows Server 2022 | PASS | +-------------------------------+----------------+ CentOS Stream 9 Kernel: 5.15 Compiler: gcc gcc (GCC) 11.5.0 20240719 (Red Hat 11.5.0-11) CentOS Stream 10 Kernel: 5.15 Compiler: gcc gcc (GCC) 14.2.1 20250110 (Red Hat 14.2.1-8) Fedora Linux 40 Kernel: 5.15 Compiler: gcc gcc (GCC) 14.2.1 20240912 (Red Hat 14.2.1-3) Debian GNU/Linux 12 Kernel: 5.15 Compiler: gcc gcc (Debian 12.2.0-14+deb12u1) 12.2.0 Fedora Linux 41 Kernel: 5.15 Compiler: clang gcc (GCC) 14.3.1 20250523 (Red Hat 14.3.1-1) Fedora Linux 42 Kernel: 5.15 Compiler: gcc gcc (GCC) 15.2.1 20250808 (Red Hat 15.2.1-1) Red Hat Enterprise Linux 8.10 Kernel: 5.15 Compiler: gcc gcc (GCC) 8.5.0 20210514 (Red Hat 8.5.0-22) Red Hat Enterprise Linux 9.5 Kernel: 5.15 Compiler: gcc gcc (GCC) 11.5.0 20240719 (Red Hat 11.5.0-2) Ubuntu 22.04 Kernel: 5.15 Compiler: gcc gcc (Ubuntu 11.4.0-1ubuntu1~22.04) 11.4.0 Ubuntu 20.04 Kernel: 5.15 Compiler: gcc gcc (Ubuntu 9.4.0-1ubuntu1~20.04.2) 9.4.0 Ubuntu 24.04 Kernel: 5.15 Compiler: gcc gcc (Ubuntu 13.3.0-6ubuntu2~24.04) 13.3.0 Windows Server 2022 Kernel: 10.0.20348.2031 Compiler: clang 15.0.7, gcc 14.1.0 (MinGW), and MSVC VS 19.39.33521 To view detailed results, visit: https://lab.dpdk.org/results/dashboard/patchsets/34497/ UNH-IOL DPDK Community Lab To manage your email subscriptions, visit: https://lab.dpdk.org/results/dashboard/preferences/subscriptions/