From mboxrd@z Thu Jan 1 00:00:00 1970 Return-Path: Received: from mails.dpdk.org (mails.dpdk.org [217.70.189.124]) by inbox.dpdk.org (Postfix) with ESMTP id 0186148A8C for ; Fri, 7 Nov 2025 04:50:25 +0100 (CET) Received: from mails.dpdk.org (localhost [127.0.0.1]) by mails.dpdk.org (Postfix) with ESMTP id EC8034013F; Fri, 7 Nov 2025 04:50:25 +0100 (CET) Received: from mail-qv1-f100.google.com (mail-qv1-f100.google.com [209.85.219.100]) by mails.dpdk.org (Postfix) with ESMTP id ACD494013F for ; Fri, 7 Nov 2025 04:50:24 +0100 (CET) Received: by mail-qv1-f100.google.com with SMTP id 6a1803df08f44-8804f840579so5336256d6.0 for ; Thu, 06 Nov 2025 19:50:24 -0800 (PST) DKIM-Signature: v=1; a=rsa-sha256; c=relaxed/relaxed; d=iol.unh.edu; s=unh-iol; t=1762487424; x=1763092224; darn=dpdk.org; h=references:in-reply-to:cc:to:from:subject:message-id:date:from:to :cc:subject:date:message-id:reply-to; bh=OOe4lEVX+J5Pb5sweqGzPX5WIwuKsFk8XEbCM1Fn3n4=; b=WoIPZFuZHH5miOZPh9NApVZjuR9UAoeQi3UqArmQbwaozaHm7jOpXSL/TyucySta2N uZ2STX6g1c3pVw2iaLnPBxZU6joboyj6aikRdO0SX7I3chPwFyypyQKe26nQ4/bwyI8g WgRLfaniAUJdfaSFKT100nbsiAzigaIx5qbMU= X-Google-DKIM-Signature: v=1; a=rsa-sha256; c=relaxed/relaxed; d=1e100.net; s=20230601; t=1762487424; x=1763092224; h=references:in-reply-to:cc:to:from:subject:message-id:date:x-gm-gg :x-gm-message-state:from:to:cc:subject:date:message-id:reply-to; bh=OOe4lEVX+J5Pb5sweqGzPX5WIwuKsFk8XEbCM1Fn3n4=; b=YSxdzIw9U/gQU72ePfmbkVikFRHMLLzJiTzfhfjHzs/+4KqlX04moC2gUhgGJBWzK1 +wuxzU7LVAj7BKruwdNlXnAzUGyfedCWQ8Xp7WkLqViXqLG0VtUhO5creePl9YyeH5g9 FL8ZYi2j95HPPyIrBEOYLCI1XpxgolgCoQ0oiOmNwMGck7t/y8HUVLryil6kBkP8ACqg zd/0zDGYAc5Npm3KbWcK22LaUEoM7sXtmCFSffn+a76mxN87cv8c7AegTJqs3lRsMD43 FmJ20uWD9PzBiqsrkPJhDIKQKlH6zbhJNHXpd7L4XgDpOigq0qXWjDRXFtS66sO/LFk3 Y15g== X-Gm-Message-State: AOJu0YzwRwcrnqtOub9PAgyqroaJTiEYZSUcnLHo/UNKsLwaKZTcTciB 0ObcaFalVcRDqYm8zZA1Pfcs2fCZTNWCakLZWbMqTVZYzBqO3xvgNyJahqVUNQcfZOQJewNt0G/ AhaltQxs950k+tvbagwkTywGCREBw/lVZnAtf4M1lWpb+ X-Gm-Gg: ASbGncuJhM/e4J2viP2J5H8zILNAbOawaObTrLipgkza3erWDZdpFQ8VzDMvqE5pzfv rZZ/i8DvNZQwywkaxr+CQN7ahHlTItq+K10tVaWHfYgneeuyl3knXibYFLAEsIoVdntnebrAH6W d6FMD5XGLQVQGARqvcQrWo5GjMOc6cALtPUKPA1hxgFkuH3YILdMpkvwsF3qLRxvTtiW2vpl2/V tRp+4nC+anFNN9uePsmCfZWLD8gzpOqPsq7y9jKvutvq26h8CwQtfy/lEbZhQ4upZK9WKJE+/5s ZANsn4K3ssEzeB0xs7PV7JacRsn8wuyo1AvfhQySs3LST13ao6HeC8fjI2mMBVluNUivjAILWMd KbrRai05ENzZT7u0OT1Z+IpPwk9Y2tZM= X-Google-Smtp-Source: AGHT+IF2lyOntgL11Un8nFcgviJbh2gnJQwFeRJ2/tHHYWlISJSBme6xUhdVwu29JFpHmHc9u46nyZgbUWo3 X-Received: by 2002:ad4:5c81:0:b0:87c:2759:6b7b with SMTP id 6a1803df08f44-881834e4012mr23238956d6.65.1762487424071; Thu, 06 Nov 2025 19:50:24 -0800 (PST) Received: from postal.iol.unh.edu (postal.iol.unh.edu. [132.177.123.84]) by smtp-relay.gmail.com with ESMTPS id 6a1803df08f44-88082a3494esm4091446d6.32.2025.11.06.19.50.24 (version=TLS1_2 cipher=ECDHE-ECDSA-AES128-GCM-SHA256 bits=128/128); Thu, 06 Nov 2025 19:50:24 -0800 (PST) X-Relaying-Domain: iol.unh.edu Date: Thu, 06 Nov 2025 19:50:24 -0800 (PST) Message-ID: <690d6c80.050a0220.1b3e73.629dSMTPIN_ADDED_MISSING@mx.google.com> Received: from [172.21.0.3] (unknown [172.18.0.240]) by postal.iol.unh.edu (Postfix) with ESMTP id BA0DE6051830; Thu, 6 Nov 2025 22:50:23 -0500 (EST) Subject: |SUCCESS| pw158535 [PATCH] [v1,1/1] net/e1000: use device timestamp From: dpdklab@iol.unh.edu To: Test Report Cc: dpdk-test-reports@iol.unh.edu, Bruce Richardson In-Reply-To: <20251107031507.3890366-1-yoong.siang.song@intel.com> References: <20251107031507.3890366-1-yoong.siang.song@intel.com> Content-Type: text/plain X-BeenThere: test-report@dpdk.org X-Mailman-Version: 2.1.29 Precedence: list List-Id: automatic DPDK test reports List-Unsubscribe: , List-Archive: List-Post: List-Help: List-Subscribe: , Errors-To: test-report-bounces@dpdk.org Test-Label: iol-unit-amd64-testing Test-Status: SUCCESS http://dpdk.org/patch/158535 _Testing PASS_ Submitter: Song Yoong Siang Date: Friday, November 07 2025 03:15:07 DPDK git baseline: Repo:dpdk-next-net-intel Branch: master CommitID:1655dc989bc95fa85fc76d32912d2e46c0851148 158535 --> testing pass Upstream job id: Generic-Unit-Test-DPDK#389807 Test environment and result as below: +-------------------------------+----------------+ | Environment | dpdk_unit_test | +===============================+================+ | CentOS Stream 9 | PASS | +-------------------------------+----------------+ | Debian GNU/Linux 12 | PASS | +-------------------------------+----------------+ | Fedora Linux 40 | PASS | +-------------------------------+----------------+ | Fedora Linux 41 | PASS | +-------------------------------+----------------+ | Fedora Linux 42 | PASS | +-------------------------------+----------------+ | Red Hat Enterprise Linux 9.5 | PASS | +-------------------------------+----------------+ | Red Hat Enterprise Linux 8.10 | PASS | +-------------------------------+----------------+ | CentOS Stream 10 | PASS | +-------------------------------+----------------+ | Ubuntu 20.04 | PASS | +-------------------------------+----------------+ | Ubuntu 24.04 | PASS | +-------------------------------+----------------+ | Ubuntu 22.04 | PASS | +-------------------------------+----------------+ CentOS Stream 9 Kernel: 5.15 Compiler: gcc gcc (GCC) 11.5.0 20240719 (Red Hat 11.5.0-11) Debian GNU/Linux 12 Kernel: 5.15 Compiler: gcc gcc (Debian 12.2.0-14+deb12u1) 12.2.0 Fedora Linux 40 Kernel: 5.15 Compiler: clang gcc (GCC) 14.2.1 20240912 (Red Hat 14.2.1-3) Fedora Linux 41 Kernel: 5.15 Compiler: clang gcc (GCC) 14.3.1 20250523 (Red Hat 14.3.1-1) Fedora Linux 42 Kernel: 5.15 Compiler: gcc gcc (GCC) 15.2.1 20250808 (Red Hat 15.2.1-1) Red Hat Enterprise Linux 9.5 Kernel: 5.15 Compiler: gcc gcc (GCC) 11.5.0 20240719 (Red Hat 11.5.0-2) Red Hat Enterprise Linux 8.10 Kernel: 5.15 Compiler: gcc gcc (GCC) 8.5.0 20210514 (Red Hat 8.5.0-22) CentOS Stream 10 Kernel: 5.15 Compiler: gcc gcc (GCC) 14.2.1 20250110 (Red Hat 14.2.1-8) Ubuntu 20.04 Kernel: 5.15 Compiler: gcc gcc (Ubuntu 9.4.0-1ubuntu1~20.04.2) 9.4.0 Ubuntu 24.04 Kernel: 5.15 Compiler: gcc gcc (Ubuntu 13.3.0-6ubuntu2~24.04) 13.3.0 Ubuntu 22.04 Kernel: 5.15 Compiler: gcc gcc (Ubuntu 11.4.0-1ubuntu1~22.04) 11.4.0 To view detailed results, visit: https://lab.dpdk.org/results/dashboard/patchsets/34503/ UNH-IOL DPDK Community Lab To manage your email subscriptions, visit: https://lab.dpdk.org/results/dashboard/preferences/subscriptions/