From mboxrd@z Thu Jan 1 00:00:00 1970 Return-Path: Received: from mails.dpdk.org (mails.dpdk.org [217.70.189.124]) by inbox.dpdk.org (Postfix) with ESMTP id 99CF648A8C for ; Fri, 7 Nov 2025 04:56:21 +0100 (CET) Received: from mails.dpdk.org (localhost [127.0.0.1]) by mails.dpdk.org (Postfix) with ESMTP id 777024013F; Fri, 7 Nov 2025 04:56:21 +0100 (CET) Received: from mail-qv1-f99.google.com (mail-qv1-f99.google.com [209.85.219.99]) by mails.dpdk.org (Postfix) with ESMTP id DCFF24013F for ; Fri, 7 Nov 2025 04:56:19 +0100 (CET) Received: by mail-qv1-f99.google.com with SMTP id 6a1803df08f44-8805d54ac94so3228436d6.3 for ; Thu, 06 Nov 2025 19:56:19 -0800 (PST) DKIM-Signature: v=1; a=rsa-sha256; c=relaxed/relaxed; d=iol.unh.edu; s=unh-iol; t=1762487779; x=1763092579; darn=dpdk.org; h=references:in-reply-to:cc:to:from:subject:message-id:date:from:to :cc:subject:date:message-id:reply-to; bh=nY6w8wFMSHQPxIdXywuJRTTxedqHBdtzkhnwcmjtY38=; b=X9Q/GN7fwd4ii1EGqTR741WsC/Q7CW2AUnUoW9EM+AYN5GfV+7jfeotzF398U6xc0A MLtxlC1XBRzH6O9i0DlwLEhIWkPSFPdqRfnzm4i9QcTl5J/z5iTL/8mlBpRPse/W+LW9 Cx3OVzsDtUTz8kBC6EaQ5AoWGOoG2bzp1cpXk= X-Google-DKIM-Signature: v=1; a=rsa-sha256; c=relaxed/relaxed; d=1e100.net; s=20230601; t=1762487779; x=1763092579; h=references:in-reply-to:cc:to:from:subject:message-id:date:x-gm-gg :x-gm-message-state:from:to:cc:subject:date:message-id:reply-to; bh=nY6w8wFMSHQPxIdXywuJRTTxedqHBdtzkhnwcmjtY38=; b=a0wHWzIqIZAHp0DwrKXvwe6EPUHYhLDvceKFXPEJ+91RsekySI551WsAo6gZpKX7AU bSLy8HPA+Wrtr1HVIsXBRhGP7YQaUvlskyT3TnNU/+RqZy+DHi6B1vSV7+H23gSDU62p gXGh9eJOT1rBke0EIHKJaVuGlMlw2+b/iyQRrpXT35epXhwpni+j6CMNZLup0oUoNlz7 E1Qm5MJpjfdnCCZbdEIQJP5dLqZ0JDo23x7txlB1pX6vbXlXnkVJLquXGLbLuncbu1RM viSMTpyu4Ev3nyWM2XLig/+stsBq1tLo3mmi22x0hOh7JYI6wtGqdQxZ2i3UzLX2w6hc As5A== X-Gm-Message-State: AOJu0Ywud06DOdt7eCoDD1N0nMMMiFHl5Nr7xArR+33RFk7GR3p7wwj/ FAn7NzzRQaSyd45pRTJjbxpNzQQTxurOuu58ZQ1TX2wDyNBg2X+NvLEsA3tdxsrP9lxkJwkRkmR OTYF7Dz/qF7ZCkTWsaQKixt/dPOjlc1Hzw4/6rhYm6EN3 X-Gm-Gg: ASbGncuDMf+KZFhazC5xaZ6GYUiMj3KwvnIGeKQVYIlPH1pS+FwCJiqa3M91UMRmxge MPk/6uoZvKY59bmMgn7aBVgCm6mI8SIUUq8myh1DcSK7A11FJiFhURIKFzrWB8cJINgz5kNqSBa oGpJn8UV2XTRRihGBM1fQqC6JaeBtOipH3SIikGt698XobDHV7F1ll0dAko+5hC4pCuU37Qw6mb 2Tn4KfJqekQhTX40LEK6y1WdOKRJMBCZOauicF4AaX6iEDatn5FRhdnOaKHnZ0QxLMNRCDfNZHu UtImCuSeoQ5qwpoIv/oEZeV3v0mx2NM1MngTV0LSrBemikvBe+PIFicGDPpA6ffD8AlXI+Dt8IV 6qqBgk6lkRLKHPtYT4SfZrDupv5NTnCs= X-Google-Smtp-Source: AGHT+IFAjVlotWqVJQ8qxsvUusUeg1q4hhbAFMCA57hVENP+aB6A61rvOyDXYnThDiCf2vwyvJAGrCtmb7tk X-Received: by 2002:a05:6214:5086:b0:880:2105:9992 with SMTP id 6a1803df08f44-88176779eb2mr21904506d6.45.1762487776671; Thu, 06 Nov 2025 19:56:16 -0800 (PST) Received: from postal.iol.unh.edu (postal.iol.unh.edu. [132.177.123.84]) by smtp-relay.gmail.com with ESMTPS id 6a1803df08f44-880828d5f9dsm4035396d6.11.2025.11.06.19.56.16 (version=TLS1_2 cipher=ECDHE-ECDSA-AES128-GCM-SHA256 bits=128/128); Thu, 06 Nov 2025 19:56:16 -0800 (PST) X-Relaying-Domain: iol.unh.edu Date: Thu, 06 Nov 2025 19:56:16 -0800 (PST) Message-ID: <690d6de0.050a0220.2fcef6.5e23SMTPIN_ADDED_MISSING@mx.google.com> Received: from [172.21.0.2] (unknown [172.18.0.240]) by postal.iol.unh.edu (Postfix) with ESMTP id 5D4B260003F4; Thu, 6 Nov 2025 22:56:16 -0500 (EST) Subject: |SUCCESS| pw158535 [PATCH] [v1,1/1] net/e1000: use device timestamp From: dpdklab@iol.unh.edu To: Test Report Cc: dpdk-test-reports@iol.unh.edu, Bruce Richardson In-Reply-To: <20251107031507.3890366-1-yoong.siang.song@intel.com> References: <20251107031507.3890366-1-yoong.siang.song@intel.com> Content-Type: text/plain X-BeenThere: test-report@dpdk.org X-Mailman-Version: 2.1.29 Precedence: list List-Id: automatic DPDK test reports List-Unsubscribe: , List-Archive: List-Post: List-Help: List-Subscribe: , Errors-To: test-report-bounces@dpdk.org Test-Label: iol-compile-amd64-testing Test-Status: SUCCESS http://dpdk.org/patch/158535 _Testing PASS_ Submitter: Song Yoong Siang Date: Friday, November 07 2025 03:15:07 DPDK git baseline: Repo:dpdk-next-net-intel Branch: master CommitID:1655dc989bc95fa85fc76d32912d2e46c0851148 158535 --> testing pass Upstream job id: Generic-DPDK-Compile-Meson#441859 Test environment and result as below: +-------------------------------+--------------------+------------------+ | Environment | dpdk_meson_compile | dpdk_compile_ovs | +===============================+====================+==================+ | Ubuntu 20.04 | PASS | SKIPPED | +-------------------------------+--------------------+------------------+ | CentOS Stream 9 | PASS | SKIPPED | +-------------------------------+--------------------+------------------+ | CentOS Stream 10 | PASS | SKIPPED | +-------------------------------+--------------------+------------------+ | Debian GNU/Linux 12 | PASS | SKIPPED | +-------------------------------+--------------------+------------------+ | Fedora Linux 42 | PASS | PASS | +-------------------------------+--------------------+------------------+ | openSUSE Leap 15.6 | PASS | SKIPPED | +-------------------------------+--------------------+------------------+ | Red Hat Enterprise Linux 8.10 | PASS | SKIPPED | +-------------------------------+--------------------+------------------+ | Red Hat Enterprise Linux 9.5 | PASS | SKIPPED | +-------------------------------+--------------------+------------------+ | Ubuntu 22.04 | PASS | SKIPPED | +-------------------------------+--------------------+------------------+ | Ubuntu 24.04 | PASS | PASS | +-------------------------------+--------------------+------------------+ | FreeBSD 14.2 | PASS | SKIPPED | +-------------------------------+--------------------+------------------+ | Alpine Linux 3.22.0 | PASS | SKIPPED | +-------------------------------+--------------------+------------------+ Ubuntu 20.04 Kernel: 4.19 Compiler: gcc gcc (Ubuntu 9.4.0-1ubuntu1~20.04.2) 9.4.0 CentOS Stream 9 Kernel: 5.15 Compiler: gcc gcc (GCC) 11.5.0 20240719 (Red Hat 11.5.0-11) CentOS Stream 10 Kernel: 5.15 Compiler: gcc gcc (GCC) 14.2.1 20250110 (Red Hat 14.2.1-8) Debian GNU/Linux 12 Kernel: 5.15 Compiler: gcc gcc (Debian 12.2.0-14+deb12u1) 12.2.0 Fedora Linux 42 Kernel: 5.15 Compiler: clang gcc (GCC) 15.2.1 20250808 (Red Hat 15.2.1-1) openSUSE Leap 15.6 Kernel: 5.15 Compiler: gcc gcc (SUSE Linux) 7.5.0 Red Hat Enterprise Linux 8.10 Kernel: 5.15 Compiler: gcc gcc (GCC) 8.5.0 20210514 (Red Hat 8.5.0-22) Red Hat Enterprise Linux 9.5 Kernel: 5.15 Compiler: gcc gcc (GCC) 11.5.0 20240719 (Red Hat 11.5.0-2) Ubuntu 22.04 Kernel: 5.15 Compiler: gcc gcc (Ubuntu 11.4.0-1ubuntu1~22.04) 11.4.0 Ubuntu 24.04 Kernel: 5.15 Compiler: gcc gcc (Ubuntu 13.3.0-6ubuntu2~24.04) 13.3.0 FreeBSD 14.2 Kernel: 14.2-RELEASE Compiler: clang 18.1.6 Alpine Linux 3.22.0 Kernel: 5.15 Compiler: gcc gcc (Alpine 14.2.0) 14.2.0 To view detailed results, visit: https://lab.dpdk.org/results/dashboard/patchsets/34503/ UNH-IOL DPDK Community Lab To manage your email subscriptions, visit: https://lab.dpdk.org/results/dashboard/preferences/subscriptions/