From mboxrd@z Thu Jan 1 00:00:00 1970 Return-Path: Received: from mails.dpdk.org (mails.dpdk.org [217.70.189.124]) by inbox.dpdk.org (Postfix) with ESMTP id 50AE148A8C for ; Fri, 7 Nov 2025 05:22:03 +0100 (CET) Received: from mails.dpdk.org (localhost [127.0.0.1]) by mails.dpdk.org (Postfix) with ESMTP id 3843A4013F; Fri, 7 Nov 2025 05:22:03 +0100 (CET) Received: from mail-pl1-f227.google.com (mail-pl1-f227.google.com [209.85.214.227]) by mails.dpdk.org (Postfix) with ESMTP id E8D294013F for ; Fri, 7 Nov 2025 05:22:01 +0100 (CET) Received: by mail-pl1-f227.google.com with SMTP id d9443c01a7336-2953e415b27so3029815ad.2 for ; Thu, 06 Nov 2025 20:22:01 -0800 (PST) DKIM-Signature: v=1; a=rsa-sha256; c=relaxed/relaxed; d=iol.unh.edu; s=unh-iol; t=1762489321; x=1763094121; darn=dpdk.org; h=references:in-reply-to:cc:to:from:subject:message-id:date:from:to :cc:subject:date:message-id:reply-to; bh=ZoY9Bda8PrnIRgT4Sd2wIb/ldHf7W6IE01rqVDYWp7Q=; b=JoWQXnEg2pz7Pq/vpCOjnXqN0jAr6IZuY0YOEZNV1/s+FqWkGJ2KDi4Nm4VDYDs7tI yvSwVnilMPN44sEQD5du0ws4pO3jmUrtOj/srBMq9tA/MnJ6pWAi+AQdz4gcPpeaw5zT XF78aKgCVOJOc6RuP/cQClJfNCA6GXiM/m3vY= X-Google-DKIM-Signature: v=1; a=rsa-sha256; c=relaxed/relaxed; d=1e100.net; s=20230601; t=1762489321; x=1763094121; h=references:in-reply-to:cc:to:from:subject:message-id:date:x-gm-gg :x-gm-message-state:from:to:cc:subject:date:message-id:reply-to; bh=ZoY9Bda8PrnIRgT4Sd2wIb/ldHf7W6IE01rqVDYWp7Q=; b=bbv3EOw9KcbU7YkfMoYPabmj9Lcmh7VU4NTtea7dyJkz1zCmGeFrBjuhvWo0vfbke1 tryBhv8ANzQ9vMHy6dgkk3TGvEbW4LaT2RC1f073r4C3QBWka7ioHTrAy9FC7eR24fy6 5NaAcXng85u7M/aBnz3hyS2uCbJDpyQ7QULYsFgnc4fFbLzzLrp9lo8nMWO022DQggsv hlp5cQsd5WQ3BX3K3ucmwrDUIhcdM3gkZCVBOh909o63fY+AXZVi/9ePmv0LdLvyKp/B fYUOveNZ0R3+W9ij+3qdtGWO0xdqq0QIkI7fDdDg9uqTPT6NnAO5w9NAWZaAjM/x19bq P1Uw== X-Gm-Message-State: AOJu0Yym2Lk4IPc7yf+F8Bbaz/6MNO8Ep4lGwfn69P9+yqvEMlx3vHgc XRybd+99Uacx5BRAGOy0R3CxXPlXgfi8qIGJCwVMXwlwQMMQCXlKHgsIXlVbstpz6q4l17ZHhEp gqX0gGeHvBUISaownJRTkxS1sZdfXekc06pl2Tk5pDfx9 X-Gm-Gg: ASbGncvNAGyQsGcmYEGmH71wrtXdvxZmheEEndUtwNbWYs3gbhMk10xjmmLZG3oBR5X 3HltOOFyueOeYyzuJTQgkx8W5sIvTE0l3icwCA7oc3AdOCcFjSgmexQL1ZGuutxVEeNTaW231jY hCjHVE/f6Z/QMlFbJu+96DHul7NzvnH8R1dL1wtui7dvvAYEOauSBfId7hJhcaoS/inTyjKh3RB /S3FzUxBwbRDM8Guo/VhPNUGv70yhqNApkYa1EqwbC4Jg5MEyGC0CAoC2HYDqyRwcBSoEsnYRq5 peJCvsfeSXN4SAZuv3T7U2zyjqw5Xi5GDddd+Vc9Iqe2GoHgrkqXLEtbFNRBYJCschxOnPp0aYe C1aagBhvosIV3MmQ8iFTicGTLOr5tVT4= X-Google-Smtp-Source: AGHT+IGKFzXDgV5i6F1RnU6N95b9q9zX1g/eAUYNSiezsVuNwjWUjX0qz8YvbXfWkp6Xg14MI4gOsFocidb4 X-Received: by 2002:a17:902:e84b:b0:295:1a5b:f406 with SMTP id d9443c01a7336-297c03d6d80mr26415815ad.25.1762489321120; Thu, 06 Nov 2025 20:22:01 -0800 (PST) Received: from postal.iol.unh.edu (postal.iol.unh.edu. [132.177.123.84]) by smtp-relay.gmail.com with ESMTPS id d9443c01a7336-29651cc014asm3972065ad.61.2025.11.06.20.22.01 (version=TLS1_2 cipher=ECDHE-ECDSA-AES128-GCM-SHA256 bits=128/128); Thu, 06 Nov 2025 20:22:01 -0800 (PST) X-Relaying-Domain: iol.unh.edu Date: Thu, 06 Nov 2025 20:22:01 -0800 (PST) Message-ID: <690d73e9.170a0220.663c5.4763SMTPIN_ADDED_MISSING@mx.google.com> Received: from [172.21.0.2] (unknown [172.18.0.240]) by postal.iol.unh.edu (Postfix) with ESMTP id 86B446051830; Thu, 6 Nov 2025 23:22:00 -0500 (EST) Subject: |SUCCESS| pw158483 [PATCH] [v2] dts: testpmd link check on port star From: dpdklab@iol.unh.edu To: Test Report Cc: dpdk-test-reports@iol.unh.edu In-Reply-To: <20251105194925.1507334-1-probb@iol.unh.edu> References: <20251105194925.1507334-1-probb@iol.unh.edu> Content-Type: text/plain X-BeenThere: test-report@dpdk.org X-Mailman-Version: 2.1.29 Precedence: list List-Id: automatic DPDK test reports List-Unsubscribe: , List-Archive: List-Post: List-Help: List-Subscribe: , Errors-To: test-report-bounces@dpdk.org Test-Label: iol-compile-amd64-testing Test-Status: SUCCESS http://dpdk.org/patch/158483 _Testing PASS_ Submitter: Patrick Robb Date: Wednesday, November 05 2025 19:49:25 DPDK git baseline: Repo:dpdk-next-dts Branch: master CommitID:4f35a61a6a5a31f822c3d7519e8a1de1b7cbd9c4 158483 --> testing pass Upstream job id: Windows-Compile-DPDK-VS#7459 Test environment and result as below: +-------------------------------+--------------------+------------------+-------------------+ | Environment | dpdk_meson_compile | dpdk_compile_ovs | dpdk_msvc_compile | +===============================+====================+==================+===================+ | Ubuntu 20.04 | PASS | SKIPPED | SKIPPED | +-------------------------------+--------------------+------------------+-------------------+ | FreeBSD 14.2 | PASS | SKIPPED | SKIPPED | +-------------------------------+--------------------+------------------+-------------------+ | Red Hat Enterprise Linux 9.5 | PASS | SKIPPED | SKIPPED | +-------------------------------+--------------------+------------------+-------------------+ | CentOS Stream 9 | PASS | SKIPPED | SKIPPED | +-------------------------------+--------------------+------------------+-------------------+ | CentOS Stream 10 | PASS | SKIPPED | SKIPPED | +-------------------------------+--------------------+------------------+-------------------+ | Debian GNU/Linux 12 | PASS | SKIPPED | SKIPPED | +-------------------------------+--------------------+------------------+-------------------+ | Fedora Linux 42 | PASS | PASS | SKIPPED | +-------------------------------+--------------------+------------------+-------------------+ | openSUSE Leap 15.6 | PASS | SKIPPED | SKIPPED | +-------------------------------+--------------------+------------------+-------------------+ | Red Hat Enterprise Linux 8.10 | PASS | SKIPPED | SKIPPED | +-------------------------------+--------------------+------------------+-------------------+ | Ubuntu 22.04 | PASS | SKIPPED | SKIPPED | +-------------------------------+--------------------+------------------+-------------------+ | Ubuntu 24.04 | PASS | PASS | SKIPPED | +-------------------------------+--------------------+------------------+-------------------+ | Alpine Linux 3.22.0 | PASS | SKIPPED | SKIPPED | +-------------------------------+--------------------+------------------+-------------------+ | Windows Server 2022 | SKIPPED | SKIPPED | PASS | +-------------------------------+--------------------+------------------+-------------------+ Ubuntu 20.04 Kernel: 4.19 Compiler: gcc gcc (Ubuntu 9.4.0-1ubuntu1~20.04.2) 9.4.0 FreeBSD 14.2 Kernel: 14.2-RELEASE Compiler: clang 18.1.6 Red Hat Enterprise Linux 9.5 Kernel: 5.15 Compiler: gcc gcc (GCC) 11.5.0 20240719 (Red Hat 11.5.0-2) CentOS Stream 9 Kernel: 5.15 Compiler: gcc gcc (GCC) 11.5.0 20240719 (Red Hat 11.5.0-11) CentOS Stream 10 Kernel: 5.15 Compiler: gcc gcc (GCC) 14.2.1 20250110 (Red Hat 14.2.1-8) Debian GNU/Linux 12 Kernel: 5.15 Compiler: gcc gcc (Debian 12.2.0-14+deb12u1) 12.2.0 Fedora Linux 42 Kernel: 5.15 Compiler: clang gcc (GCC) 15.2.1 20250808 (Red Hat 15.2.1-1) openSUSE Leap 15.6 Kernel: 5.15 Compiler: gcc gcc (SUSE Linux) 7.5.0 Red Hat Enterprise Linux 8.10 Kernel: 5.15 Compiler: gcc gcc (GCC) 8.5.0 20210514 (Red Hat 8.5.0-22) Ubuntu 22.04 Kernel: 5.15 Compiler: gcc gcc (Ubuntu 11.4.0-1ubuntu1~22.04) 11.4.0 Ubuntu 24.04 Kernel: 5.15 Compiler: gcc gcc (Ubuntu 13.3.0-6ubuntu2~24.04) 13.3.0 Alpine Linux 3.22.0 Kernel: 5.15 Compiler: gcc gcc (Alpine 14.2.0) 14.2.0 Windows Server 2022 Kernel: 10.0.20348.2031 Compiler: clang 15.0.7, gcc 14.1.0 (MinGW), and MSVC VS 19.39.33521 To view detailed results, visit: https://lab.dpdk.org/results/dashboard/patchsets/34500/ UNH-IOL DPDK Community Lab To manage your email subscriptions, visit: https://lab.dpdk.org/results/dashboard/preferences/subscriptions/