From mboxrd@z Thu Jan 1 00:00:00 1970 Return-Path: Received: from mails.dpdk.org (mails.dpdk.org [217.70.189.124]) by inbox.dpdk.org (Postfix) with ESMTP id 67CF348A8C for ; Fri, 7 Nov 2025 05:23:03 +0100 (CET) Received: from mails.dpdk.org (localhost [127.0.0.1]) by mails.dpdk.org (Postfix) with ESMTP id 5FEBF4013F; Fri, 7 Nov 2025 05:23:03 +0100 (CET) Received: from mail-io1-f98.google.com (mail-io1-f98.google.com [209.85.166.98]) by mails.dpdk.org (Postfix) with ESMTP id 9ACFF4013F for ; Fri, 7 Nov 2025 05:23:02 +0100 (CET) Received: by mail-io1-f98.google.com with SMTP id ca18e2360f4ac-94849c6e0bbso11789339f.1 for ; Thu, 06 Nov 2025 20:23:02 -0800 (PST) DKIM-Signature: v=1; a=rsa-sha256; c=relaxed/relaxed; d=iol.unh.edu; s=unh-iol; t=1762489382; x=1763094182; darn=dpdk.org; h=references:in-reply-to:cc:to:from:subject:message-id:date:from:to :cc:subject:date:message-id:reply-to; bh=38gfA21iAC4Y7VRJ4+7bPPB8Z0xK5gsxjgZK8oMDkj8=; b=bUG8KlRiXYs65nP9Rm/14XzYZxRuzoT4iMq0iORo4texzPMAvmSf3GSKThMbnTMNkW F2kWy90h10tm519pD0IBWMkNQy62yj3QBAVeZOSFDv+a/EAQ/Dq9uSrQHDRKY9qd658z +PbpYfOm9kC8M9FRKbfmb4Ia4x1TlGDoVUeqc= X-Google-DKIM-Signature: v=1; a=rsa-sha256; c=relaxed/relaxed; d=1e100.net; s=20230601; t=1762489382; x=1763094182; h=references:in-reply-to:cc:to:from:subject:message-id:date:x-gm-gg :x-gm-message-state:from:to:cc:subject:date:message-id:reply-to; bh=38gfA21iAC4Y7VRJ4+7bPPB8Z0xK5gsxjgZK8oMDkj8=; b=Wsri7aVA972f40aZXQZiwwfrQTvaI8QDIA09azZN1TYambsl1VSE2v7kv2wGTVJigp 1KHv6VCc0uO76+6IVAr4svsZEnugRNe49vVMtCiWk64nJcI4QzCTQNbkkcD7LCloedxr xyTg1D6/qlokw3Vzofx9iuoFMJRKHe/EOC9dKXxewcVJ2ZULaIWsJKOE49ocbKpa/AOU 7vtYn1OMV71oXxxYhEz6q6Wfh0SrdiyOlwlGmFHYaw0F7u1BtR+C3784dXjvrmA8Ux32 5McCMnykMskygCma+e4oj7DrwXPVXpyXhVvhYS19mPPAMU/2E3VeesS60VuoLpXpxMa+ QvFg== X-Gm-Message-State: AOJu0YyHqgSjJAq985c21dLT7HOj9Ag+VuA6tpzkyFzYc58SN4j0s+k0 KXp2liUlkriffArz80VqviHfcz2PzdhZBxWDWZ4X/EHsrs02LbMJ89Ij12XzxWtO3EDS/OWklIf k8DRjHVaFnmwF0hOC/RpgfbhKLikWL9LgCwETHn3Yz2iWNqEi7EgUaeTpLsaE X-Gm-Gg: ASbGncsI/nSHpNqApNwvdcF1agHm4P0Gr7aRi2K9w8OeX2c+2ADWiGVYQAppvyILx1P wVONxBXmuwgr7trylXyNTnysv/e6DBSLl5rY5545m5UtLmztNEt3oq9xbVPptv4p104nJ74Cc4+ vkkau6Nq/JVzyeNhBvA4lQUHa75USDdBZwuo67C276Not9mIoawY4hnWt9pg3DdjX92Ar7tQdoS QE7vt8i5dAkrAJv3N2vL2+CVG3kKR0iIGQRljEan2jaOmI2xfs6JHXG9U0iJKaFEJA9I2Hh0hO8 NjsEJq0hQlfF8JzydiS836PxXNtfu+uuKOI9MbTXcW3Kowz867GYtRNXBMPInywg+jpwbaQtjoZ nz/BjcDyg X-Google-Smtp-Source: AGHT+IExlyzaHVLMIg+HTjmesH20N0vVSsLtDc3s+2aAY3mRAVMuRNk7CnYwxLhpyP6pVyLyRFxO2yzQiyeN X-Received: by 2002:a5d:9132:0:b0:945:a7ce:646c with SMTP id ca18e2360f4ac-94888f26ea7mr219617239f.10.1762489381899; Thu, 06 Nov 2025 20:23:01 -0800 (PST) Received: from postal.iol.unh.edu (postal.iol.unh.edu. [2606:4100:3880:1234::84]) by smtp-relay.gmail.com with ESMTPS id 8926c6da1cb9f-5b7468c1f6dsm487637173.41.2025.11.06.20.23.01 (version=TLS1_2 cipher=ECDHE-ECDSA-AES128-GCM-SHA256 bits=128/128); Thu, 06 Nov 2025 20:23:01 -0800 (PST) X-Relaying-Domain: iol.unh.edu Date: Thu, 06 Nov 2025 20:23:01 -0800 (PST) Message-ID: <690d7425.020a0220.1ee0ef.9789SMTPIN_ADDED_MISSING@mx.google.com> Received: from [172.21.0.2] (unknown [172.18.0.240]) by postal.iol.unh.edu (Postfix) with ESMTP id 718CA6051830; Thu, 6 Nov 2025 23:23:01 -0500 (EST) Subject: |SUCCESS| pw158490-158491 [PATCH] [2/2] app/testpmd: fix wrong Rx qu From: dpdklab@iol.unh.edu To: Test Report Cc: dpdk-test-reports@iol.unh.edu, Stephen Hemminger In-Reply-To: <20251106002920.6162-3-fengchengwen@huawei.com> References: <20251106002920.6162-3-fengchengwen@huawei.com> Content-Type: text/plain X-BeenThere: test-report@dpdk.org X-Mailman-Version: 2.1.29 Precedence: list List-Id: automatic DPDK test reports List-Unsubscribe: , List-Archive: List-Post: List-Help: List-Subscribe: , Errors-To: test-report-bounces@dpdk.org Test-Label: iol-compile-amd64-testing Test-Status: SUCCESS http://dpdk.org/patch/158491 _Testing PASS_ Submitter: fengchengwen Date: Thursday, November 06 2025 00:29:20 DPDK git baseline: Repo:dpdk-next-net Branch: master CommitID:591ee7f468aebec30d68d30afa8d5e4dcfc897dc 158490-158491 --> testing pass Upstream job id: Windows-Compile-DPDK-Native#32190 Test environment and result as below: +-------------------------------+--------------------+------------------+-------------------+-------------------------+----------------------+ | Environment | dpdk_meson_compile | dpdk_compile_ovs | dpdk_msvc_compile | dpdk_llvm_clang_compile | dpdk_mingw64_compile | +===============================+====================+==================+===================+=========================+======================+ | Ubuntu 20.04 | PASS | SKIPPED | SKIPPED | SKIPPED | SKIPPED | +-------------------------------+--------------------+------------------+-------------------+-------------------------+----------------------+ | FreeBSD 14.2 | PASS | SKIPPED | SKIPPED | SKIPPED | SKIPPED | +-------------------------------+--------------------+------------------+-------------------+-------------------------+----------------------+ | CentOS Stream 9 | PASS | SKIPPED | SKIPPED | SKIPPED | SKIPPED | +-------------------------------+--------------------+------------------+-------------------+-------------------------+----------------------+ | CentOS Stream 10 | PASS | SKIPPED | SKIPPED | SKIPPED | SKIPPED | +-------------------------------+--------------------+------------------+-------------------+-------------------------+----------------------+ | Debian GNU/Linux 12 | PASS | SKIPPED | SKIPPED | SKIPPED | SKIPPED | +-------------------------------+--------------------+------------------+-------------------+-------------------------+----------------------+ | Fedora Linux 42 | PASS | PASS | SKIPPED | SKIPPED | SKIPPED | +-------------------------------+--------------------+------------------+-------------------+-------------------------+----------------------+ | Red Hat Enterprise Linux 8.10 | PASS | SKIPPED | SKIPPED | SKIPPED | SKIPPED | +-------------------------------+--------------------+------------------+-------------------+-------------------------+----------------------+ | openSUSE Leap 15.6 | PASS | SKIPPED | SKIPPED | SKIPPED | SKIPPED | +-------------------------------+--------------------+------------------+-------------------+-------------------------+----------------------+ | Red Hat Enterprise Linux 9.5 | PASS | SKIPPED | SKIPPED | SKIPPED | SKIPPED | +-------------------------------+--------------------+------------------+-------------------+-------------------------+----------------------+ | Ubuntu 22.04 | PASS | SKIPPED | SKIPPED | SKIPPED | SKIPPED | +-------------------------------+--------------------+------------------+-------------------+-------------------------+----------------------+ | Ubuntu 24.04 | PASS | PASS | SKIPPED | SKIPPED | SKIPPED | +-------------------------------+--------------------+------------------+-------------------+-------------------------+----------------------+ | Alpine Linux 3.22.0 | PASS | SKIPPED | SKIPPED | SKIPPED | SKIPPED | +-------------------------------+--------------------+------------------+-------------------+-------------------------+----------------------+ | Windows Server 2022 | SKIPPED | SKIPPED | PASS | PASS | PASS | +-------------------------------+--------------------+------------------+-------------------+-------------------------+----------------------+ Ubuntu 20.04 Kernel: 4.19 Compiler: gcc gcc (Ubuntu 9.4.0-1ubuntu1~20.04.2) 9.4.0 FreeBSD 14.2 Kernel: 14.2-RELEASE Compiler: clang 18.1.6 CentOS Stream 9 Kernel: 5.15 Compiler: gcc gcc (GCC) 11.5.0 20240719 (Red Hat 11.5.0-11) CentOS Stream 10 Kernel: 5.15 Compiler: gcc gcc (GCC) 14.2.1 20250110 (Red Hat 14.2.1-8) Debian GNU/Linux 12 Kernel: 5.15 Compiler: gcc gcc (Debian 12.2.0-14+deb12u1) 12.2.0 Fedora Linux 42 Kernel: 5.15 Compiler: clang gcc (GCC) 15.2.1 20250808 (Red Hat 15.2.1-1) Red Hat Enterprise Linux 8.10 Kernel: 5.15 Compiler: gcc gcc (GCC) 8.5.0 20210514 (Red Hat 8.5.0-22) openSUSE Leap 15.6 Kernel: 5.15 Compiler: gcc gcc (SUSE Linux) 7.5.0 Red Hat Enterprise Linux 9.5 Kernel: 5.15 Compiler: gcc gcc (GCC) 11.5.0 20240719 (Red Hat 11.5.0-2) Ubuntu 22.04 Kernel: 5.15 Compiler: gcc gcc (Ubuntu 11.4.0-1ubuntu1~22.04) 11.4.0 Ubuntu 24.04 Kernel: 5.15 Compiler: gcc gcc (Ubuntu 13.3.0-6ubuntu2~24.04) 13.3.0 Alpine Linux 3.22.0 Kernel: 5.15 Compiler: gcc gcc (Alpine 14.2.0) 14.2.0 Windows Server 2022 Kernel: 10.0.20348.2031 Compiler: clang 15.0.7, gcc 14.1.0 (MinGW), and MSVC VS 19.39.33521 To view detailed results, visit: https://lab.dpdk.org/results/dashboard/patchsets/34496/ UNH-IOL DPDK Community Lab To manage your email subscriptions, visit: https://lab.dpdk.org/results/dashboard/preferences/subscriptions/