From mboxrd@z Thu Jan 1 00:00:00 1970 Return-Path: Received: from mails.dpdk.org (mails.dpdk.org [217.70.189.124]) by inbox.dpdk.org (Postfix) with ESMTP id DEB0448A8C for ; Fri, 7 Nov 2025 05:27:34 +0100 (CET) Received: from mails.dpdk.org (localhost [127.0.0.1]) by mails.dpdk.org (Postfix) with ESMTP id C35334013F; Fri, 7 Nov 2025 05:27:34 +0100 (CET) Received: from mail-pl1-f228.google.com (mail-pl1-f228.google.com [209.85.214.228]) by mails.dpdk.org (Postfix) with ESMTP id 9B7404013F for ; Fri, 7 Nov 2025 05:27:33 +0100 (CET) Received: by mail-pl1-f228.google.com with SMTP id d9443c01a7336-2964d616df7so4377595ad.3 for ; Thu, 06 Nov 2025 20:27:33 -0800 (PST) DKIM-Signature: v=1; a=rsa-sha256; c=relaxed/relaxed; d=iol.unh.edu; s=unh-iol; t=1762489653; x=1763094453; darn=dpdk.org; h=references:in-reply-to:cc:to:from:subject:message-id:date:from:to :cc:subject:date:message-id:reply-to; bh=OagZwLwvezBN/mpVEi/UaQhFBXJkNrt6H5rtWAMWK2I=; b=GDyXP7LivoTuSoRj81ZMClunwS2a1oKvUNZKcAQ6ILterQFQdqgFaHFEc59bkl7fo0 Fk/AWKxEpMjJiwJQ8Q11R7fNPRdlq4QjlZBbs16yJHve/6MOXyV+j8GtOhhS8aEnnGuG RIBVwZc0mOd/2yGGbA/e0OdyluJgq4hhVjgek= X-Google-DKIM-Signature: v=1; a=rsa-sha256; c=relaxed/relaxed; d=1e100.net; s=20230601; t=1762489653; x=1763094453; h=references:in-reply-to:cc:to:from:subject:message-id:date:x-gm-gg :x-gm-message-state:from:to:cc:subject:date:message-id:reply-to; bh=OagZwLwvezBN/mpVEi/UaQhFBXJkNrt6H5rtWAMWK2I=; b=hGgx1LOXj+j6kTKpioAvWdnigUvfgtO6ukYUHZtpUnKhagWNdd7bbT/xLwKGjPCIXJ DP+TU6GCIWPCdLjh3vOWise9TcuSgXjounORYZlvj7LoXiciMq75pQwR9Ax5jEJ/3wQK vKJGnzj00IRedk5LydydtBXvyqLZ6KcwAkG0bKegzK9uCRkC1k6qv9wJaEpSnQPTfuML /nFHhfhQrYuZ7PDO+ifoMo+GKO7rqiASkB6gFqYPhwNFcBABWcSedVLAK5zSS39Vuiny o/7Gq1RQ7cDzUxA2uyfVkGXPPn7bOKa7yAYskrfRDCKyhRB3OCm+lSbEW81fe+oc9wbO loVg== X-Gm-Message-State: AOJu0YwALvqtAPBriiC2AK9KugLA0doC/zbIULYm8JYZ+jzYZlc7y1YL o0UuK/AnwVf8/2A758nKAWsye5XSgoQ5xQVzCG7GmlGMn8wb7vHllZBCzMijzqQLrUTbemIo60p +9tQQmCbHtofXo2rh/PyPDmXaQNNO6K0maYk941vHLUQInE/mCkeS0CajU1M0 X-Gm-Gg: ASbGnct1qBqZRdwTjAMa+pZofA6SRavz0ZuhyWCbNvrjdG/GqQk1uoCOY19Zznva9Go Z9d03eridIqJNBRUE8UIDlozo2Lsn0y1XDc7GfInses1eMkvs40ColhZa2IQFaOEGeD3eD6PbfL wA8FQgEm8PgblF08v2ZzpVtH6TR47CKP+lLsNRFx4GMdWUt5qTdyeRLFYBToeXHA0xXQuzY7qu7 9LJT2o6LgAkWfh6iBKtH3CDdKAu+ppKXnBq/fLNZkzjsjpOPiTMPAblBGJeHmpEdhBMkKbCVk1P P6MImo/dzZREYejTa8nypy4YsnIg2uKMnUP1VIxfkhNSGFtovP4b/piR7yofTlweaO21Gs9tqj/ jShzdRR24 X-Google-Smtp-Source: AGHT+IH8m1ltxuBZY9pcd/taRn+yK5HlJChQpLkp7RqMBoy9xydAPzf+N9yG75h9WrTFEA92NvuhXcxnC0Xf X-Received: by 2002:a17:902:e784:b0:295:557e:7465 with SMTP id d9443c01a7336-297c038cc94mr27134175ad.11.1762489652780; Thu, 06 Nov 2025 20:27:32 -0800 (PST) Received: from postal.iol.unh.edu (postal.iol.unh.edu. [2606:4100:3880:1234::84]) by smtp-relay.gmail.com with ESMTPS id 41be03b00d2f7-ba8f4ed97easm267452a12.2.2025.11.06.20.27.32 (version=TLS1_2 cipher=ECDHE-ECDSA-AES128-GCM-SHA256 bits=128/128); Thu, 06 Nov 2025 20:27:32 -0800 (PST) X-Relaying-Domain: iol.unh.edu Date: Thu, 06 Nov 2025 20:27:32 -0800 (PST) Message-ID: <690d7534.050a0220.39024.dc32SMTPIN_ADDED_MISSING@mx.google.com> Received: from [172.21.0.2] (unknown [172.18.0.240]) by postal.iol.unh.edu (Postfix) with ESMTP id 02D7A6051830; Thu, 6 Nov 2025 23:27:32 -0500 (EST) Subject: |SUCCESS| pw158493-158494 [PATCH] [v4,2/2] net/mlx5: support PF repr From: dpdklab@iol.unh.edu To: Test Report Cc: dpdk-test-reports@iol.unh.edu, Stephen Hemminger In-Reply-To: <20251106055246.360824-2-getelson@nvidia.com> References: <20251106055246.360824-2-getelson@nvidia.com> Content-Type: text/plain X-BeenThere: test-report@dpdk.org X-Mailman-Version: 2.1.29 Precedence: list List-Id: automatic DPDK test reports List-Unsubscribe: , List-Archive: List-Post: List-Help: List-Subscribe: , Errors-To: test-report-bounces@dpdk.org Test-Label: iol-compile-arm64-testing Test-Status: SUCCESS http://dpdk.org/patch/158494 _Testing PASS_ Submitter: Gregory Etelson Date: Thursday, November 06 2025 05:52:45 DPDK git baseline: Repo:dpdk-next-net Branch: master CommitID:591ee7f468aebec30d68d30afa8d5e4dcfc897dc 158493-158494 --> testing pass Upstream job id: Generic-DPDK-Compile-Meson#441688 Test environment and result as below: +------------------------------+--------------------+ | Environment | dpdk_meson_compile | +==============================+====================+ | Ubuntu 20.04 | PASS | +------------------------------+--------------------+ | CentOS Stream 9 | PASS | +------------------------------+--------------------+ | Debian GNU/Linux 12 | PASS | +------------------------------+--------------------+ | Fedora Linux 42 | PASS | +------------------------------+--------------------+ | Red Hat Enterprise Linux 9.5 | PASS | +------------------------------+--------------------+ | Ubuntu 22.04 | PASS | +------------------------------+--------------------+ | CentOS Stream 10 | PASS | +------------------------------+--------------------+ | Ubuntu 24.04 | PASS | +------------------------------+--------------------+ Ubuntu 20.04 Kernel: 5.15 Compiler: aarch64-linux-gnu-gcc gcc (Ubuntu 9.4.0-1ubuntu1~20.04.2) 9.4.0 CentOS Stream 9 Kernel: 5.4 Compiler: gcc gcc (GCC) 11.5.0 20240719 (Red Hat 11.5.0-11) Debian GNU/Linux 12 Kernel: 5.4 Compiler: gcc gcc (Debian 12.2.0-14+deb12u1) 12.2.0 Fedora Linux 42 Kernel: 5.4 Compiler: gcc gcc (GCC) 15.2.1 20250808 (Red Hat 15.2.1-1) Red Hat Enterprise Linux 9.5 Kernel: 5.4 Compiler: gcc gcc (GCC) 11.5.0 20240719 (Red Hat 11.5.0-2) Ubuntu 22.04 Kernel: 5.4 Compiler: gcc gcc (Ubuntu 11.4.0-1ubuntu1~22.04) 11.4.0 CentOS Stream 10 Kernel: 5.4 Compiler: gcc gcc (GCC) 14.2.1 20250110 (Red Hat 14.2.1-8) Ubuntu 24.04 Kernel: 5.4 Compiler: gcc gcc (Ubuntu 13.3.0-6ubuntu2~24.04) 13.3.0 To view detailed results, visit: https://lab.dpdk.org/results/dashboard/patchsets/34494/ UNH-IOL DPDK Community Lab To manage your email subscriptions, visit: https://lab.dpdk.org/results/dashboard/preferences/subscriptions/