From mboxrd@z Thu Jan 1 00:00:00 1970 Return-Path: Received: from mails.dpdk.org (mails.dpdk.org [217.70.189.124]) by inbox.dpdk.org (Postfix) with ESMTP id E8BD048A8C for ; Fri, 7 Nov 2025 05:28:45 +0100 (CET) Received: from mails.dpdk.org (localhost [127.0.0.1]) by mails.dpdk.org (Postfix) with ESMTP id E26BA40264; Fri, 7 Nov 2025 05:28:45 +0100 (CET) Received: from mail-oo1-f99.google.com (mail-oo1-f99.google.com [209.85.161.99]) by mails.dpdk.org (Postfix) with ESMTP id 128A040264 for ; Fri, 7 Nov 2025 05:28:45 +0100 (CET) Received: by mail-oo1-f99.google.com with SMTP id 006d021491bc7-656b1f906f8so183805eaf.1 for ; Thu, 06 Nov 2025 20:28:45 -0800 (PST) DKIM-Signature: v=1; a=rsa-sha256; c=relaxed/relaxed; d=iol.unh.edu; s=unh-iol; t=1762489724; x=1763094524; darn=dpdk.org; h=references:in-reply-to:cc:to:from:subject:message-id:date:from:to :cc:subject:date:message-id:reply-to; bh=b+Y6cLgMwIOmq/4Jo6YgPlKDlnc6G7tW4sMA/ixKOYI=; b=aZ1t6X7+5ww9H8zUyCEwXQApDKToQGepM1luCra1z5gJg2gjy6BtTK7luxMul0Lh9z wSUEVmLgMPGcNAcDvWdpkll/gMM5W/2P8iVVE4XA12+ZjcXR9gRSHDlbAc+vgB+TxCl3 zap59OdsFe0ykz5qUKdpjuzV4NjcOXAWOAOgo= X-Google-DKIM-Signature: v=1; a=rsa-sha256; c=relaxed/relaxed; d=1e100.net; s=20230601; t=1762489724; x=1763094524; h=references:in-reply-to:cc:to:from:subject:message-id:date:x-gm-gg :x-gm-message-state:from:to:cc:subject:date:message-id:reply-to; bh=b+Y6cLgMwIOmq/4Jo6YgPlKDlnc6G7tW4sMA/ixKOYI=; b=F2Fg6oh2DO3G3Dj/+ARSK7PzV4OY/nqC1FoxuAteSRE8rd77knn2NNxCBVf4SF2q06 M16tZy38VpPmKqdvmdnu/779kosnex6RbunIKwytePS9Uh3Q0IrYHnMh6wIXX9Nb5FxQ pgrcQOW+y2Ime/juzwC223p/IgjoJ0wAN6OvJbjumO4yh+PNFovJoj0w1lk8CD547Gqk pukO3mEzeb0FgUn0DFUV1NQjq/2UKAuvDbXtpM7WDP7hu6jKa97uSen7lKn0Y42lYQFp a7rK8hMxS17k/Q5/PkTzJpEzGinYMJJS1g7EhXb/hkeQM/tzHXXiajfMSFQS07cFpM2R JmRg== X-Gm-Message-State: AOJu0Yxa7aKYZijLhOrVAokVzT+yoUqo479ylC9chkYQ2kIasSNY/6SW bhVnnqYLtK+Rttjlz9mJyRWFWEGqkjorNqlAcTBmpws/Fg6cTKrtf3UBukuTYLBUKQA0tyTxsGa XAeu0Z8oKtWL4RN85SRS1/8QrLW84D7Az3PyjPM7kzQPs X-Gm-Gg: ASbGncsjlHH2d3c6bZnezE51s6kJFxdXn59+lG9dvGoxuL2m5UksOHXRXzT8rLPDJqY xFJUDzCJzNhU3cQrnN8RPQ/gFmrHg4Jzwc/aYSMyAlDdyO+oiNV7gePTqdiEdLLBs+nuSAIGgp0 tAtEGXKL6vMj/TNNqqQnUZE59qhzBpkLmgzwZigU74nGtBTdG3UXBKeKSZmjCxXd4RB3VCYYFjj o+Gc/jTgdkbxO1BPw0qen60lZIkg5ML7tGX63Dv5oXUyo1IUB1Xz4MIuBa9UP6CAeLkxwf4uVIB RPZtbnLZDXs7sBmewAsuJO7gUGHP8URqfh1d61DpubggM1vFcoc9HgMkwPmD5KlTRvSEl4UIqxP unqQA+1woqO2PyFwwvtq8CwLmGiyuruI= X-Google-Smtp-Source: AGHT+IFlAEbqnY1NOpvO9xsgrg6kEFx7EI/ULKbl0mrrfvy2fO9bTuvlcVEvnf/Q6fm7LIz56hO5lPzGB/my X-Received: by 2002:a05:6820:1890:b0:638:3df8:c802 with SMTP id 006d021491bc7-656cdde6a26mr1143452eaf.5.1762489723964; Thu, 06 Nov 2025 20:28:43 -0800 (PST) Received: from postal.iol.unh.edu (postal.iol.unh.edu. [132.177.123.84]) by smtp-relay.gmail.com with ESMTPS id 006d021491bc7-656c565b0a0sm276140eaf.2.2025.11.06.20.28.43 (version=TLS1_2 cipher=ECDHE-ECDSA-AES128-GCM-SHA256 bits=128/128); Thu, 06 Nov 2025 20:28:43 -0800 (PST) X-Relaying-Domain: iol.unh.edu Date: Thu, 06 Nov 2025 20:28:43 -0800 (PST) Message-ID: <690d757b.050a0220.39a7b3.e331SMTPIN_ADDED_MISSING@mx.google.com> Received: from [172.21.0.2] (unknown [172.18.0.240]) by postal.iol.unh.edu (Postfix) with ESMTP id 7C2AE6051830; Thu, 6 Nov 2025 23:28:43 -0500 (EST) Subject: |SUCCESS| pw158492 [PATCH] [v2] check-spdk: check that tag is on fir From: dpdklab@iol.unh.edu To: Test Report Cc: dpdk-test-reports@iol.unh.edu In-Reply-To: <20251106012200.921242-1-stephen@networkplumber.org> References: <20251106012200.921242-1-stephen@networkplumber.org> Content-Type: text/plain X-BeenThere: test-report@dpdk.org X-Mailman-Version: 2.1.29 Precedence: list List-Id: automatic DPDK test reports List-Unsubscribe: , List-Archive: List-Post: List-Help: List-Subscribe: , Errors-To: test-report-bounces@dpdk.org Test-Label: iol-compile-arm64-testing Test-Status: SUCCESS http://dpdk.org/patch/158492 _Testing PASS_ Submitter: Stephen Hemminger Date: Thursday, November 06 2025 01:22:00 DPDK git baseline: Repo:dpdk Branch: master CommitID:87f7895e470c13e13efd6762d701139d0987294a 158492 --> testing pass Upstream job id: Generic-DPDK-Compile-Meson#441712 Test environment and result as below: +------------------------------+--------------------+ | Environment | dpdk_meson_compile | +==============================+====================+ | Ubuntu 20.04 | PASS | +------------------------------+--------------------+ | Fedora Linux 42 | PASS | +------------------------------+--------------------+ | Debian GNU/Linux 12 | PASS | +------------------------------+--------------------+ | Red Hat Enterprise Linux 9.5 | PASS | +------------------------------+--------------------+ | Ubuntu 24.04 | PASS | +------------------------------+--------------------+ | Ubuntu 22.04 | PASS | +------------------------------+--------------------+ | CentOS Stream 9 | PASS | +------------------------------+--------------------+ | CentOS Stream 10 | PASS | +------------------------------+--------------------+ Ubuntu 20.04 Kernel: 5.15 Compiler: aarch64-linux-gnu-gcc gcc (Ubuntu 9.4.0-1ubuntu1~20.04.2) 9.4.0 Fedora Linux 42 Kernel: 5.4 Compiler: gcc gcc (GCC) 15.2.1 20250808 (Red Hat 15.2.1-1) Debian GNU/Linux 12 Kernel: 5.4 Compiler: gcc gcc (Debian 12.2.0-14+deb12u1) 12.2.0 Red Hat Enterprise Linux 9.5 Kernel: 5.4 Compiler: gcc gcc (GCC) 11.5.0 20240719 (Red Hat 11.5.0-2) Ubuntu 24.04 Kernel: 5.4 Compiler: gcc gcc (Ubuntu 13.3.0-6ubuntu2~24.04) 13.3.0 Ubuntu 22.04 Kernel: 5.4 Compiler: gcc gcc (Ubuntu 11.4.0-1ubuntu1~22.04) 11.4.0 CentOS Stream 9 Kernel: 5.4 Compiler: gcc gcc (GCC) 11.5.0 20240719 (Red Hat 11.5.0-11) CentOS Stream 10 Kernel: 5.4 Compiler: gcc gcc (GCC) 14.2.1 20250110 (Red Hat 14.2.1-8) To view detailed results, visit: https://lab.dpdk.org/results/dashboard/patchsets/34495/ UNH-IOL DPDK Community Lab To manage your email subscriptions, visit: https://lab.dpdk.org/results/dashboard/preferences/subscriptions/