From mboxrd@z Thu Jan 1 00:00:00 1970 Return-Path: Received: from mails.dpdk.org (mails.dpdk.org [217.70.189.124]) by inbox.dpdk.org (Postfix) with ESMTP id 3D0D948A8C for ; Fri, 7 Nov 2025 05:30:45 +0100 (CET) Received: from mails.dpdk.org (localhost [127.0.0.1]) by mails.dpdk.org (Postfix) with ESMTP id 1F60C40264; Fri, 7 Nov 2025 05:30:45 +0100 (CET) Received: from mail-il1-f226.google.com (mail-il1-f226.google.com [209.85.166.226]) by mails.dpdk.org (Postfix) with ESMTP id D01BA40264 for ; Fri, 7 Nov 2025 05:30:43 +0100 (CET) Received: by mail-il1-f226.google.com with SMTP id e9e14a558f8ab-4332b4368ecso2885805ab.1 for ; Thu, 06 Nov 2025 20:30:43 -0800 (PST) DKIM-Signature: v=1; a=rsa-sha256; c=relaxed/relaxed; d=iol.unh.edu; s=unh-iol; t=1762489843; x=1763094643; darn=dpdk.org; h=references:in-reply-to:cc:to:from:subject:message-id:date:from:to :cc:subject:date:message-id:reply-to; bh=XbJZau9zDRAaxdde/xOWAuxnejdf9QI3JKWkIuliCIo=; b=IXbA/VGq6RhViOjNpCLmk6hdhJsjzJZdD5122c9jCtpApzsXRiJKX1eQmJiIez+KnZ PWiMhf/sz15n3DyPcTUVDzjgqe72MpV5G1Ngo0Qmc40OnzbIPusqV3eoYkubxGHj9h9x m8HTswqqSAycNErG+zA48/XCpjK4JBgPFKLqc= X-Google-DKIM-Signature: v=1; a=rsa-sha256; c=relaxed/relaxed; d=1e100.net; s=20230601; t=1762489843; x=1763094643; h=references:in-reply-to:cc:to:from:subject:message-id:date:x-gm-gg :x-gm-message-state:from:to:cc:subject:date:message-id:reply-to; bh=XbJZau9zDRAaxdde/xOWAuxnejdf9QI3JKWkIuliCIo=; b=dfS2kF0/BJ1A+dy1HZktzuFsOg9658HhURL5DgPt79DyFcJznI0OJQXkokUgB6IgvT eNyTBsG3fRSy9qWurjWXpKEHgGm8kBvgF2LUwOU3Y8Za7X1fw78Ni/ZlrTXOBuq85Yaq RcDEc8BAjbY8Ks0q7flhW+UG6WsJ2dOlLbrwaLDOgWk/Ka2kkz67/2tj3EpcZI16FACF FakiNIEapabAhJrFOBfENXRXVomGB39vYRj4uW/4Ti/sgxVOjWq9d7fJd79SjlPY7ieS BfLYGC68RgjLB7DLC/nPh1k5YKnLWMUpFpKUZAVy+pL74HAOCgq1kFKbNwfiKm4pl1Yf QVyw== X-Gm-Message-State: AOJu0Yy51BAAdAJVlzh5YU5GBXrigS11nR+3hQ2e0Ssz28cLkco+wnkp Il3OBsY9bMDqgJUzYAbQHZozHoP2cf2SHO1I2KmtDuTWafMn2WzWjFsLsJRGkncCNcjW8CQM29w sSWJtvvl+xa8fBweRGu2//PZKgBBnX/9ZKDRN/0y7Qmj8 X-Gm-Gg: ASbGncsej+AubWBRbwTtZ0wPjnHQN77FLCQZRJfcTjnmZRVLf/KrN5tvNaAkfOsompa lRUoPFIcB0a4o2x8j4idPs6HxuMslc/GKusFobAuTKx+2RdEpHdyPPaVtWb/mQ9oQvg+C73/wHf kY3ZS3qpSMLC57o55nqBWEXFfS7XW2O7S6BRRWhKpniX5A9xd8WVuSkhHQcggLN5pZ90jgzn296 lgPCgS7lew1z5t3FbVUGB0aRWt6ECTBf4psNz0tg/MmMSA6rvxh1w9L/tLE3SoiQ+j/I06KU7/Y KqwUnijv9kbtLfpcmfB3N7ZnbW9PJ5z55FOjd6gk7c2DyKH537L8MdJIF+nJizr8ZITOP6Fx5H2 gjvWizyU3CYxR0J+MfHpMBZmtrXBfZB8= X-Google-Smtp-Source: AGHT+IHxPEfSsnfxAFG3/XAXgzv+AGobbnJZRpViDC3gQLO+FoU0sjYyFbixPWwRq3C4x/x/3UCyf9T3p56n X-Received: by 2002:a05:6e02:1d8d:b0:433:2240:a516 with SMTP id e9e14a558f8ab-4335f48bfb8mr28787545ab.30.1762489843193; Thu, 06 Nov 2025 20:30:43 -0800 (PST) Received: from postal.iol.unh.edu (postal.iol.unh.edu. [132.177.123.84]) by smtp-relay.gmail.com with ESMTPS id e9e14a558f8ab-4334f4bca2dsm3495075ab.26.2025.11.06.20.30.43 (version=TLS1_2 cipher=ECDHE-ECDSA-AES128-GCM-SHA256 bits=128/128); Thu, 06 Nov 2025 20:30:43 -0800 (PST) X-Relaying-Domain: iol.unh.edu Date: Thu, 06 Nov 2025 20:30:43 -0800 (PST) Message-ID: <690d75f3.050a0220.1ab7b2.220dSMTPIN_ADDED_MISSING@mx.google.com> Received: from [172.21.0.2] (unknown [172.18.0.240]) by postal.iol.unh.edu (Postfix) with ESMTP id D1C186051830; Thu, 6 Nov 2025 23:30:42 -0500 (EST) Subject: |SUCCESS| pw158483 [PATCH] [v2] dts: testpmd link check on port star From: dpdklab@iol.unh.edu To: Test Report Cc: dpdk-test-reports@iol.unh.edu In-Reply-To: <20251105194925.1507334-1-probb@iol.unh.edu> References: <20251105194925.1507334-1-probb@iol.unh.edu> Content-Type: text/plain X-BeenThere: test-report@dpdk.org X-Mailman-Version: 2.1.29 Precedence: list List-Id: automatic DPDK test reports List-Unsubscribe: , List-Archive: List-Post: List-Help: List-Subscribe: , Errors-To: test-report-bounces@dpdk.org Test-Label: iol-unit-amd64-testing Test-Status: SUCCESS http://dpdk.org/patch/158483 _Testing PASS_ Submitter: Patrick Robb Date: Wednesday, November 05 2025 19:49:25 DPDK git baseline: Repo:dpdk-next-dts Branch: master CommitID:4f35a61a6a5a31f822c3d7519e8a1de1b7cbd9c4 158483 --> testing pass Upstream job id: Generic-VM-Unit-Test-DPDK#32369 Test environment and result as below: +-------------------------------+----------------+ | Environment | dpdk_unit_test | +===============================+================+ | CentOS Stream 10 | PASS | +-------------------------------+----------------+ | Fedora Linux 41 | PASS | +-------------------------------+----------------+ | CentOS Stream 9 | PASS | +-------------------------------+----------------+ | Debian GNU/Linux 12 | PASS | +-------------------------------+----------------+ | Fedora Linux 42 | PASS | +-------------------------------+----------------+ | Fedora Linux 40 | PASS | +-------------------------------+----------------+ | Red Hat Enterprise Linux 9.5 | PASS | +-------------------------------+----------------+ | Ubuntu 20.04 | PASS | +-------------------------------+----------------+ | Red Hat Enterprise Linux 8.10 | PASS | +-------------------------------+----------------+ | Ubuntu 24.04 | PASS | +-------------------------------+----------------+ | Ubuntu 22.04 | PASS | +-------------------------------+----------------+ | Windows Server 2022 | PASS | +-------------------------------+----------------+ CentOS Stream 10 Kernel: 5.15 Compiler: gcc gcc (GCC) 14.2.1 20250110 (Red Hat 14.2.1-8) Fedora Linux 41 Kernel: 5.15 Compiler: clang gcc (GCC) 14.3.1 20250523 (Red Hat 14.3.1-1) CentOS Stream 9 Kernel: 5.15 Compiler: gcc gcc (GCC) 11.5.0 20240719 (Red Hat 11.5.0-11) Debian GNU/Linux 12 Kernel: 5.15 Compiler: gcc gcc (Debian 12.2.0-14+deb12u1) 12.2.0 Fedora Linux 42 Kernel: 5.15 Compiler: gcc gcc (GCC) 15.2.1 20250808 (Red Hat 15.2.1-1) Fedora Linux 40 Kernel: 5.15 Compiler: gcc gcc (GCC) 14.2.1 20240912 (Red Hat 14.2.1-3) Red Hat Enterprise Linux 9.5 Kernel: 5.15 Compiler: gcc gcc (GCC) 11.5.0 20240719 (Red Hat 11.5.0-2) Ubuntu 20.04 Kernel: 5.15 Compiler: gcc gcc (Ubuntu 9.4.0-1ubuntu1~20.04.2) 9.4.0 Red Hat Enterprise Linux 8.10 Kernel: 5.15 Compiler: gcc gcc (GCC) 8.5.0 20210514 (Red Hat 8.5.0-22) Ubuntu 24.04 Kernel: 5.15 Compiler: gcc gcc (Ubuntu 13.3.0-6ubuntu2~24.04) 13.3.0 Ubuntu 22.04 Kernel: 5.15 Compiler: gcc gcc (Ubuntu 11.4.0-1ubuntu1~22.04) 11.4.0 Windows Server 2022 Kernel: 10.0.20348.2031 Compiler: clang 15.0.7, gcc 14.1.0 (MinGW), and MSVC VS 19.39.33521 To view detailed results, visit: https://lab.dpdk.org/results/dashboard/patchsets/34500/ UNH-IOL DPDK Community Lab To manage your email subscriptions, visit: https://lab.dpdk.org/results/dashboard/preferences/subscriptions/