From mboxrd@z Thu Jan 1 00:00:00 1970 Return-Path: Received: from mails.dpdk.org (mails.dpdk.org [217.70.189.124]) by inbox.dpdk.org (Postfix) with ESMTP id B37FB48A8C for ; Fri, 7 Nov 2025 05:35:58 +0100 (CET) Received: from mails.dpdk.org (localhost [127.0.0.1]) by mails.dpdk.org (Postfix) with ESMTP id 8DA5E40264; Fri, 7 Nov 2025 05:35:58 +0100 (CET) Received: from mail-ua1-f97.google.com (mail-ua1-f97.google.com [209.85.222.97]) by mails.dpdk.org (Postfix) with ESMTP id E691440264 for ; Fri, 7 Nov 2025 05:35:56 +0100 (CET) Received: by mail-ua1-f97.google.com with SMTP id a1e0cc1a2514c-8e352f6c277so72547241.2 for ; Thu, 06 Nov 2025 20:35:56 -0800 (PST) DKIM-Signature: v=1; a=rsa-sha256; c=relaxed/relaxed; d=iol.unh.edu; s=unh-iol; t=1762490156; x=1763094956; darn=dpdk.org; h=references:in-reply-to:cc:to:from:subject:message-id:date:from:to :cc:subject:date:message-id:reply-to; bh=c+7KpTWwkNQt5YE9eVWiHAc4hdPo10aVwxYtblCeZho=; b=Gow7HqlDfZeVeFcwBDt22xlLLvSSeiwpf+nepgLoQvUsoqF0HBXkjCL0K8+H2B5Kw9 24vxvYqLgy+oY7zG5mAbvOlvsBs1+Nw5s99YqijVR4e06rq9j2Q0cDzdhJkJUMYld3BV tOGraOBS8GYxK0mWHZrGbDnGR5KYsi4JwD8CA= X-Google-DKIM-Signature: v=1; a=rsa-sha256; c=relaxed/relaxed; d=1e100.net; s=20230601; t=1762490156; x=1763094956; h=references:in-reply-to:cc:to:from:subject:message-id:date:x-gm-gg :x-gm-message-state:from:to:cc:subject:date:message-id:reply-to; bh=c+7KpTWwkNQt5YE9eVWiHAc4hdPo10aVwxYtblCeZho=; b=IfdOMPQXMX/A+L8eduvFSS8w4lltEKmPpmSdmEgjtC/B9ogzluWj6IBDA4++KyvNUs mJn9OmehL76XJ0NAbOD2qV9/jilAhKPNROm+oYxjA5zhbX/F3zhDFDZstHN17jrQTCJE fg0kASK0Xvx+V5oSMk727vTggBdejIm32llo0o/o6OgddK3asHHTytmN5PGkIKCCPk9Z fMnjPqD8/CaHFiS9cpQIIqH9WYgBvVIfAjF1k+qM4ipEE2qIdH/MQUpDh7F7alh/jUUs 6CL7KHeBWSX+z0ors2O8tXnSHZMBaWzZvrs0jE8z2GB89URZ2yx6C9hy6Lol0NC8HBiZ IUKQ== X-Gm-Message-State: AOJu0YxkNR0L/p+fT6yhK2JpMW6B8QrT/a+En3BQENoALwV2JZTGBOUD /+F8zmvBjMfTqk+rU/S5TlrxMR3PuxdKeY1pYQbD2b2eUYZck/D9t2BcbpUkD+CUMv/Bqj02AVg nJojFMGNbzgvx9XU3hhAQ2cGq/PUi5VqxvCX+lNcxt2Wrbw/SRSrVtEegKSaz X-Gm-Gg: ASbGnctt8IhsPzUuX2bVZwLXT8oBsJv/ROcqCTOfZ9JmFunBKSgGCNsUFXCNsJfA0U8 PuKXKsPwpAlqZZG57HT2gljFOBKHt417LAiWgygwKoKZ8zqdFwW4kceLTSVxrnRYkYyTxBDDGSM GkjD2LMxnFUpoeUTuDEQVsbDyTkiSkk8iQLJO9INIX8VEQnmN91zPHh48x6GF5uQarBWGiOrd7y GZl3alET+jY8pNDarqjablsnbGrArisUaUkpzxzkjdIKSirNqpDx7PQhI2QyKe5y5QQTP1zArxQ UScs0CNzYUXKo8lq/YjKpqqZ8jGQMlYu2P82IQs2xFZ0J4xI92gpgHsZp7KhjjnaE/jF57xEmXd X0kMqJUYX X-Google-Smtp-Source: AGHT+IF0tWeMnBicJ1wtWpj9vw82SButxwBDyf72BUEA7s3SaUOi281ypx8qVi36uwEB/UDwYoBVn8VzmB4N X-Received: by 2002:a05:6102:26d0:b0:5db:dd12:3d16 with SMTP id ada2fe7eead31-5ddb20e80cfmr625832137.6.1762490156096; Thu, 06 Nov 2025 20:35:56 -0800 (PST) Received: from postal.iol.unh.edu (postal.iol.unh.edu. [2606:4100:3880:1234::84]) by smtp-relay.gmail.com with ESMTPS id ada2fe7eead31-5dda1d11997sm371421137.1.2025.11.06.20.35.56 (version=TLS1_2 cipher=ECDHE-ECDSA-AES128-GCM-SHA256 bits=128/128); Thu, 06 Nov 2025 20:35:56 -0800 (PST) X-Relaying-Domain: iol.unh.edu Date: Thu, 06 Nov 2025 20:35:56 -0800 (PST) Message-ID: <690d772c.050a0220.25b8a3.30adSMTPIN_ADDED_MISSING@mx.google.com> Received: from [172.21.0.2] (unknown [172.18.0.240]) by postal.iol.unh.edu (Postfix) with ESMTP id 8FB816051830; Thu, 6 Nov 2025 23:35:55 -0500 (EST) Subject: |SUCCESS| pw158483 [PATCH] [v2] dts: testpmd link check on port star From: dpdklab@iol.unh.edu To: Test Report Cc: dpdk-test-reports@iol.unh.edu In-Reply-To: <20251105194925.1507334-1-probb@iol.unh.edu> References: <20251105194925.1507334-1-probb@iol.unh.edu> Content-Type: text/plain X-BeenThere: test-report@dpdk.org X-Mailman-Version: 2.1.29 Precedence: list List-Id: automatic DPDK test reports List-Unsubscribe: , List-Archive: List-Post: List-Help: List-Subscribe: , Errors-To: test-report-bounces@dpdk.org Test-Label: iol-unit-amd64-testing Test-Status: SUCCESS http://dpdk.org/patch/158483 _Testing PASS_ Submitter: Patrick Robb Date: Wednesday, November 05 2025 19:49:25 DPDK git baseline: Repo:dpdk-next-dts Branch: master CommitID:4f35a61a6a5a31f822c3d7519e8a1de1b7cbd9c4 158483 --> testing pass Upstream job id: Generic-VM-Unit-Test-DPDK#32370 Test environment and result as below: +-------------------------------+----------------+ | Environment | dpdk_unit_test | +===============================+================+ | CentOS Stream 10 | PASS | +-------------------------------+----------------+ | Fedora Linux 41 | PASS | +-------------------------------+----------------+ | CentOS Stream 9 | PASS | +-------------------------------+----------------+ | Debian GNU/Linux 12 | PASS | +-------------------------------+----------------+ | Fedora Linux 42 | PASS | +-------------------------------+----------------+ | Fedora Linux 40 | PASS | +-------------------------------+----------------+ | Red Hat Enterprise Linux 9.5 | PASS | +-------------------------------+----------------+ | Ubuntu 20.04 | PASS | +-------------------------------+----------------+ | Red Hat Enterprise Linux 8.10 | PASS | +-------------------------------+----------------+ | Ubuntu 24.04 | PASS | +-------------------------------+----------------+ | Ubuntu 22.04 | PASS | +-------------------------------+----------------+ | Windows Server 2022 | PASS | +-------------------------------+----------------+ CentOS Stream 10 Kernel: 5.15 Compiler: gcc gcc (GCC) 14.2.1 20250110 (Red Hat 14.2.1-8) Fedora Linux 41 Kernel: 5.15 Compiler: clang gcc (GCC) 14.3.1 20250523 (Red Hat 14.3.1-1) CentOS Stream 9 Kernel: 5.15 Compiler: gcc gcc (GCC) 11.5.0 20240719 (Red Hat 11.5.0-11) Debian GNU/Linux 12 Kernel: 5.15 Compiler: gcc gcc (Debian 12.2.0-14+deb12u1) 12.2.0 Fedora Linux 42 Kernel: 5.15 Compiler: gcc gcc (GCC) 15.2.1 20250808 (Red Hat 15.2.1-1) Fedora Linux 40 Kernel: 5.15 Compiler: gcc gcc (GCC) 14.2.1 20240912 (Red Hat 14.2.1-3) Red Hat Enterprise Linux 9.5 Kernel: 5.15 Compiler: gcc gcc (GCC) 11.5.0 20240719 (Red Hat 11.5.0-2) Ubuntu 20.04 Kernel: 5.15 Compiler: gcc gcc (Ubuntu 9.4.0-1ubuntu1~20.04.2) 9.4.0 Red Hat Enterprise Linux 8.10 Kernel: 5.15 Compiler: gcc gcc (GCC) 8.5.0 20210514 (Red Hat 8.5.0-22) Ubuntu 24.04 Kernel: 5.15 Compiler: gcc gcc (Ubuntu 13.3.0-6ubuntu2~24.04) 13.3.0 Ubuntu 22.04 Kernel: 5.15 Compiler: gcc gcc (Ubuntu 11.4.0-1ubuntu1~22.04) 11.4.0 Windows Server 2022 Kernel: 10.0.20348.2031 Compiler: clang 15.0.7, gcc 14.1.0 (MinGW), and MSVC VS 19.39.33521 To view detailed results, visit: https://lab.dpdk.org/results/dashboard/patchsets/34500/ UNH-IOL DPDK Community Lab To manage your email subscriptions, visit: https://lab.dpdk.org/results/dashboard/preferences/subscriptions/