From mboxrd@z Thu Jan 1 00:00:00 1970 Return-Path: Received: from mails.dpdk.org (mails.dpdk.org [217.70.189.124]) by inbox.dpdk.org (Postfix) with ESMTP id 91ACB48A8C for ; Fri, 7 Nov 2025 05:56:09 +0100 (CET) Received: from mails.dpdk.org (localhost [127.0.0.1]) by mails.dpdk.org (Postfix) with ESMTP id 680A64021F; Fri, 7 Nov 2025 05:56:09 +0100 (CET) Received: from mail-yx1-f99.google.com (mail-yx1-f99.google.com [74.125.224.99]) by mails.dpdk.org (Postfix) with ESMTP id CE4504021F for ; Fri, 7 Nov 2025 05:56:07 +0100 (CET) Received: by mail-yx1-f99.google.com with SMTP id 956f58d0204a3-640c857ce02so137389d50.0 for ; Thu, 06 Nov 2025 20:56:07 -0800 (PST) DKIM-Signature: v=1; a=rsa-sha256; c=relaxed/relaxed; d=iol.unh.edu; s=unh-iol; t=1762491367; x=1763096167; darn=dpdk.org; h=references:in-reply-to:cc:to:from:subject:message-id:date:from:to :cc:subject:date:message-id:reply-to; bh=s/0dcZMP0Tvw1lISAvNxLkkZJCTGpX5+tZvIy7qPqyI=; b=bjtQm+n7N2698fWnXYFsf4PSi6imozy0/jQT0W1Sk3GuNXwnVi4Hki9tGOgDlZZITJ QO9d2z8PWHh7ZIx5Hcf9T02dLKzcvfRl1RggGTUSNSxjWxmi+yPzTBXvDEkTwy/srmHb TpBFxAL67Ul8jOs4Zsw8Xr1Q4C2UbFN7ksQzA= X-Google-DKIM-Signature: v=1; a=rsa-sha256; c=relaxed/relaxed; d=1e100.net; s=20230601; t=1762491367; x=1763096167; h=references:in-reply-to:cc:to:from:subject:message-id:date:x-gm-gg :x-gm-message-state:from:to:cc:subject:date:message-id:reply-to; bh=s/0dcZMP0Tvw1lISAvNxLkkZJCTGpX5+tZvIy7qPqyI=; b=Xsk/bSLRCOgCAsyrKNiD9ppQYYpapyXWFk79fKUG7tl0jTifpL0d1U1e+QDpuJqauQ 4tLvW3UmKqL8Ww1HqCJfiAmrjaa5sWBGxAV3DqcWhmNl6X+AoUtxGR4gCNmRrHbpQ8If CX+ZxdBLMwhuMKzTu0a2oPiVKtuAUMM04zpNFcS+uo2Qt9ak2FsktygjFL01YJdv5kF1 HD+/9EhHgsgkJwY5ZWK//em8SfBMPuDclyz89kaWRvbczoO4VXjjh7uf5jepDpeM+69q O6EiVMN7UtWJojy4qydICIud5r49eMNiKYK9Kv52x6W0kdUdunWYXQnrlL+9jgQV38E0 bImQ== X-Gm-Message-State: AOJu0YyuVwEjhBSs/GmSvyTI0+Da/vFSLd/LC5YJkUfe2IMa149dbo6u A8d5nOeNP/kTW+l+2ED26SFrg1cJEMfU56TveEswnVsgn31BaTet0EWbxBgdwPU2CIeKhsGfAtF SBbHAfbRtxhbtAj18eqKLuQ8M4V5Yq12B5/pgLD9TRyIPIV7uSf5VvcIwN9QW X-Gm-Gg: ASbGnctbXOD2vciSR5CrMk+qIYJZoudFK0cDydHUCzezSxInmWNK+qrThRCSd5Xmj2y qYthOE0jYI3cjWSKTeYlsnYyowhLwwqU261qzDdkXnp5s4mryoG/Z+E0iukWm5h3YZVgVM6pv+q 3zJiAPPqTBTLKZgk1ev/fhC8dbEGOIwPwb5q2+OKkOye1FuMKFFK9/Qqt01hBvYT+hPmZHxRhG+ 3UMzGHe8LlVo+1ST/pizrhx3VZp6iVyZALrnJrgbAuJ+Q3cpi2X0JDCiMvXnGUlUZoF5kua4O4s zZFELHV+RG5wmc8JlfDH30ECMgZ+km2kiVsC1bPVTu5xM7aoihzEhLhkXAwxv8GrQUv3JGi//2n 2VA2m9mE6 X-Google-Smtp-Source: AGHT+IGHy4LI1vHANsccWSNGaqlmRNuvjD/HrqSu1x70giP8HSiP0j16JJgQmTztt+sDyy9ZjXAQhwsj39Nc X-Received: by 2002:a05:690e:15d4:b0:63f:ba88:e905 with SMTP id 956f58d0204a3-640c420de99mr1415886d50.30.1762491367125; Thu, 06 Nov 2025 20:56:07 -0800 (PST) Received: from postal.iol.unh.edu (postal.iol.unh.edu. [2606:4100:3880:1234::84]) by smtp-relay.gmail.com with ESMTPS id 00721157ae682-787b1d31bc8sm2370637b3.16.2025.11.06.20.56.07 (version=TLS1_2 cipher=ECDHE-ECDSA-AES128-GCM-SHA256 bits=128/128); Thu, 06 Nov 2025 20:56:07 -0800 (PST) X-Relaying-Domain: iol.unh.edu Date: Thu, 06 Nov 2025 20:56:07 -0800 (PST) Message-ID: <690d7be7.050a0220.b088a.c78eSMTPIN_ADDED_MISSING@mx.google.com> Received: from [172.21.0.2] (unknown [172.18.0.240]) by postal.iol.unh.edu (Postfix) with ESMTP id CD3BA60003F4; Thu, 6 Nov 2025 23:56:06 -0500 (EST) Subject: |SUCCESS| pw158534 [PATCH] [v4] app/testpmd: support specify TCs whe From: dpdklab@iol.unh.edu To: Test Report Cc: dpdk-test-reports@iol.unh.edu, Stephen Hemminger In-Reply-To: <20251107005357.5682-1-fengchengwen@huawei.com> References: <20251107005357.5682-1-fengchengwen@huawei.com> Content-Type: text/plain X-BeenThere: test-report@dpdk.org X-Mailman-Version: 2.1.29 Precedence: list List-Id: automatic DPDK test reports List-Unsubscribe: , List-Archive: List-Post: List-Help: List-Subscribe: , Errors-To: test-report-bounces@dpdk.org Test-Label: iol-compile-amd64-testing Test-Status: SUCCESS http://dpdk.org/patch/158534 _Testing PASS_ Submitter: fengchengwen Date: Friday, November 07 2025 00:53:57 DPDK git baseline: Repo:dpdk-next-net Branch: master CommitID:591ee7f468aebec30d68d30afa8d5e4dcfc897dc 158534 --> testing pass Upstream job id: Windows-Compile-DPDK-VS#7460 Test environment and result as below: +-------------------------------+--------------------+------------------+-------------------+ | Environment | dpdk_meson_compile | dpdk_compile_ovs | dpdk_msvc_compile | +===============================+====================+==================+===================+ | Ubuntu 20.04 | PASS | SKIPPED | SKIPPED | +-------------------------------+--------------------+------------------+-------------------+ | FreeBSD 14.2 | PASS | SKIPPED | SKIPPED | +-------------------------------+--------------------+------------------+-------------------+ | CentOS Stream 9 | PASS | SKIPPED | SKIPPED | +-------------------------------+--------------------+------------------+-------------------+ | CentOS Stream 10 | PASS | SKIPPED | SKIPPED | +-------------------------------+--------------------+------------------+-------------------+ | Debian GNU/Linux 12 | PASS | SKIPPED | SKIPPED | +-------------------------------+--------------------+------------------+-------------------+ | Fedora Linux 42 | PASS | PASS | SKIPPED | +-------------------------------+--------------------+------------------+-------------------+ | openSUSE Leap 15.6 | PASS | SKIPPED | SKIPPED | +-------------------------------+--------------------+------------------+-------------------+ | Red Hat Enterprise Linux 8.10 | PASS | SKIPPED | SKIPPED | +-------------------------------+--------------------+------------------+-------------------+ | Red Hat Enterprise Linux 9.5 | PASS | SKIPPED | SKIPPED | +-------------------------------+--------------------+------------------+-------------------+ | Ubuntu 22.04 | PASS | SKIPPED | SKIPPED | +-------------------------------+--------------------+------------------+-------------------+ | Ubuntu 24.04 | PASS | PASS | SKIPPED | +-------------------------------+--------------------+------------------+-------------------+ | Alpine Linux 3.22.0 | PASS | SKIPPED | SKIPPED | +-------------------------------+--------------------+------------------+-------------------+ | Windows Server 2022 | SKIPPED | SKIPPED | PASS | +-------------------------------+--------------------+------------------+-------------------+ Ubuntu 20.04 Kernel: 4.19 Compiler: gcc gcc (Ubuntu 9.4.0-1ubuntu1~20.04.2) 9.4.0 FreeBSD 14.2 Kernel: 14.2-RELEASE Compiler: clang 18.1.6 CentOS Stream 9 Kernel: 5.15 Compiler: gcc gcc (GCC) 11.5.0 20240719 (Red Hat 11.5.0-11) CentOS Stream 10 Kernel: 5.15 Compiler: gcc gcc (GCC) 14.2.1 20250110 (Red Hat 14.2.1-8) Debian GNU/Linux 12 Kernel: 5.15 Compiler: gcc gcc (Debian 12.2.0-14+deb12u1) 12.2.0 Fedora Linux 42 Kernel: 5.15 Compiler: clang gcc (GCC) 15.2.1 20250808 (Red Hat 15.2.1-1) openSUSE Leap 15.6 Kernel: 5.15 Compiler: gcc gcc (SUSE Linux) 7.5.0 Red Hat Enterprise Linux 8.10 Kernel: 5.15 Compiler: gcc gcc (GCC) 8.5.0 20210514 (Red Hat 8.5.0-22) Red Hat Enterprise Linux 9.5 Kernel: 5.15 Compiler: gcc gcc (GCC) 11.5.0 20240719 (Red Hat 11.5.0-2) Ubuntu 22.04 Kernel: 5.15 Compiler: gcc gcc (Ubuntu 11.4.0-1ubuntu1~22.04) 11.4.0 Ubuntu 24.04 Kernel: 5.15 Compiler: gcc gcc (Ubuntu 13.3.0-6ubuntu2~24.04) 13.3.0 Alpine Linux 3.22.0 Kernel: 5.15 Compiler: gcc gcc (Alpine 14.2.0) 14.2.0 Windows Server 2022 Kernel: 10.0.20348.2031 Compiler: clang 15.0.7, gcc 14.1.0 (MinGW), and MSVC VS 19.39.33521 To view detailed results, visit: https://lab.dpdk.org/results/dashboard/patchsets/34502/ UNH-IOL DPDK Community Lab To manage your email subscriptions, visit: https://lab.dpdk.org/results/dashboard/preferences/subscriptions/