From mboxrd@z Thu Jan 1 00:00:00 1970 Return-Path: Received: from mails.dpdk.org (mails.dpdk.org [217.70.189.124]) by inbox.dpdk.org (Postfix) with ESMTP id DBFBE48A8C for ; Fri, 7 Nov 2025 05:59:42 +0100 (CET) Received: from mails.dpdk.org (localhost [127.0.0.1]) by mails.dpdk.org (Postfix) with ESMTP id B50B64021F; Fri, 7 Nov 2025 05:59:42 +0100 (CET) Received: from mail-pl1-f226.google.com (mail-pl1-f226.google.com [209.85.214.226]) by mails.dpdk.org (Postfix) with ESMTP id 21EA34021F for ; Fri, 7 Nov 2025 05:59:41 +0100 (CET) Received: by mail-pl1-f226.google.com with SMTP id d9443c01a7336-29470bc80ceso3794315ad.1 for ; Thu, 06 Nov 2025 20:59:41 -0800 (PST) DKIM-Signature: v=1; a=rsa-sha256; c=relaxed/relaxed; d=iol.unh.edu; s=unh-iol; t=1762491580; x=1763096380; darn=dpdk.org; h=references:in-reply-to:cc:to:from:subject:message-id:date:from:to :cc:subject:date:message-id:reply-to; bh=1AuTy7WKpiP5COTF0YQ2L2yL66JD0HyH2yBQ+VM/tMY=; b=R8g8VSI7P3Z+eAcKJnmua1vqoKLet83lwisprIfp1pjSsenPqA+M2Z0ulDCiYzQPDp 2gMMkX+uxOyCppRwViXB0CRh4hrMofVd5Ry5sRSqOxtxm8BsXRTP7hOe5vo3T7U55vfP w0zs9X1EhFpQenIo1PlbANjSRBKrE2o7rMmsU= X-Google-DKIM-Signature: v=1; a=rsa-sha256; c=relaxed/relaxed; d=1e100.net; s=20230601; t=1762491580; x=1763096380; h=references:in-reply-to:cc:to:from:subject:message-id:date:x-gm-gg :x-gm-message-state:from:to:cc:subject:date:message-id:reply-to; bh=1AuTy7WKpiP5COTF0YQ2L2yL66JD0HyH2yBQ+VM/tMY=; b=AC7iPPjGR2zEEkdvugC+zVXaNoiNN8gS0u8AQ7Q0lryyFkFeTL+5WC2BDfZhQG5gVb sIEg041WKU4zpiJ2iRfHXHHbbgjyUP07p+sOY7wJS2U47r4hPGMOYNzMG9/53QG8MNs+ 7ZSkV8VArlVZWy6wlZsSOKKL8HxAgP8VBcBfzP58QwJqZHmTcjQ1oDvrhJNHV33/m2nH Dx6W7f2yqlNJbT2c30D0m8Fka4YLUYwUX8h5DMbWQQ6E/yMB/NtSWpkkqxAMMChAU2Ud pozFl4i/PDZX0wyUAf0GBDulB20mE5ITs61F52TKu0cdZu0HHOik/WHBH6xqMapwGnSL doMw== X-Gm-Message-State: AOJu0YwKu9o98uTWPz/ymlX4zwI/1HrHO892Y2DiG5bcDwRX6eeWr+Sg 3pG18KxhDD4A16XTvfhJKFuET0F2LMqSNrupFTVm7Vk8UPBzRrTReZISouc2ZG4bkuE4aoyEJKs rvKqd8cKmyWCyX3xyWp/KOwH/K1g4rHDL82WKF4gVRn++ X-Gm-Gg: ASbGncsZ6E5Sgx5Emk+JCVUmrdKK4r33qh5V7ZVku004bjeBwYLBvTRCgHSHWC8pfBb VtK81qpP4lyLye3ibAjVZVXEaJP3g+n7a9/RZrjXRW+7ZeYg9LMjEyq4FAbg90H3QXvsi1hY7jb MeBq6qHJOK5G74Th9o+PDb2V+fcm5Pfw6pom+6Ez71qnyiZfniSsaLc1r3kcv64lYbpFKA2C0Ci oxzf//T5ZnHgqae2nGMAlzO7OKS5sBq3T5cENhWilFVOR6D13gDuTDbAhnaLd1C0AymJ2w1lhtJ MixpAMm50NR6WVbEM/7RH/fa78+Cub2q8LI62Z4V7BDMhd+N7NA3S2I3tDCtrhmD1o9CRua6gdX Tt7NvJVmPZygHLJntpMxekv+vZHGBwWo= X-Google-Smtp-Source: AGHT+IFpoegdWKYgcvvL/TuAhlsHBq+0LHm/wnyojdh2BAmvaK6zKQws/0m76tnoYrh6ZibF/gcYYH16ZXlH X-Received: by 2002:a17:903:b0d:b0:273:ef4c:60f3 with SMTP id d9443c01a7336-297c948ca96mr7258995ad.4.1762491580145; Thu, 06 Nov 2025 20:59:40 -0800 (PST) Received: from postal.iol.unh.edu (postal.iol.unh.edu. [132.177.123.84]) by smtp-relay.gmail.com with ESMTPS id d9443c01a7336-29651c6ad0esm3760095ad.34.2025.11.06.20.59.40 (version=TLS1_2 cipher=ECDHE-ECDSA-AES128-GCM-SHA256 bits=128/128); Thu, 06 Nov 2025 20:59:40 -0800 (PST) X-Relaying-Domain: iol.unh.edu Date: Thu, 06 Nov 2025 20:59:40 -0800 (PST) Message-ID: <690d7cbc.170a0220.3037f2.38a2SMTPIN_ADDED_MISSING@mx.google.com> Received: from [172.21.0.3] (unknown [172.18.0.240]) by postal.iol.unh.edu (Postfix) with ESMTP id 5944C6051830; Thu, 6 Nov 2025 23:59:39 -0500 (EST) Subject: |SUCCESS| pw158487-158489 [PATCH] [v6,3/3] dts: add performance test From: dpdklab@iol.unh.edu To: Test Report Cc: dpdk-test-reports@iol.unh.edu In-Reply-To: <20251105223628.1659390-4-probb@iol.unh.edu> References: <20251105223628.1659390-4-probb@iol.unh.edu> Content-Type: text/plain X-BeenThere: test-report@dpdk.org X-Mailman-Version: 2.1.29 Precedence: list List-Id: automatic DPDK test reports List-Unsubscribe: , List-Archive: List-Post: List-Help: List-Subscribe: , Errors-To: test-report-bounces@dpdk.org Test-Label: iol-compile-amd64-testing Test-Status: SUCCESS http://dpdk.org/patch/158489 _Testing PASS_ Submitter: Patrick Robb Date: Wednesday, November 05 2025 22:36:28 DPDK git baseline: Repo:dpdk-next-dts Branch: master CommitID:4f35a61a6a5a31f822c3d7519e8a1de1b7cbd9c4 158487-158489 --> testing pass Upstream job id: Windows-Compile-DPDK-Native#32191 Test environment and result as below: +-------------------------------+--------------------+------------------+-------------------+-------------------------+ | Environment | dpdk_meson_compile | dpdk_compile_ovs | dpdk_msvc_compile | dpdk_llvm_clang_compile | +===============================+====================+==================+===================+=========================+ | Ubuntu 20.04 | PASS | SKIPPED | SKIPPED | SKIPPED | +-------------------------------+--------------------+------------------+-------------------+-------------------------+ | FreeBSD 14.2 | PASS | SKIPPED | SKIPPED | SKIPPED | +-------------------------------+--------------------+------------------+-------------------+-------------------------+ | CentOS Stream 9 | PASS | SKIPPED | SKIPPED | SKIPPED | +-------------------------------+--------------------+------------------+-------------------+-------------------------+ | Debian GNU/Linux 12 | PASS | SKIPPED | SKIPPED | SKIPPED | +-------------------------------+--------------------+------------------+-------------------+-------------------------+ | CentOS Stream 10 | PASS | SKIPPED | SKIPPED | SKIPPED | +-------------------------------+--------------------+------------------+-------------------+-------------------------+ | Fedora Linux 42 | PASS | PASS | SKIPPED | SKIPPED | +-------------------------------+--------------------+------------------+-------------------+-------------------------+ | openSUSE Leap 15.6 | PASS | SKIPPED | SKIPPED | SKIPPED | +-------------------------------+--------------------+------------------+-------------------+-------------------------+ | Red Hat Enterprise Linux 8.10 | PASS | SKIPPED | SKIPPED | SKIPPED | +-------------------------------+--------------------+------------------+-------------------+-------------------------+ | Red Hat Enterprise Linux 9.5 | PASS | SKIPPED | SKIPPED | SKIPPED | +-------------------------------+--------------------+------------------+-------------------+-------------------------+ | Ubuntu 22.04 | PASS | SKIPPED | SKIPPED | SKIPPED | +-------------------------------+--------------------+------------------+-------------------+-------------------------+ | Ubuntu 24.04 | PASS | PASS | SKIPPED | SKIPPED | +-------------------------------+--------------------+------------------+-------------------+-------------------------+ | Alpine Linux 3.22.0 | PASS | SKIPPED | SKIPPED | SKIPPED | +-------------------------------+--------------------+------------------+-------------------+-------------------------+ | Windows Server 2022 | SKIPPED | SKIPPED | PASS | PASS | +-------------------------------+--------------------+------------------+-------------------+-------------------------+ Ubuntu 20.04 Kernel: 4.19 Compiler: gcc gcc (Ubuntu 9.4.0-1ubuntu1~20.04.2) 9.4.0 FreeBSD 14.2 Kernel: 14.2-RELEASE Compiler: clang 18.1.6 CentOS Stream 9 Kernel: 5.15 Compiler: gcc gcc (GCC) 11.5.0 20240719 (Red Hat 11.5.0-11) Debian GNU/Linux 12 Kernel: 5.15 Compiler: gcc gcc (Debian 12.2.0-14+deb12u1) 12.2.0 CentOS Stream 10 Kernel: 5.15 Compiler: gcc gcc (GCC) 14.2.1 20250110 (Red Hat 14.2.1-8) Fedora Linux 42 Kernel: 5.15 Compiler: clang gcc (GCC) 15.2.1 20250808 (Red Hat 15.2.1-1) openSUSE Leap 15.6 Kernel: 5.15 Compiler: gcc gcc (SUSE Linux) 7.5.0 Red Hat Enterprise Linux 8.10 Kernel: 5.15 Compiler: gcc gcc (GCC) 8.5.0 20210514 (Red Hat 8.5.0-22) Red Hat Enterprise Linux 9.5 Kernel: 5.15 Compiler: gcc gcc (GCC) 11.5.0 20240719 (Red Hat 11.5.0-2) Ubuntu 22.04 Kernel: 5.15 Compiler: gcc gcc (Ubuntu 11.4.0-1ubuntu1~22.04) 11.4.0 Ubuntu 24.04 Kernel: 5.15 Compiler: gcc gcc (Ubuntu 13.3.0-6ubuntu2~24.04) 13.3.0 Alpine Linux 3.22.0 Kernel: 5.15 Compiler: gcc gcc (Alpine 14.2.0) 14.2.0 Windows Server 2022 Kernel: 10.0.20348.2031 Compiler: clang 15.0.7, gcc 14.1.0 (MinGW), and MSVC VS 19.39.33521 To view detailed results, visit: https://lab.dpdk.org/results/dashboard/patchsets/34497/ UNH-IOL DPDK Community Lab To manage your email subscriptions, visit: https://lab.dpdk.org/results/dashboard/preferences/subscriptions/