From mboxrd@z Thu Jan 1 00:00:00 1970 Return-Path: Received: from mails.dpdk.org (mails.dpdk.org [217.70.189.124]) by inbox.dpdk.org (Postfix) with ESMTP id BC6DC48A8D for ; Fri, 7 Nov 2025 06:11:01 +0100 (CET) Received: from mails.dpdk.org (localhost [127.0.0.1]) by mails.dpdk.org (Postfix) with ESMTP id B84E14021F; Fri, 7 Nov 2025 06:11:01 +0100 (CET) Received: from mail-qk1-f228.google.com (mail-qk1-f228.google.com [209.85.222.228]) by mails.dpdk.org (Postfix) with ESMTP id 86A534021F for ; Fri, 7 Nov 2025 06:11:00 +0100 (CET) Received: by mail-qk1-f228.google.com with SMTP id af79cd13be357-8b2148ca40eso58087285a.1 for ; Thu, 06 Nov 2025 21:11:00 -0800 (PST) DKIM-Signature: v=1; a=rsa-sha256; c=relaxed/relaxed; d=iol.unh.edu; s=unh-iol; t=1762492260; x=1763097060; darn=dpdk.org; h=references:in-reply-to:cc:to:from:subject:message-id:date:from:to :cc:subject:date:message-id:reply-to; bh=HcTytNSRGfdhqE8Jinna3GaMEw1FjArbA0tR59KSc70=; b=KIoQFpO4bgMxNt0bzZ85SYmk0NBMlLLUQcEmI5ED1pWV1hejzeZC90xMIZJIZiPuGw qp0SKSJ7FBm5Qv5R5yaTInpERLfe5c7ROFMJWs/aNe7P+vhYqzb52IuF2TQMpbwcZAIq 8/dZNRSiqyEtcEKQgJrMsR62RGcBUSPfjKp9E= X-Google-DKIM-Signature: v=1; a=rsa-sha256; c=relaxed/relaxed; d=1e100.net; s=20230601; t=1762492260; x=1763097060; h=references:in-reply-to:cc:to:from:subject:message-id:date:x-gm-gg :x-gm-message-state:from:to:cc:subject:date:message-id:reply-to; bh=HcTytNSRGfdhqE8Jinna3GaMEw1FjArbA0tR59KSc70=; b=cTwfpQcIbW2Sc39qKH9k94LshQuqwLm5j3WnGy8LPhpdIWa5IMV6gPPcdf9ebPf66q h/vN18N9a/wgdM3v5Z3mcUSextMUntPWtzjYRmC9CFwVFIUkMgE5bNeMeK3dJYc3Wo61 J36d+Br31aMKrJsQefdhVY+Kl59gwFV7SAlYwJ+6209mFUXne3nDXv7brwHtMkIAyaRu Cj+Fa0j9MdVy/vASkuFUS+A7DF8l1cEwwdIjIgblOuDc1Uz44qTupMfIm0RZ3JR+5p7R Q6NaOn2PS0JklcRyVXtD8MleFqXbmls2jIqKaRKVyeTrhWiN6CQmpYT/5IZWTu+8TSqp 2PFw== X-Gm-Message-State: AOJu0YxgEBNqTHLbQCCb1N2cIBAgZZkM/BteYqPRtixBJs0Ij5T+86qW WoG8a76f1PHAj6iVEFA2RGN/zablZTRm6jD4nIVGY6QHZIUDBXAws4IQpHre+/i/JRl8kOdZOl/ uv9cSOJug4xp0Iv1rIw7fvcbpU6A1iscIaPzb9yQUEIhE X-Gm-Gg: ASbGnctJWE3CYoFmLOdof+RSg05+FOmkvPk4I09l2dz7eNAAplpkwqzYdpcyGuREAFa lqRih8Bt1/6OMW2Ax5nHfZdOo4R8YJac5k5HU+KEzeXjudH2sKEhG0xmWFhO3izRJbTGpIL0sw2 PV4b8VcZW4Zpi2Wvw4L97euW70SuIwa3XeQ/4nA70Gyo57/EQbwBcU/DnCQO5UUmAH0Z8VeZ3PG Ijzdsp2pjFT+y/5tDh79DKI+4pNV1bEkE8Ddx/FXIakpVCOLWH9fDofOZ4LD6wTCGEVV27oBAFI +K8yzd9lwK6KngGw3NVcUOhUWZ7xafl0g3GfGui7VcrSMY8O7j39svpr41MBnNjzB0eSHd0tGZO ho6YgyM9cU7nZOtkQzBU2BHlI3rhVEzE= X-Google-Smtp-Source: AGHT+IGaqiBoYaGwZTIxmiojCg1o1SE3+k6BnIUAJW0zY6VlOD9ViWarXjHoSIRUo516hK93UwvKEU/wOYlp X-Received: by 2002:a05:620a:710a:b0:86e:21a4:473e with SMTP id af79cd13be357-8b245274cc0mr254370885a.13.1762492259927; Thu, 06 Nov 2025 21:10:59 -0800 (PST) Received: from postal.iol.unh.edu (postal.iol.unh.edu. [132.177.123.84]) by smtp-relay.gmail.com with ESMTPS id af79cd13be357-8b2356b8bdbsm38664185a.6.2025.11.06.21.10.59 (version=TLS1_2 cipher=ECDHE-ECDSA-AES128-GCM-SHA256 bits=128/128); Thu, 06 Nov 2025 21:10:59 -0800 (PST) X-Relaying-Domain: iol.unh.edu Date: Thu, 06 Nov 2025 21:10:59 -0800 (PST) Message-ID: <690d7f63.050a0220.34120c.4993SMTPIN_ADDED_MISSING@mx.google.com> Received: from [172.21.0.15] (unknown [172.18.0.240]) by postal.iol.unh.edu (Postfix) with ESMTP id 10C546051830; Fri, 7 Nov 2025 00:10:59 -0500 (EST) Subject: |SUCCESS| pw158490-158491 [PATCH] [2/2] app/testpmd: fix wrong Rx qu From: dpdklab@iol.unh.edu To: Test Report Cc: dpdk-test-reports@iol.unh.edu, Stephen Hemminger In-Reply-To: <20251106002920.6162-3-fengchengwen@huawei.com> References: <20251106002920.6162-3-fengchengwen@huawei.com> Content-Type: text/plain X-BeenThere: test-report@dpdk.org X-Mailman-Version: 2.1.29 Precedence: list List-Id: automatic DPDK test reports List-Unsubscribe: , List-Archive: List-Post: List-Help: List-Subscribe: , Errors-To: test-report-bounces@dpdk.org Test-Label: iol-compile-arm64-testing Test-Status: SUCCESS http://dpdk.org/patch/158491 _Testing PASS_ Submitter: fengchengwen Date: Thursday, November 06 2025 00:29:20 DPDK git baseline: Repo:dpdk-next-net Branch: master CommitID:591ee7f468aebec30d68d30afa8d5e4dcfc897dc 158490-158491 --> testing pass Upstream job id: Generic-DPDK-Compile-Meson#441726 Test environment and result as below: +------------------------------+--------------------+ | Environment | dpdk_meson_compile | +==============================+====================+ | Red Hat Enterprise Linux 9.5 | PASS | +------------------------------+--------------------+ | Ubuntu 20.04 | PASS | +------------------------------+--------------------+ | Debian GNU/Linux 12 | PASS | +------------------------------+--------------------+ | Fedora Linux 42 | PASS | +------------------------------+--------------------+ | CentOS Stream 9 | PASS | +------------------------------+--------------------+ | Ubuntu 22.04 | PASS | +------------------------------+--------------------+ | Ubuntu 24.04 | PASS | +------------------------------+--------------------+ | CentOS Stream 10 | PASS | +------------------------------+--------------------+ Red Hat Enterprise Linux 9.5 Kernel: 5.4 Compiler: gcc gcc (GCC) 11.5.0 20240719 (Red Hat 11.5.0-2) Ubuntu 20.04 Kernel: 5.15 Compiler: aarch64-linux-gnu-gcc gcc (Ubuntu 9.4.0-1ubuntu1~20.04.2) 9.4.0 Debian GNU/Linux 12 Kernel: 5.4 Compiler: gcc gcc (Debian 12.2.0-14+deb12u1) 12.2.0 Fedora Linux 42 Kernel: 5.4 Compiler: gcc gcc (GCC) 15.2.1 20250808 (Red Hat 15.2.1-1) CentOS Stream 9 Kernel: 5.4 Compiler: gcc gcc (GCC) 11.5.0 20240719 (Red Hat 11.5.0-11) Ubuntu 22.04 Kernel: 5.4 Compiler: gcc gcc (Ubuntu 11.4.0-1ubuntu1~22.04) 11.4.0 Ubuntu 24.04 Kernel: 5.4 Compiler: gcc gcc (Ubuntu 13.3.0-6ubuntu2~24.04) 13.3.0 CentOS Stream 10 Kernel: 5.4 Compiler: gcc gcc (GCC) 14.2.1 20250110 (Red Hat 14.2.1-8) To view detailed results, visit: https://lab.dpdk.org/results/dashboard/patchsets/34496/ UNH-IOL DPDK Community Lab To manage your email subscriptions, visit: https://lab.dpdk.org/results/dashboard/preferences/subscriptions/