From mboxrd@z Thu Jan 1 00:00:00 1970 Return-Path: Received: from mails.dpdk.org (mails.dpdk.org [217.70.189.124]) by inbox.dpdk.org (Postfix) with ESMTP id C8C1B48A8D for ; Fri, 7 Nov 2025 06:11:09 +0100 (CET) Received: from mails.dpdk.org (localhost [127.0.0.1]) by mails.dpdk.org (Postfix) with ESMTP id C4CAA4021F; Fri, 7 Nov 2025 06:11:09 +0100 (CET) Received: from mail-pl1-f225.google.com (mail-pl1-f225.google.com [209.85.214.225]) by mails.dpdk.org (Postfix) with ESMTP id 449D44021F for ; Fri, 7 Nov 2025 06:11:08 +0100 (CET) Received: by mail-pl1-f225.google.com with SMTP id d9443c01a7336-2955805b7acso2431995ad.1 for ; Thu, 06 Nov 2025 21:11:08 -0800 (PST) DKIM-Signature: v=1; a=rsa-sha256; c=relaxed/relaxed; d=iol.unh.edu; s=unh-iol; t=1762492267; x=1763097067; darn=dpdk.org; h=references:in-reply-to:cc:to:from:subject:message-id:date:from:to :cc:subject:date:message-id:reply-to; bh=eeq4i0ipMHHzgjSb2b354b+Wdt66XThJrozZTTJOzp0=; b=dLtaP3bdSRkSWQVx/anE6+GbdTfnS00DPYoS5tEEqg1xZc2qr4OEcbADdz50WE/rOg l3V+XrgljkRT946WXj7zPyp10cIblqVRYh7augr+2DWK5bE0lcdGwYCVAt/phtIcynbq btM8G2CK7TPiAEbyIhVSCkAZQjLscF7n3QUog= X-Google-DKIM-Signature: v=1; a=rsa-sha256; c=relaxed/relaxed; d=1e100.net; s=20230601; t=1762492267; x=1763097067; h=references:in-reply-to:cc:to:from:subject:message-id:date:x-gm-gg :x-gm-message-state:from:to:cc:subject:date:message-id:reply-to; bh=eeq4i0ipMHHzgjSb2b354b+Wdt66XThJrozZTTJOzp0=; b=BUzTQo+/H6f8QrXlxUlpWy9nRRewKvgWkaL6zXHo5OIGn4gyuOsHI/AWW9b8xG9B/n anvoVUgcxnlQK9+rldpdug4lktEOzxwBg5geYEvLkU7AGR8V+40gsZifL2T/e3CeGOFM 6O1TcAaLtIuf9sclga2thxE8Vi+gjY2w0lOSoWPUOn9wSkV0cOtTWEGmahIfCL1hzmf/ b3nWoJN9lxd9B7pxPgOSngizhpxrrfXEWYZJPTGPQJm1oDi9EwvUNWfkhfg3keIo8/TT 581IrnIxwQFhQaPPKqgySLJAxozblOjYy3CouKloZWY5MJSYhldCbSNUxQE7wDVW+Du1 bepA== X-Gm-Message-State: AOJu0YytflxBIqjN+nvwTHnOrTp8i7IYiRc1xEG9XzWXIlZ7mY7n+Iir 1u8g5Tyb8ZAE+GNUwNe6bnMN5x8XiR1qC7Qtk/GOGFOfkEminOpeLUk3r+HKqxXIoUF6n2p6C1T OpLJQaerSLFHzFDMdCqD61EHFfUN14cREXcIEciYthxKJ X-Gm-Gg: ASbGncuQSE5kZNvh9ilTGFAfXc5NfAmc4pnk+kVmJVyFpxp7wVjCQFExiNNlg97Lt1V buaGogf8LjVuz+Y0EAO3pgWFeHlFh9jS7RcB7LpnyK/XFo7qEf7LRMJv4BhfoLVOzfPJmROQMCA SMjih2+31XU40+DiRSrckgoIyLFICx5VjTHLDBZIaALGMWP9XLWlVFj8uPb0/4qhraicFtaxTAe /f7WKet+akGVwGdQYkUw/8Pg4B84zF7jNd+9wznzlRvVuq6jFNAct2/+hkhbDQhZSETzDFSIMmL J6FRHv2kPF2D6Z89gmkUZC+FcfZI8Tlw+GYdkK1V43wrua7A9RhpG2WePnXpIgJffRBTeSRSbK0 35Pj6b3ivUmSrXFsqx6B1BcxV71e/5cg= X-Google-Smtp-Source: AGHT+IG1Mltown90tKb01aZftxNEYBrx6YH7LTQORP7dIbun93+PBGQ0kRuaJGzgrNfwAsX1Mq8uWahOiNsD X-Received: by 2002:a17:902:f70b:b0:281:fd60:807d with SMTP id d9443c01a7336-297c94ad76dmr8044045ad.2.1762492267431; Thu, 06 Nov 2025 21:11:07 -0800 (PST) Received: from postal.iol.unh.edu (postal.iol.unh.edu. [132.177.123.84]) by smtp-relay.gmail.com with ESMTPS id d9443c01a7336-29650c5fb48sm3799395ad.19.2025.11.06.21.11.07 (version=TLS1_2 cipher=ECDHE-ECDSA-AES128-GCM-SHA256 bits=128/128); Thu, 06 Nov 2025 21:11:07 -0800 (PST) X-Relaying-Domain: iol.unh.edu Date: Thu, 06 Nov 2025 21:11:07 -0800 (PST) Message-ID: <690d7f6b.170a0220.32db89.43d2SMTPIN_ADDED_MISSING@mx.google.com> Received: from [172.21.0.9] (unknown [172.18.0.240]) by postal.iol.unh.edu (Postfix) with ESMTP id D0EAE6051830; Fri, 7 Nov 2025 00:11:06 -0500 (EST) Subject: |SUCCESS| pw158534 [PATCH] [v4] app/testpmd: support specify TCs whe From: dpdklab@iol.unh.edu To: Test Report Cc: dpdk-test-reports@iol.unh.edu, Stephen Hemminger In-Reply-To: <20251107005357.5682-1-fengchengwen@huawei.com> References: <20251107005357.5682-1-fengchengwen@huawei.com> Content-Type: text/plain X-BeenThere: test-report@dpdk.org X-Mailman-Version: 2.1.29 Precedence: list List-Id: automatic DPDK test reports List-Unsubscribe: , List-Archive: List-Post: List-Help: List-Subscribe: , Errors-To: test-report-bounces@dpdk.org Test-Label: iol-unit-amd64-testing Test-Status: SUCCESS http://dpdk.org/patch/158534 _Testing PASS_ Submitter: fengchengwen Date: Friday, November 07 2025 00:53:57 DPDK git baseline: Repo:dpdk-next-net Branch: master CommitID:591ee7f468aebec30d68d30afa8d5e4dcfc897dc 158534 --> testing pass Upstream job id: Generic-VM-Unit-Test-DPDK#32371 Test environment and result as below: +-------------------------------+----------------+ | Environment | dpdk_unit_test | +===============================+================+ | Debian GNU/Linux 12 | PASS | +-------------------------------+----------------+ | CentOS Stream 10 | PASS | +-------------------------------+----------------+ | CentOS Stream 9 | PASS | +-------------------------------+----------------+ | Fedora Linux 41 | PASS | +-------------------------------+----------------+ | Fedora Linux 40 | PASS | +-------------------------------+----------------+ | Fedora Linux 42 | PASS | +-------------------------------+----------------+ | Red Hat Enterprise Linux 8.10 | PASS | +-------------------------------+----------------+ | Red Hat Enterprise Linux 9.5 | PASS | +-------------------------------+----------------+ | Ubuntu 20.04 | PASS | +-------------------------------+----------------+ | Ubuntu 22.04 | PASS | +-------------------------------+----------------+ | Ubuntu 24.04 | PASS | +-------------------------------+----------------+ | Windows Server 2022 | PASS | +-------------------------------+----------------+ Debian GNU/Linux 12 Kernel: 5.15 Compiler: gcc gcc (Debian 12.2.0-14+deb12u1) 12.2.0 CentOS Stream 10 Kernel: 5.15 Compiler: gcc gcc (GCC) 14.2.1 20250110 (Red Hat 14.2.1-8) CentOS Stream 9 Kernel: 5.15 Compiler: gcc gcc (GCC) 11.5.0 20240719 (Red Hat 11.5.0-11) Fedora Linux 41 Kernel: 5.15 Compiler: gcc gcc (GCC) 14.3.1 20250523 (Red Hat 14.3.1-1) Fedora Linux 40 Kernel: 5.15 Compiler: clang gcc (GCC) 14.2.1 20240912 (Red Hat 14.2.1-3) Fedora Linux 42 Kernel: 5.15 Compiler: gcc gcc (GCC) 15.2.1 20250808 (Red Hat 15.2.1-1) Red Hat Enterprise Linux 8.10 Kernel: 5.15 Compiler: gcc gcc (GCC) 8.5.0 20210514 (Red Hat 8.5.0-22) Red Hat Enterprise Linux 9.5 Kernel: 5.15 Compiler: gcc gcc (GCC) 11.5.0 20240719 (Red Hat 11.5.0-2) Ubuntu 20.04 Kernel: 5.15 Compiler: gcc gcc (Ubuntu 9.4.0-1ubuntu1~20.04.2) 9.4.0 Ubuntu 22.04 Kernel: 5.15 Compiler: gcc gcc (Ubuntu 11.4.0-1ubuntu1~22.04) 11.4.0 Ubuntu 24.04 Kernel: 5.15 Compiler: gcc gcc (Ubuntu 13.3.0-6ubuntu2~24.04) 13.3.0 Windows Server 2022 Kernel: 10.0.20348.2031 Compiler: clang 15.0.7, gcc 14.1.0 (MinGW), and MSVC VS 19.39.33521 To view detailed results, visit: https://lab.dpdk.org/results/dashboard/patchsets/34502/ UNH-IOL DPDK Community Lab To manage your email subscriptions, visit: https://lab.dpdk.org/results/dashboard/preferences/subscriptions/