From mboxrd@z Thu Jan 1 00:00:00 1970 Return-Path: Received: from mails.dpdk.org (mails.dpdk.org [217.70.189.124]) by inbox.dpdk.org (Postfix) with ESMTP id 41A4E48A8D for ; Fri, 7 Nov 2025 06:34:56 +0100 (CET) Received: from mails.dpdk.org (localhost [127.0.0.1]) by mails.dpdk.org (Postfix) with ESMTP id 1F64F4021F; Fri, 7 Nov 2025 06:34:56 +0100 (CET) Received: from mail-qt1-f227.google.com (mail-qt1-f227.google.com [209.85.160.227]) by mails.dpdk.org (Postfix) with ESMTP id 16EA34021F for ; Fri, 7 Nov 2025 06:34:55 +0100 (CET) Received: by mail-qt1-f227.google.com with SMTP id d75a77b69052e-4ed9c1924adso296221cf.1 for ; Thu, 06 Nov 2025 21:34:55 -0800 (PST) DKIM-Signature: v=1; a=rsa-sha256; c=relaxed/relaxed; d=iol.unh.edu; s=unh-iol; t=1762493694; x=1763098494; darn=dpdk.org; h=references:in-reply-to:cc:to:from:subject:message-id:date:from:to :cc:subject:date:message-id:reply-to; bh=seSSkM2U5Ck/E7RsIuFnieiWjx87+lXuDKtVgdWYa9s=; b=bF0qeT0EOukv8r7Xl2EotP0lX3FYbu+XsLkyXA//I8EoHsU1hIYhi1KtqFIJXFD7YW pvc0Z1E2Uh4HCIjZMqm1Wja2tsmncAxS3N+vJErvGOAqxWU201wF7ozPIRM0qjahxtaB R6LvISenL8wse96H5EH6Cs29qzIlrU6q8mFqg= X-Google-DKIM-Signature: v=1; a=rsa-sha256; c=relaxed/relaxed; d=1e100.net; s=20230601; t=1762493694; x=1763098494; h=references:in-reply-to:cc:to:from:subject:message-id:date:x-gm-gg :x-gm-message-state:from:to:cc:subject:date:message-id:reply-to; bh=seSSkM2U5Ck/E7RsIuFnieiWjx87+lXuDKtVgdWYa9s=; b=KaZ2RH7rPksaB4w/7WipcmzB2jVCEs/wwhp2/WaKtZhH/xTPjM8WhsUPkpgl4J5LVR QDxNfxaPQ2o8wf/p9Erhh3d60eyb1VLOHmv7tNbyNcNLeE8lI+GzD8MJfVN6rnACtNH7 zUMogi6Nu6A2aWH7Nt7MwvQ0JSI3bAhnH+Q9tEj9WCI8Ed00gFqSWNaBEVVPh8v3rRHH O0D12C36UDBXvd8J4npy5i4pCOiB5w0WLtDbdEUQsD60A3yevf+/0WiNoUKS6sGt08Hp WE7cBLcVwiuMRudnMxqqrReBHYywNiSkQA3T5Z6Caf7k5uQOQxWr9EuxsbCY34ZgDu7i 6Elw== X-Gm-Message-State: AOJu0YzGOfg5l+VHPV/bcldP/EOsRC0dKrOMHhvcMCNZpJmi092G4jWM Cpd4SK5/mryoxSHrwQ26Ed34Mzd9rR2R5FTUGbAjOu2Pm29ZgBE5MWJImb71V3PEugcnCzmuJRe tCweiOXlJ5VD5zTZkx8PtAisk4qk7yQpfD+bL9XTgeE+D X-Gm-Gg: ASbGncvcMBdevqGcg0ClKW7ZjVrXrn7HUYSPbxJ2H2q1w43xO21K8y54m1RDbYqRTFE d0KW5Z+l6gtb3H5e+Zy+cjH6F8sCI+glKoA8m1s6zysI8/wFLGdImLOips0L41jjg7NXUIgthaN NxQuKTXgmDenLRB/f44s21qbcHEkU5D4yUse0wgNUXx7sYJSPJnZ/tPqVJjVfkF0GXMLDx7rN55 Ei1zrHGRuz6RY3WmDJrubHo/AueZd393MGqrZKcurU8n3M9k1kGfWqAGLvvPjl8+twt8HBvgavG d7/UOM9ZVo/y3bn+D0+KN+df2UYx3I6iO/u/KERoRVXuDA7GihP9TbbtaDydGANx+VB/uY2iceP TvMmDnp6bXj0GQVmSz+iAHD5/ZKPa7Vs= X-Google-Smtp-Source: AGHT+IHT8Sxja2KeWjo65aO28w7R6Nc0f9IoYm7YBrWgeH4PeyJ3q6R5lvdOBivmuBoCZE5WqlTgRakwROtf X-Received: by 2002:a05:622a:408:b0:4ec:eef1:52f9 with SMTP id d75a77b69052e-4ed94a70c5dmr22861351cf.67.1762493694527; Thu, 06 Nov 2025 21:34:54 -0800 (PST) Received: from postal.iol.unh.edu (postal.iol.unh.edu. [132.177.123.84]) by smtp-relay.gmail.com with ESMTPS id 6a1803df08f44-88082a35d47sm4186606d6.33.2025.11.06.21.34.54 (version=TLS1_2 cipher=ECDHE-ECDSA-AES128-GCM-SHA256 bits=128/128); Thu, 06 Nov 2025 21:34:54 -0800 (PST) X-Relaying-Domain: iol.unh.edu Date: Thu, 06 Nov 2025 21:34:54 -0800 (PST) Message-ID: <690d84fe.050a0220.48ff8.65f6SMTPIN_ADDED_MISSING@mx.google.com> Received: from [172.21.0.3] (unknown [172.18.0.240]) by postal.iol.unh.edu (Postfix) with ESMTP id 3D98E6051830; Fri, 7 Nov 2025 00:34:54 -0500 (EST) Subject: |SUCCESS| pw158534 [PATCH] [v4] app/testpmd: support specify TCs whe From: dpdklab@iol.unh.edu To: Test Report Cc: dpdk-test-reports@iol.unh.edu, Stephen Hemminger In-Reply-To: <20251107005357.5682-1-fengchengwen@huawei.com> References: <20251107005357.5682-1-fengchengwen@huawei.com> Content-Type: text/plain X-BeenThere: test-report@dpdk.org X-Mailman-Version: 2.1.29 Precedence: list List-Id: automatic DPDK test reports List-Unsubscribe: , List-Archive: List-Post: List-Help: List-Subscribe: , Errors-To: test-report-bounces@dpdk.org Test-Label: iol-unit-amd64-testing Test-Status: SUCCESS http://dpdk.org/patch/158534 _Testing PASS_ Submitter: fengchengwen Date: Friday, November 07 2025 00:53:57 DPDK git baseline: Repo:dpdk-next-net Branch: master CommitID:591ee7f468aebec30d68d30afa8d5e4dcfc897dc 158534 --> testing pass Upstream job id: Generic-VM-Unit-Test-DPDK#32372 Test environment and result as below: +-------------------------------+----------------+ | Environment | dpdk_unit_test | +===============================+================+ | Debian GNU/Linux 12 | PASS | +-------------------------------+----------------+ | CentOS Stream 10 | PASS | +-------------------------------+----------------+ | CentOS Stream 9 | PASS | +-------------------------------+----------------+ | Fedora Linux 41 | PASS | +-------------------------------+----------------+ | Fedora Linux 40 | PASS | +-------------------------------+----------------+ | Fedora Linux 42 | PASS | +-------------------------------+----------------+ | Red Hat Enterprise Linux 8.10 | PASS | +-------------------------------+----------------+ | Red Hat Enterprise Linux 9.5 | PASS | +-------------------------------+----------------+ | Ubuntu 20.04 | PASS | +-------------------------------+----------------+ | Ubuntu 22.04 | PASS | +-------------------------------+----------------+ | Ubuntu 24.04 | PASS | +-------------------------------+----------------+ | Windows Server 2022 | PASS | +-------------------------------+----------------+ Debian GNU/Linux 12 Kernel: 5.15 Compiler: gcc gcc (Debian 12.2.0-14+deb12u1) 12.2.0 CentOS Stream 10 Kernel: 5.15 Compiler: gcc gcc (GCC) 14.2.1 20250110 (Red Hat 14.2.1-8) CentOS Stream 9 Kernel: 5.15 Compiler: gcc gcc (GCC) 11.5.0 20240719 (Red Hat 11.5.0-11) Fedora Linux 41 Kernel: 5.15 Compiler: gcc gcc (GCC) 14.3.1 20250523 (Red Hat 14.3.1-1) Fedora Linux 40 Kernel: 5.15 Compiler: clang gcc (GCC) 14.2.1 20240912 (Red Hat 14.2.1-3) Fedora Linux 42 Kernel: 5.15 Compiler: gcc gcc (GCC) 15.2.1 20250808 (Red Hat 15.2.1-1) Red Hat Enterprise Linux 8.10 Kernel: 5.15 Compiler: gcc gcc (GCC) 8.5.0 20210514 (Red Hat 8.5.0-22) Red Hat Enterprise Linux 9.5 Kernel: 5.15 Compiler: gcc gcc (GCC) 11.5.0 20240719 (Red Hat 11.5.0-2) Ubuntu 20.04 Kernel: 5.15 Compiler: gcc gcc (Ubuntu 9.4.0-1ubuntu1~20.04.2) 9.4.0 Ubuntu 22.04 Kernel: 5.15 Compiler: gcc gcc (Ubuntu 11.4.0-1ubuntu1~22.04) 11.4.0 Ubuntu 24.04 Kernel: 5.15 Compiler: gcc gcc (Ubuntu 13.3.0-6ubuntu2~24.04) 13.3.0 Windows Server 2022 Kernel: 10.0.20348.2031 Compiler: clang 15.0.7, gcc 14.1.0 (MinGW), and MSVC VS 19.39.33521 To view detailed results, visit: https://lab.dpdk.org/results/dashboard/patchsets/34502/ UNH-IOL DPDK Community Lab To manage your email subscriptions, visit: https://lab.dpdk.org/results/dashboard/preferences/subscriptions/