From mboxrd@z Thu Jan 1 00:00:00 1970 Return-Path: Received: from mails.dpdk.org (mails.dpdk.org [217.70.189.124]) by inbox.dpdk.org (Postfix) with ESMTP id 3669148A8D for ; Fri, 7 Nov 2025 06:56:40 +0100 (CET) Received: from mails.dpdk.org (localhost [127.0.0.1]) by mails.dpdk.org (Postfix) with ESMTP id 30CDC4021F; Fri, 7 Nov 2025 06:56:40 +0100 (CET) Received: from mail-pg1-f228.google.com (mail-pg1-f228.google.com [209.85.215.228]) by mails.dpdk.org (Postfix) with ESMTP id 5A98E4021F for ; Fri, 7 Nov 2025 06:56:39 +0100 (CET) Received: by mail-pg1-f228.google.com with SMTP id 41be03b00d2f7-b5a631b9c82so301895a12.1 for ; Thu, 06 Nov 2025 21:56:39 -0800 (PST) DKIM-Signature: v=1; a=rsa-sha256; c=relaxed/relaxed; d=iol.unh.edu; s=unh-iol; t=1762494998; x=1763099798; darn=dpdk.org; h=references:in-reply-to:cc:to:from:subject:message-id:date:from:to :cc:subject:date:message-id:reply-to; bh=4CyVqi9XLrcw7sCwHl7W2jcgWMbrRVXFclZNcJKjFB8=; b=Y6yfEeM/zpLgLRoyv3xcy72/QASFK+NSvIicgGCym7KBVzdi+UCsI3YOD8D3l3/Zw/ X8vWTWt02C24AsxeIAlsqXKP+3ntQw+bBFUbyRk43KQk91rZvTILIb6/sOhCqPkqHoSt BnkvnRpWbaH4ymSuU+RNGM4zgl2okaiWlkUII= X-Google-DKIM-Signature: v=1; a=rsa-sha256; c=relaxed/relaxed; d=1e100.net; s=20230601; t=1762494998; x=1763099798; h=references:in-reply-to:cc:to:from:subject:message-id:date:x-gm-gg :x-gm-message-state:from:to:cc:subject:date:message-id:reply-to; bh=4CyVqi9XLrcw7sCwHl7W2jcgWMbrRVXFclZNcJKjFB8=; b=oiNREuKSk8zj3wN65T/wybYqv8DNQTfig5IrFOtoz+O9+4wyuFTRmx7TOa1ovbL3oh 7NUkgE8DjpidfyBPwUwRzgJZTvs80zZFlOIrzP08SF3FLWa7FSIxtyuR41hmzCnbhfUV pZVcoULCYCK8wQS6X8eb2NMUkKZGn/wydnocGSZC8+fxhoNeH3cuBGNuf34xD1OzxYmw x+trHw4cfA064nPq0RxR0zIgFn7ruA5axDGH58OHIgkq9FWxJuJXv0PJSyVdJoMzbhMa TGHlRfZROYSdTBf+hXMuMAHpvANM3x9w9uecejHE/FGFSbj2jJzBl9s6DaakSJsCq7ds QDcg== X-Gm-Message-State: AOJu0YzB1O39ZBZ2Ys7jrr0Vx9bIK1x5vLobqyvW/H+YtU1QqQB4ZiC/ cqq/IG8bOPLISvfDCIrFbj4FFTvWe/k7UxVcfXKfQfcuoerFvurV3NnOGnWTGBDvyCJeg5YuJkF TFAMkl/Td/tMCZwNz8PcCDTjIqhSkqXyn08C2WAOSoLdYP+MXNjz6/BP+jrZx X-Gm-Gg: ASbGncvBjDr392uLPggEjceuNECvgVlSnjwPpCmF3eeBG3ls4TD1Rjxu/zVALW5CSxv 7p8N2lxwV63Ma2V9knszKW+ChBbSzE6ERy3SsQYyuswZ/Gg1d58jqtQvUpFNOCtoUEZOBEW3Hvb mIN69U5yQ7UrC+rCzdqFS6kX7hzVRSp4kbT7tPrcebLhhvjnEMsx6su0t4Y2yF15N6QzrvyAmHg b0DJOCBQ5w2MCzECMfasykCboQnMBU5mVosVg0TwsA7uBW4uCXlOF3U0A/qs6DTuevDNcdaPcrb qKHWJK1X1cWv/DXRSl04cCLHsk/e56buzHdM+boPKluH2Z+jxt8su+UMYCoAyw+mhLo6sMeOo7D 8qHApkB+d X-Google-Smtp-Source: AGHT+IG8MwVZFPGHZHqqX67aAJNAHXvLTND5dz/AbZP6jSG7+miigxTS8G0CwM1LEnnlyyhrjUYvRfARQ+Lu X-Received: by 2002:a17:902:dac4:b0:295:a1a5:bae9 with SMTP id d9443c01a7336-297c03a152dmr22147135ad.8.1762494998537; Thu, 06 Nov 2025 21:56:38 -0800 (PST) Received: from postal.iol.unh.edu (postal.iol.unh.edu. [2606:4100:3880:1234::84]) by smtp-relay.gmail.com with ESMTPS id d9443c01a7336-2965096e4cesm3644445ad.3.2025.11.06.21.56.38 (version=TLS1_2 cipher=ECDHE-ECDSA-AES128-GCM-SHA256 bits=128/128); Thu, 06 Nov 2025 21:56:38 -0800 (PST) X-Relaying-Domain: iol.unh.edu Date: Thu, 06 Nov 2025 21:56:38 -0800 (PST) Message-ID: <690d8a16.170a0220.18de23.2fbbSMTPIN_ADDED_MISSING@mx.google.com> Received: from [172.21.0.3] (unknown [172.18.0.240]) by postal.iol.unh.edu (Postfix) with ESMTP id 7B1CC6051830; Fri, 7 Nov 2025 00:56:37 -0500 (EST) Subject: |SUCCESS| pw158487-158489 [PATCH] [v6,3/3] dts: add performance test From: dpdklab@iol.unh.edu To: Test Report Cc: dpdk-test-reports@iol.unh.edu In-Reply-To: <20251105223628.1659390-4-probb@iol.unh.edu> References: <20251105223628.1659390-4-probb@iol.unh.edu> Content-Type: text/plain X-BeenThere: test-report@dpdk.org X-Mailman-Version: 2.1.29 Precedence: list List-Id: automatic DPDK test reports List-Unsubscribe: , List-Archive: List-Post: List-Help: List-Subscribe: , Errors-To: test-report-bounces@dpdk.org Test-Label: iol-compile-amd64-testing Test-Status: SUCCESS http://dpdk.org/patch/158489 _Testing PASS_ Submitter: Patrick Robb Date: Wednesday, November 05 2025 22:36:28 DPDK git baseline: Repo:dpdk-next-dts Branch: master CommitID:4f35a61a6a5a31f822c3d7519e8a1de1b7cbd9c4 158487-158489 --> testing pass Upstream job id: Windows-Compile-DPDK-Native#32192 Test environment and result as below: +-------------------------------+--------------------+------------------+-------------------+-------------------------+----------------------+ | Environment | dpdk_meson_compile | dpdk_compile_ovs | dpdk_msvc_compile | dpdk_llvm_clang_compile | dpdk_mingw64_compile | +===============================+====================+==================+===================+=========================+======================+ | Ubuntu 20.04 | PASS | SKIPPED | SKIPPED | SKIPPED | SKIPPED | +-------------------------------+--------------------+------------------+-------------------+-------------------------+----------------------+ | FreeBSD 14.2 | PASS | SKIPPED | SKIPPED | SKIPPED | SKIPPED | +-------------------------------+--------------------+------------------+-------------------+-------------------------+----------------------+ | CentOS Stream 9 | PASS | SKIPPED | SKIPPED | SKIPPED | SKIPPED | +-------------------------------+--------------------+------------------+-------------------+-------------------------+----------------------+ | Debian GNU/Linux 12 | PASS | SKIPPED | SKIPPED | SKIPPED | SKIPPED | +-------------------------------+--------------------+------------------+-------------------+-------------------------+----------------------+ | CentOS Stream 10 | PASS | SKIPPED | SKIPPED | SKIPPED | SKIPPED | +-------------------------------+--------------------+------------------+-------------------+-------------------------+----------------------+ | Fedora Linux 42 | PASS | PASS | SKIPPED | SKIPPED | SKIPPED | +-------------------------------+--------------------+------------------+-------------------+-------------------------+----------------------+ | openSUSE Leap 15.6 | PASS | SKIPPED | SKIPPED | SKIPPED | SKIPPED | +-------------------------------+--------------------+------------------+-------------------+-------------------------+----------------------+ | Red Hat Enterprise Linux 8.10 | PASS | SKIPPED | SKIPPED | SKIPPED | SKIPPED | +-------------------------------+--------------------+------------------+-------------------+-------------------------+----------------------+ | Red Hat Enterprise Linux 9.5 | PASS | SKIPPED | SKIPPED | SKIPPED | SKIPPED | +-------------------------------+--------------------+------------------+-------------------+-------------------------+----------------------+ | Ubuntu 22.04 | PASS | SKIPPED | SKIPPED | SKIPPED | SKIPPED | +-------------------------------+--------------------+------------------+-------------------+-------------------------+----------------------+ | Ubuntu 24.04 | PASS | PASS | SKIPPED | SKIPPED | SKIPPED | +-------------------------------+--------------------+------------------+-------------------+-------------------------+----------------------+ | Alpine Linux 3.22.0 | PASS | SKIPPED | SKIPPED | SKIPPED | SKIPPED | +-------------------------------+--------------------+------------------+-------------------+-------------------------+----------------------+ | Windows Server 2022 | SKIPPED | SKIPPED | PASS | PASS | PASS | +-------------------------------+--------------------+------------------+-------------------+-------------------------+----------------------+ Ubuntu 20.04 Kernel: 4.19 Compiler: gcc gcc (Ubuntu 9.4.0-1ubuntu1~20.04.2) 9.4.0 FreeBSD 14.2 Kernel: 14.2-RELEASE Compiler: clang 18.1.6 CentOS Stream 9 Kernel: 5.15 Compiler: gcc gcc (GCC) 11.5.0 20240719 (Red Hat 11.5.0-11) Debian GNU/Linux 12 Kernel: 5.15 Compiler: gcc gcc (Debian 12.2.0-14+deb12u1) 12.2.0 CentOS Stream 10 Kernel: 5.15 Compiler: gcc gcc (GCC) 14.2.1 20250110 (Red Hat 14.2.1-8) Fedora Linux 42 Kernel: 5.15 Compiler: clang gcc (GCC) 15.2.1 20250808 (Red Hat 15.2.1-1) openSUSE Leap 15.6 Kernel: 5.15 Compiler: gcc gcc (SUSE Linux) 7.5.0 Red Hat Enterprise Linux 8.10 Kernel: 5.15 Compiler: gcc gcc (GCC) 8.5.0 20210514 (Red Hat 8.5.0-22) Red Hat Enterprise Linux 9.5 Kernel: 5.15 Compiler: gcc gcc (GCC) 11.5.0 20240719 (Red Hat 11.5.0-2) Ubuntu 22.04 Kernel: 5.15 Compiler: gcc gcc (Ubuntu 11.4.0-1ubuntu1~22.04) 11.4.0 Ubuntu 24.04 Kernel: 5.15 Compiler: gcc gcc (Ubuntu 13.3.0-6ubuntu2~24.04) 13.3.0 Alpine Linux 3.22.0 Kernel: 5.15 Compiler: gcc gcc (Alpine 14.2.0) 14.2.0 Windows Server 2022 Kernel: 10.0.20348.2031 Compiler: clang 15.0.7, gcc 14.1.0 (MinGW), and MSVC VS 19.39.33521 To view detailed results, visit: https://lab.dpdk.org/results/dashboard/patchsets/34497/ UNH-IOL DPDK Community Lab To manage your email subscriptions, visit: https://lab.dpdk.org/results/dashboard/preferences/subscriptions/