From mboxrd@z Thu Jan 1 00:00:00 1970 Return-Path: Received: from mails.dpdk.org (mails.dpdk.org [217.70.189.124]) by inbox.dpdk.org (Postfix) with ESMTP id D244048A8D for ; Fri, 7 Nov 2025 07:40:33 +0100 (CET) Received: from mails.dpdk.org (localhost [127.0.0.1]) by mails.dpdk.org (Postfix) with ESMTP id B1F5140264; Fri, 7 Nov 2025 07:40:33 +0100 (CET) Received: from mail-pj1-f98.google.com (mail-pj1-f98.google.com [209.85.216.98]) by mails.dpdk.org (Postfix) with ESMTP id 5DA7640264 for ; Fri, 7 Nov 2025 07:40:32 +0100 (CET) Received: by mail-pj1-f98.google.com with SMTP id 98e67ed59e1d1-340564186e0so380448a91.0 for ; Thu, 06 Nov 2025 22:40:32 -0800 (PST) DKIM-Signature: v=1; a=rsa-sha256; c=relaxed/relaxed; d=iol.unh.edu; s=unh-iol; t=1762497631; x=1763102431; darn=dpdk.org; h=references:in-reply-to:cc:to:from:subject:message-id:date:from:to :cc:subject:date:message-id:reply-to; bh=Z/aitj+xQJqqwVXB5cQZdi6QpkBDUobLwKPJJeqvmdo=; b=ZfcyvAWDrMxlcQvGRL/tn3fe56mQw6NdIZ9GCPj08KaHQ2aNvSh2f4S48HHUsnSUjK Xvt18awBLfhj1bmCeeU6f+FfJXgVHZFik7oSSEbFMJwBKf9rb4y7fBf1+C63Tk3KbpH3 uvCY/QhXFzbYh7bqcYcA+XjXekDcCtJx48VMI= X-Google-DKIM-Signature: v=1; a=rsa-sha256; c=relaxed/relaxed; d=1e100.net; s=20230601; t=1762497631; x=1763102431; h=references:in-reply-to:cc:to:from:subject:message-id:date:x-gm-gg :x-gm-message-state:from:to:cc:subject:date:message-id:reply-to; bh=Z/aitj+xQJqqwVXB5cQZdi6QpkBDUobLwKPJJeqvmdo=; b=uv9c8s119y3akRT6DgGFrHxR+PL/0LaLaBeep4iWqgJzhFW1E0OLnj7qWkpj5r6Q+6 v39QNil9YxtJUyTuiSYfl4/lp03iHFKzG0hLIwnX9F1q8dbpau8YyYJK3C6YFRpo//gE s5jNY/UbfckIUR86UBX7rRC6Io+HpIQC2bF285vbjk0Spvo0dLxIdUyGXxdrSClI/9ZN Cm/nSdD8p1tw0cogU7sxaADpg5+eaUHtupkanKdlbCdV3JM/uFDimgIdpdj7uOgSWfu6 7ARJpq1pjABjK+eayMBcjJJy2Hy81FhGY5xKJlsMxyA1XGAPL7T4EU2R/M++G4HyP2nS woog== X-Gm-Message-State: AOJu0YyRrZveT5lDMnemtbOHwg1ApiyjCk9aB0ejMiD5RcXZbzkmbciX td3KsGadqND/V2WCq6IkfHpUjOgcHm2OMwSoWlR9pbMMZobAVirdYeqkj9o3qCXVhSyOw7MY5qW gMySLDGOyvEQHXDzz+keHkg39+qSKGDSoid1MlPfGzbJhAWHJeg7bjKJu7GG7 X-Gm-Gg: ASbGncsyfpSkFX5JN76Oai6CLIXZlBReeuGajwRhWkj6IlMslK+lCHpJw8jU9SjXvWQ 0OxylimpUEwDG7DFzeCzSnsinTp2zztTHZgidSI+5W5CjfLjXZP36dF5Ddn0m7qJQfo0pA24cy5 kUmims+oo4JkxsvUEtstzt/vttuNC3LtZ6+pxiPkRbbXK8MIeofcC/lVlGMgfqUV4q0iFFAEfBC QTXU0D2re7CG9P0laXKzemqpVV5nTAoJt7pFGdI07h+RycMfBTH7Bop8RAM2OyRiP+dBvlEptCp 68lAmliAWL4b8OzabIyHTpJdkMFnJn7CcyWNOV3/Ayq/M9zsv3erzs4XKpJKO7h5p6YwnSKmX25 WIT49HVWN X-Google-Smtp-Source: AGHT+IEvPE9rkLconxAmHW2ZNCA4jz5ezGFS7MxVUI6D33ZcbTIbiPHWZUXHnh1mC0v6hTfGY/yz7/0rcjLo X-Received: by 2002:a17:90b:5250:b0:330:bca5:13d9 with SMTP id 98e67ed59e1d1-3434c583ccfmr2262778a91.32.1762497631071; Thu, 06 Nov 2025 22:40:31 -0800 (PST) Received: from postal.iol.unh.edu (postal.iol.unh.edu. [2606:4100:3880:1234::84]) by smtp-relay.gmail.com with ESMTPS id 98e67ed59e1d1-341d059439dsm452078a91.4.2025.11.06.22.40.30 (version=TLS1_2 cipher=ECDHE-ECDSA-AES128-GCM-SHA256 bits=128/128); Thu, 06 Nov 2025 22:40:31 -0800 (PST) X-Relaying-Domain: iol.unh.edu Date: Thu, 06 Nov 2025 22:40:31 -0800 (PST) Message-ID: <690d945f.170a0220.36e910.82d3SMTPIN_ADDED_MISSING@mx.google.com> Received: from [172.21.0.4] (unknown [172.18.0.240]) by postal.iol.unh.edu (Postfix) with ESMTP id 172AA6051830; Fri, 7 Nov 2025 01:40:30 -0500 (EST) Subject: |SUCCESS| pw158534 [PATCH] [v4] app/testpmd: support specify TCs whe From: dpdklab@iol.unh.edu To: Test Report Cc: dpdk-test-reports@iol.unh.edu, Stephen Hemminger In-Reply-To: <20251107005357.5682-1-fengchengwen@huawei.com> References: <20251107005357.5682-1-fengchengwen@huawei.com> Content-Type: text/plain X-BeenThere: test-report@dpdk.org X-Mailman-Version: 2.1.29 Precedence: list List-Id: automatic DPDK test reports List-Unsubscribe: , List-Archive: List-Post: List-Help: List-Subscribe: , Errors-To: test-report-bounces@dpdk.org Test-Label: iol-compile-amd64-testing Test-Status: SUCCESS http://dpdk.org/patch/158534 _Testing PASS_ Submitter: fengchengwen Date: Friday, November 07 2025 00:53:57 DPDK git baseline: Repo:dpdk-next-net Branch: master CommitID:591ee7f468aebec30d68d30afa8d5e4dcfc897dc 158534 --> testing pass Upstream job id: Windows-Compile-DPDK-Native#32197 Test environment and result as below: +-------------------------------+--------------------+------------------+-------------------+-------------------------+ | Environment | dpdk_meson_compile | dpdk_compile_ovs | dpdk_msvc_compile | dpdk_llvm_clang_compile | +===============================+====================+==================+===================+=========================+ | Ubuntu 20.04 | PASS | SKIPPED | SKIPPED | SKIPPED | +-------------------------------+--------------------+------------------+-------------------+-------------------------+ | FreeBSD 14.2 | PASS | SKIPPED | SKIPPED | SKIPPED | +-------------------------------+--------------------+------------------+-------------------+-------------------------+ | CentOS Stream 9 | PASS | SKIPPED | SKIPPED | SKIPPED | +-------------------------------+--------------------+------------------+-------------------+-------------------------+ | CentOS Stream 10 | PASS | SKIPPED | SKIPPED | SKIPPED | +-------------------------------+--------------------+------------------+-------------------+-------------------------+ | Debian GNU/Linux 12 | PASS | SKIPPED | SKIPPED | SKIPPED | +-------------------------------+--------------------+------------------+-------------------+-------------------------+ | Fedora Linux 42 | PASS | PASS | SKIPPED | SKIPPED | +-------------------------------+--------------------+------------------+-------------------+-------------------------+ | openSUSE Leap 15.6 | PASS | SKIPPED | SKIPPED | SKIPPED | +-------------------------------+--------------------+------------------+-------------------+-------------------------+ | Red Hat Enterprise Linux 8.10 | PASS | SKIPPED | SKIPPED | SKIPPED | +-------------------------------+--------------------+------------------+-------------------+-------------------------+ | Red Hat Enterprise Linux 9.5 | PASS | SKIPPED | SKIPPED | SKIPPED | +-------------------------------+--------------------+------------------+-------------------+-------------------------+ | Ubuntu 22.04 | PASS | SKIPPED | SKIPPED | SKIPPED | +-------------------------------+--------------------+------------------+-------------------+-------------------------+ | Ubuntu 24.04 | PASS | PASS | SKIPPED | SKIPPED | +-------------------------------+--------------------+------------------+-------------------+-------------------------+ | Alpine Linux 3.22.0 | PASS | SKIPPED | SKIPPED | SKIPPED | +-------------------------------+--------------------+------------------+-------------------+-------------------------+ | Windows Server 2022 | SKIPPED | SKIPPED | PASS | PASS | +-------------------------------+--------------------+------------------+-------------------+-------------------------+ Ubuntu 20.04 Kernel: 4.19 Compiler: gcc gcc (Ubuntu 9.4.0-1ubuntu1~20.04.2) 9.4.0 FreeBSD 14.2 Kernel: 14.2-RELEASE Compiler: clang 18.1.6 CentOS Stream 9 Kernel: 5.15 Compiler: gcc gcc (GCC) 11.5.0 20240719 (Red Hat 11.5.0-11) CentOS Stream 10 Kernel: 5.15 Compiler: gcc gcc (GCC) 14.2.1 20250110 (Red Hat 14.2.1-8) Debian GNU/Linux 12 Kernel: 5.15 Compiler: gcc gcc (Debian 12.2.0-14+deb12u1) 12.2.0 Fedora Linux 42 Kernel: 5.15 Compiler: clang gcc (GCC) 15.2.1 20250808 (Red Hat 15.2.1-1) openSUSE Leap 15.6 Kernel: 5.15 Compiler: gcc gcc (SUSE Linux) 7.5.0 Red Hat Enterprise Linux 8.10 Kernel: 5.15 Compiler: gcc gcc (GCC) 8.5.0 20210514 (Red Hat 8.5.0-22) Red Hat Enterprise Linux 9.5 Kernel: 5.15 Compiler: gcc gcc (GCC) 11.5.0 20240719 (Red Hat 11.5.0-2) Ubuntu 22.04 Kernel: 5.15 Compiler: gcc gcc (Ubuntu 11.4.0-1ubuntu1~22.04) 11.4.0 Ubuntu 24.04 Kernel: 5.15 Compiler: gcc gcc (Ubuntu 13.3.0-6ubuntu2~24.04) 13.3.0 Alpine Linux 3.22.0 Kernel: 5.15 Compiler: gcc gcc (Alpine 14.2.0) 14.2.0 Windows Server 2022 Kernel: 10.0.20348.2031 Compiler: clang 15.0.7, gcc 14.1.0 (MinGW), and MSVC VS 19.39.33521 To view detailed results, visit: https://lab.dpdk.org/results/dashboard/patchsets/34502/ UNH-IOL DPDK Community Lab To manage your email subscriptions, visit: https://lab.dpdk.org/results/dashboard/preferences/subscriptions/