From mboxrd@z Thu Jan 1 00:00:00 1970 Return-Path: Received: from mails.dpdk.org (mails.dpdk.org [217.70.189.124]) by inbox.dpdk.org (Postfix) with ESMTP id 1E8A348A8D for ; Fri, 7 Nov 2025 07:43:59 +0100 (CET) Received: from mails.dpdk.org (localhost [127.0.0.1]) by mails.dpdk.org (Postfix) with ESMTP id 1A38040264; Fri, 7 Nov 2025 07:43:59 +0100 (CET) Received: from mail-qv1-f98.google.com (mail-qv1-f98.google.com [209.85.219.98]) by mails.dpdk.org (Postfix) with ESMTP id 94EA040264 for ; Fri, 7 Nov 2025 07:43:57 +0100 (CET) Received: by mail-qv1-f98.google.com with SMTP id 6a1803df08f44-88057f5d041so4445236d6.1 for ; Thu, 06 Nov 2025 22:43:57 -0800 (PST) DKIM-Signature: v=1; a=rsa-sha256; c=relaxed/relaxed; d=iol.unh.edu; s=unh-iol; t=1762497837; x=1763102637; darn=dpdk.org; h=references:in-reply-to:cc:to:from:subject:message-id:date:from:to :cc:subject:date:message-id:reply-to; bh=Y852lIvs54JKx43NytKA319n1EMmqd5X8xYqbThQKDc=; b=W0QsVgJrlbR4VWmbHfgMTHYMEDvdNliZ9vxnFORgF9UZTFdo0U218vTc3pgZkfg5Ur +fgtYwZwxmT6ag/43KZWKHHOBnlqF5fNgO+RRDkV3rCUb7I/YzJNgzjQacpBaFbfCXHa 3bPEAVtjIWBNDMzmJ+tm00MevnWdwPI/w2cTo= X-Google-DKIM-Signature: v=1; a=rsa-sha256; c=relaxed/relaxed; d=1e100.net; s=20230601; t=1762497837; x=1763102637; h=references:in-reply-to:cc:to:from:subject:message-id:date:x-gm-gg :x-gm-message-state:from:to:cc:subject:date:message-id:reply-to; bh=Y852lIvs54JKx43NytKA319n1EMmqd5X8xYqbThQKDc=; b=cenFn280W6ejYfp2vfLfwEY8EwvGDG5Ef3eFwAJHh+d/JtrnR5yO/1FApjLkCwDVxf 2XmV3mjdIlXuNitjh2Z1nwWLPWPlbYtLLsZNshyeTRoOZwvQzQ+7rvmBe1G7s9qJYuWl CERlhjmlWGmgS0/N7aM1mcTm4CeVyo7FjaibQg9hl4UJIjq1CQ2RIZJfSj6LManKDh0R uW6VRYzVygRiiCpre0S7hHCIvX7tw+Ia/QIwloHYGXP52WzrOfIaprRuJXmTXW+WHqTF tGKlDTqBo3Yb2rAbOsWGLeryvunPoOOLn81/CEQUTWGrskoVt0zlUdP4sJnxQS4LyRng 0a4g== X-Gm-Message-State: AOJu0YzoSHsr69uuYc5I0oEsY3XFYxNRYJ6vbVk15HHZu2C7ynCXtrpY MoBkFPiMEjya/DWVEa69k7H0NrfAsnwcbX8FjDDdplD0CFsHDeJMF8sDkaSxnDnPqzTmpUhv4S+ Mo+EeRRE1lw7WbpsmXyI6gwuWj4/yleLCykERcbw/iC9Y X-Gm-Gg: ASbGncubMqWlrbcbBz3rvhwbmz8LIv7JoKQGJ7eyFRPZI3M6ARbgMq4SdzT+p2B3wwy 3um/S5d8EqGmffJovAESGJM50DNHasEWYVWSco0He5eaNJkzwODu/I6MI/KSujBM33hTkTlHXz7 +MB5zAQasBPdvdAV2I8hzQNfmNbcDHOhw/9fx+l6CnO/lQH0Ex++FfNdv3WGiVNCb1zoUDdeDVY wnKnuJuohxL1yP1yMychiwQ3iQCkkHVe+sYTb0bsHkYLpuD0qpyj/ydtL7I8N4UpE1k8hD0nnjd Lrthp0RJgGs3AY20ZyTjFKrgA0smstk1Ms720+PTy3uN2M0HA3nnOgM+idYoXotdOxdjT4HLb52 hbteqIvXFSaZiz6K6eSAB5AsMzv80EMI= X-Google-Smtp-Source: AGHT+IEBudtzJvB954ooyWBhwwCTbOcUNGwqHQMnaWOuLnk7T4pPvbLWOqgDXFwNDOWwsVLziiVa5Fg40dhx X-Received: by 2002:ad4:5b8f:0:b0:880:4366:cf95 with SMTP id 6a1803df08f44-88167b17c18mr25679206d6.6.1762497836964; Thu, 06 Nov 2025 22:43:56 -0800 (PST) Received: from postal.iol.unh.edu (postal.iol.unh.edu. [132.177.123.84]) by smtp-relay.gmail.com with ESMTPS id 6a1803df08f44-880828d5632sm4456816d6.8.2025.11.06.22.43.56 (version=TLS1_2 cipher=ECDHE-ECDSA-AES128-GCM-SHA256 bits=128/128); Thu, 06 Nov 2025 22:43:56 -0800 (PST) X-Relaying-Domain: iol.unh.edu Date: Thu, 06 Nov 2025 22:43:56 -0800 (PST) Message-ID: <690d952c.050a0220.32557b.700fSMTPIN_ADDED_MISSING@mx.google.com> Received: from [172.21.0.2] (unknown [172.18.0.240]) by postal.iol.unh.edu (Postfix) with ESMTP id 6758E6051830; Fri, 7 Nov 2025 01:43:56 -0500 (EST) Subject: |SUCCESS| pw158534 [PATCH] [v4] app/testpmd: support specify TCs whe From: dpdklab@iol.unh.edu To: Test Report Cc: dpdk-test-reports@iol.unh.edu, Stephen Hemminger In-Reply-To: <20251107005357.5682-1-fengchengwen@huawei.com> References: <20251107005357.5682-1-fengchengwen@huawei.com> Content-Type: text/plain X-BeenThere: test-report@dpdk.org X-Mailman-Version: 2.1.29 Precedence: list List-Id: automatic DPDK test reports List-Unsubscribe: , List-Archive: List-Post: List-Help: List-Subscribe: , Errors-To: test-report-bounces@dpdk.org Test-Label: iol-compile-amd64-testing Test-Status: SUCCESS http://dpdk.org/patch/158534 _Testing PASS_ Submitter: fengchengwen Date: Friday, November 07 2025 00:53:57 DPDK git baseline: Repo:dpdk-next-net Branch: master CommitID:591ee7f468aebec30d68d30afa8d5e4dcfc897dc 158534 --> testing pass Upstream job id: Windows-Compile-DPDK-Native#32198 Test environment and result as below: +-------------------------------+--------------------+------------------+-------------------+-------------------------+----------------------+ | Environment | dpdk_meson_compile | dpdk_compile_ovs | dpdk_msvc_compile | dpdk_llvm_clang_compile | dpdk_mingw64_compile | +===============================+====================+==================+===================+=========================+======================+ | Ubuntu 20.04 | PASS | SKIPPED | SKIPPED | SKIPPED | SKIPPED | +-------------------------------+--------------------+------------------+-------------------+-------------------------+----------------------+ | FreeBSD 14.2 | PASS | SKIPPED | SKIPPED | SKIPPED | SKIPPED | +-------------------------------+--------------------+------------------+-------------------+-------------------------+----------------------+ | CentOS Stream 9 | PASS | SKIPPED | SKIPPED | SKIPPED | SKIPPED | +-------------------------------+--------------------+------------------+-------------------+-------------------------+----------------------+ | CentOS Stream 10 | PASS | SKIPPED | SKIPPED | SKIPPED | SKIPPED | +-------------------------------+--------------------+------------------+-------------------+-------------------------+----------------------+ | Debian GNU/Linux 12 | PASS | SKIPPED | SKIPPED | SKIPPED | SKIPPED | +-------------------------------+--------------------+------------------+-------------------+-------------------------+----------------------+ | Fedora Linux 42 | PASS | PASS | SKIPPED | SKIPPED | SKIPPED | +-------------------------------+--------------------+------------------+-------------------+-------------------------+----------------------+ | openSUSE Leap 15.6 | PASS | SKIPPED | SKIPPED | SKIPPED | SKIPPED | +-------------------------------+--------------------+------------------+-------------------+-------------------------+----------------------+ | Red Hat Enterprise Linux 8.10 | PASS | SKIPPED | SKIPPED | SKIPPED | SKIPPED | +-------------------------------+--------------------+------------------+-------------------+-------------------------+----------------------+ | Red Hat Enterprise Linux 9.5 | PASS | SKIPPED | SKIPPED | SKIPPED | SKIPPED | +-------------------------------+--------------------+------------------+-------------------+-------------------------+----------------------+ | Ubuntu 22.04 | PASS | SKIPPED | SKIPPED | SKIPPED | SKIPPED | +-------------------------------+--------------------+------------------+-------------------+-------------------------+----------------------+ | Ubuntu 24.04 | PASS | PASS | SKIPPED | SKIPPED | SKIPPED | +-------------------------------+--------------------+------------------+-------------------+-------------------------+----------------------+ | Alpine Linux 3.22.0 | PASS | SKIPPED | SKIPPED | SKIPPED | SKIPPED | +-------------------------------+--------------------+------------------+-------------------+-------------------------+----------------------+ | Windows Server 2022 | SKIPPED | SKIPPED | PASS | PASS | PASS | +-------------------------------+--------------------+------------------+-------------------+-------------------------+----------------------+ Ubuntu 20.04 Kernel: 4.19 Compiler: gcc gcc (Ubuntu 9.4.0-1ubuntu1~20.04.2) 9.4.0 FreeBSD 14.2 Kernel: 14.2-RELEASE Compiler: clang 18.1.6 CentOS Stream 9 Kernel: 5.15 Compiler: gcc gcc (GCC) 11.5.0 20240719 (Red Hat 11.5.0-11) CentOS Stream 10 Kernel: 5.15 Compiler: gcc gcc (GCC) 14.2.1 20250110 (Red Hat 14.2.1-8) Debian GNU/Linux 12 Kernel: 5.15 Compiler: gcc gcc (Debian 12.2.0-14+deb12u1) 12.2.0 Fedora Linux 42 Kernel: 5.15 Compiler: clang gcc (GCC) 15.2.1 20250808 (Red Hat 15.2.1-1) openSUSE Leap 15.6 Kernel: 5.15 Compiler: gcc gcc (SUSE Linux) 7.5.0 Red Hat Enterprise Linux 8.10 Kernel: 5.15 Compiler: gcc gcc (GCC) 8.5.0 20210514 (Red Hat 8.5.0-22) Red Hat Enterprise Linux 9.5 Kernel: 5.15 Compiler: gcc gcc (GCC) 11.5.0 20240719 (Red Hat 11.5.0-2) Ubuntu 22.04 Kernel: 5.15 Compiler: gcc gcc (Ubuntu 11.4.0-1ubuntu1~22.04) 11.4.0 Ubuntu 24.04 Kernel: 5.15 Compiler: gcc gcc (Ubuntu 13.3.0-6ubuntu2~24.04) 13.3.0 Alpine Linux 3.22.0 Kernel: 5.15 Compiler: gcc gcc (Alpine 14.2.0) 14.2.0 Windows Server 2022 Kernel: 10.0.20348.2031 Compiler: clang 15.0.7, gcc 14.1.0 (MinGW), and MSVC VS 19.39.33521 To view detailed results, visit: https://lab.dpdk.org/results/dashboard/patchsets/34502/ UNH-IOL DPDK Community Lab To manage your email subscriptions, visit: https://lab.dpdk.org/results/dashboard/preferences/subscriptions/