From mboxrd@z Thu Jan 1 00:00:00 1970 Return-Path: Received: from mails.dpdk.org (mails.dpdk.org [217.70.189.124]) by inbox.dpdk.org (Postfix) with ESMTP id 1F50B48A8D for ; Fri, 7 Nov 2025 07:54:12 +0100 (CET) Received: from mails.dpdk.org (localhost [127.0.0.1]) by mails.dpdk.org (Postfix) with ESMTP id F39D840264; Fri, 7 Nov 2025 07:54:11 +0100 (CET) Received: from mail-il1-f226.google.com (mail-il1-f226.google.com [209.85.166.226]) by mails.dpdk.org (Postfix) with ESMTP id 8801440264 for ; Fri, 7 Nov 2025 07:54:10 +0100 (CET) Received: by mail-il1-f226.google.com with SMTP id e9e14a558f8ab-4330ef18d8aso3556625ab.0 for ; Thu, 06 Nov 2025 22:54:10 -0800 (PST) DKIM-Signature: v=1; a=rsa-sha256; c=relaxed/relaxed; d=iol.unh.edu; s=unh-iol; t=1762498450; x=1763103250; darn=dpdk.org; h=cc:to:from:subject:message-id:date:from:to:cc:subject:date :message-id:reply-to; bh=QUMihDnzlQxWrBuDzp5EyXBP8eJJaxRuMilcw0InHak=; b=CH3NaaUyLzAzQX74xxYQZcBk/f1+4NwBzbIW0+QV8r6Grzq0xDzDb6U+vfAPodKeqg bmDivICGF+48WLlk+wcZ6cEwRe90bfOHCrX+sr6lYcpfoHAlYoKMTTQX2Vj0w8H36xC1 zv0slzCb0E7anXzee156J2HlWE+IkT72oMhRY= X-Google-DKIM-Signature: v=1; a=rsa-sha256; c=relaxed/relaxed; d=1e100.net; s=20230601; t=1762498450; x=1763103250; h=cc:to:from:subject:message-id:date:x-gm-gg:x-gm-message-state:from :to:cc:subject:date:message-id:reply-to; bh=QUMihDnzlQxWrBuDzp5EyXBP8eJJaxRuMilcw0InHak=; b=PGCXs/+rN3iYV0VckgVuQkQ9Xv0x37euXhQknEVsFQQYxsflgrw8rLY/k0KWwU+ItM izlY9OSdz0KryYOGPfH8vTM3TIatV59Uskyq1sLWx45XpaRLbShLukbvHReBcAYnhrCx vwkNG9dpfmIqkz4VARiCCigL7MR0U6Qgsl3HtnVASW34f7dRRPvb8hq1YXEcCk33D41i e/wPkAJO6QnB9WuH59eH5Gmsw98OjViBAiUiKZohuPPTdyl52QY2qhVOB+v+zcNdd59p POjkwj4poAGpbi0BJXaRm1kUtvoCraPHNybNA/9mGDDI0Zdjad3SqnasOozQrxEA3kTh p6+w== X-Gm-Message-State: AOJu0YzTT6hjX4NoamBvtVIXP4NlDiH6RI4e9cN8uqx6QHIBF7dFAYEA ccsgn25ijy8sQmKgXcsGJq0OLDb9zlVp1AAoIPGHijN821UWMTQBucrbGnnuFVZwuUF05EIGXNj WTcMKE/6eNFGMlF3JlAz9NLx4NsZ81FVsTsy3wy/BPoq88ReaalWp X-Gm-Gg: ASbGncubyDvMsb7nYz7nTWYwbv4Iobdpj3ozyLS/CPzESRGXtgvUXk5xS894EtkOiFA iK5KsmFPTRAbO3ffRKwgmoAJNbyzcNKy96xbaIMiM2YE/FTDSobxQRk1vQHYpCdBiEd9g87Bvea DndRKO3JlKIWMKyr8PzxGfD3ljXtXjTs3X81MxL7LQ9h5D/lDk6UFtPBSijHbNBX/jhIS9c4Hfa mvHKbHoqL0DwW/ivdRBctWz4Ql7BM2HInZpu3sa+ymKOmEEp6WQlmqI18gmXMMcytEnCzasm9IR P/ffBdy0bAKD1FqtsBA3F0f4khMzG0ILMRRm7hEtxQ/kWn9pptE88p/Kaviqdd2R9KUcfCRErid eZjwVowfD X-Google-Smtp-Source: AGHT+IGwQotsRk6fJzzTqtP055B/X4lefSWn/nZ+dAg8qT/z2b1ibePRdvYTg5c+UnLWOSrkLtrxk7bjtm9s X-Received: by 2002:a05:6e02:1d96:b0:432:fbfc:554f with SMTP id e9e14a558f8ab-4335f441570mr34345015ab.17.1762498449820; Thu, 06 Nov 2025 22:54:09 -0800 (PST) Received: from postal.iol.unh.edu (postal.iol.unh.edu. [2606:4100:3880:1234::84]) by smtp-relay.gmail.com with ESMTPS id e9e14a558f8ab-4334f45706asm3886655ab.9.2025.11.06.22.54.09 (version=TLS1_2 cipher=ECDHE-ECDSA-AES128-GCM-SHA256 bits=128/128); Thu, 06 Nov 2025 22:54:09 -0800 (PST) X-Relaying-Domain: iol.unh.edu Date: Thu, 06 Nov 2025 22:54:09 -0800 (PST) Message-ID: <690d9791.050a0220.2ca913.4024SMTPIN_ADDED_MISSING@mx.google.com> Received: from [172.21.0.3] (unknown [172.18.0.240]) by postal.iol.unh.edu (Postfix) with ESMTP id 5EF606051830; Fri, 7 Nov 2025 01:54:09 -0500 (EST) Subject: |SUCCESS| [GIT MASTER] 9784db2c5af1eecd02fc21132b59b5b266039b87 From: dpdklab@iol.unh.edu To: Test Report Cc: dpdk-test-reports@iol.unh.edu, Xueming Li , Christian Ehrhardt , Kevin Traynor , Luca Boccassi Content-Type: text/plain X-BeenThere: test-report@dpdk.org X-Mailman-Version: 2.1.29 Precedence: list List-Id: automatic DPDK test reports List-Unsubscribe: , List-Archive: List-Post: List-Help: List-Subscribe: , Errors-To: test-report-bounces@dpdk.org _Testing PASS_ Branch: tags/v22.11 9784db2c5af1eecd02fc21132b59b5b266039b87 --> testing pass Upstream job id: Generic-DPDK-Compile-Meson#441889 Test environment and result as below: +-------------------------------+--------------------+ | Environment | dpdk_meson_compile | +===============================+====================+ | CentOS Stream 10 | PASS | +-------------------------------+--------------------+ | CentOS Stream 9 | PASS | +-------------------------------+--------------------+ | Debian GNU/Linux 12 | PASS | +-------------------------------+--------------------+ | Fedora Linux 42 | PASS | +-------------------------------+--------------------+ | openSUSE Leap 15.6 | PASS | +-------------------------------+--------------------+ | Red Hat Enterprise Linux 8.10 | PASS | +-------------------------------+--------------------+ | Red Hat Enterprise Linux 9.5 | PASS | +-------------------------------+--------------------+ | Ubuntu 20.04 | PASS | +-------------------------------+--------------------+ | FreeBSD 14.2 | PASS | +-------------------------------+--------------------+ | Ubuntu 24.04 | PASS | +-------------------------------+--------------------+ | Ubuntu 22.04 | PASS | +-------------------------------+--------------------+ CentOS Stream 10 Kernel: 5.15 Compiler: gcc gcc (GCC) 14.2.1 20250110 (Red Hat 14.2.1-8) CentOS Stream 9 Kernel: 5.15 Compiler: gcc gcc (GCC) 11.5.0 20240719 (Red Hat 11.5.0-11) Debian GNU/Linux 12 Kernel: 5.15 Compiler: gcc gcc (Debian 12.2.0-14+deb12u1) 12.2.0 Fedora Linux 42 Kernel: 5.15 Compiler: clang gcc (GCC) 15.2.1 20250808 (Red Hat 15.2.1-1) openSUSE Leap 15.6 Kernel: 5.15 Compiler: gcc gcc (SUSE Linux) 7.5.0 Red Hat Enterprise Linux 8.10 Kernel: 5.15 Compiler: gcc gcc (GCC) 8.5.0 20210514 (Red Hat 8.5.0-22) Red Hat Enterprise Linux 9.5 Kernel: 5.15 Compiler: gcc gcc (GCC) 11.5.0 20240719 (Red Hat 11.5.0-2) Ubuntu 20.04 Kernel: 4.19 Compiler: gcc gcc (Ubuntu 9.4.0-1ubuntu1~20.04.2) 9.4.0 FreeBSD 14.2 Kernel: 14.2-RELEASE Compiler: clang 18.1.6 Ubuntu 24.04 Kernel: 5.15 Compiler: gcc gcc (Ubuntu 13.3.0-6ubuntu2~24.04) 13.3.0 Ubuntu 22.04 Kernel: 5.15 Compiler: gcc gcc (Ubuntu 11.4.0-1ubuntu1~22.04) 11.4.0 To view detailed results, visit: https://lab.dpdk.org/results/dashboard/tarballs/35497/ UNH-IOL DPDK Community Lab To manage your email subscriptions, visit: https://lab.dpdk.org/results/dashboard/preferences/subscriptions/