From mboxrd@z Thu Jan 1 00:00:00 1970 Return-Path: Received: from mails.dpdk.org (mails.dpdk.org [217.70.189.124]) by inbox.dpdk.org (Postfix) with ESMTP id B353948A8E for ; Fri, 7 Nov 2025 08:00:34 +0100 (CET) Received: from mails.dpdk.org (localhost [127.0.0.1]) by mails.dpdk.org (Postfix) with ESMTP id A9E5340264; Fri, 7 Nov 2025 08:00:34 +0100 (CET) Received: from mail-qk1-f228.google.com (mail-qk1-f228.google.com [209.85.222.228]) by mails.dpdk.org (Postfix) with ESMTP id CD1F640264 for ; Fri, 7 Nov 2025 08:00:33 +0100 (CET) Received: by mail-qk1-f228.google.com with SMTP id af79cd13be357-89e93741839so31681785a.3 for ; Thu, 06 Nov 2025 23:00:33 -0800 (PST) DKIM-Signature: v=1; a=rsa-sha256; c=relaxed/relaxed; d=iol.unh.edu; s=unh-iol; t=1762498833; x=1763103633; darn=dpdk.org; h=cc:to:from:subject:message-id:date:from:to:cc:subject:date :message-id:reply-to; bh=pmne/V4wP6vATxY/IyoCho3I2k/xx1qceoFZbCFlrhk=; b=E9hVFxYxEmVSEfKpfLo1793HjqjA+DNVB/AcfD1wL/WYtI2a3VikYA6q5oy7WkUxo5 cDg1hwcQdLK3F5662HlRdTa1N9nzlL4lzK0z6Tkq2fdI4bjgiSYdDD7/HAGlycOyGMGs zbA4u7wBtvbDAX96fJFpN9620brhr2OMoOi3Y= X-Google-DKIM-Signature: v=1; a=rsa-sha256; c=relaxed/relaxed; d=1e100.net; s=20230601; t=1762498833; x=1763103633; h=cc:to:from:subject:message-id:date:x-gm-gg:x-gm-message-state:from :to:cc:subject:date:message-id:reply-to; bh=pmne/V4wP6vATxY/IyoCho3I2k/xx1qceoFZbCFlrhk=; b=LoqFTwJmEJCAyonXcN4Jm29fSzAQyKJJnDDz2ddnlsKQXcrfoGHR5gvS9lRs1XNk9D kxBFpNbitNvbBFEtQrPnal5aDDb5d2SzPES87niNDKnIAne2rkM0RsNN1tPQopiVka/c 3grRLIFcDs1S2zxtxd96Nd6W+LfajL3nEB+7sKJHUI04/yI+XMm6ABOCTHz6HOVDQmmH GPHFrpMVxFbTCnCaQ5/8AzQ3/LrriCoxhddr6GqlpwHHiJQutVYF/nBT2y4aZrmzk1sf 11uokw5ux8I7wNZQtxlaAFf0Z3pSMHMpOlNzhjsvgzPjE5N7o90Vb9UXOX+WjMNxDDRI kruw== X-Gm-Message-State: AOJu0Yx+OCByTCdjAakP9wo0GN1wCerafxMscCcxkCvfFDio+m4mvYLP YVo++f4gHFpUWHbtijZoJSD14C1klPie+l8E8FAlu050ZigvMkNL80VBqLGzXVJdkpmbMN1gja0 GyiD712Jyj4oKIGM0Ni5Vkdy0Zj8V1WyqVVrS7/1Jye2pNzqaY4xH X-Gm-Gg: ASbGncuXA5jMuIphyI7LR9gXb8OUeqjp9Dv/4F8TfSh5JE5ZukN9U7NG+uMRExGEdJp 5oTP5uo5uE3HCfWDw6iU/FZq/m41C1cVufnBCQE83zftSp0F0lrjCGm2UEefSbP3A8wIvHJvXRs Hpi+acdF8a5fDBniDnSzT7CrRAqPtXWzlE8/u75kpYsj4ch5CuVt98ggtqf+rYqI+/HU60rW51W Vc3AWE+S2rZDvc34USNs4RrreT10NoHKbynztAbqwSzfIGmTs9iWrAphMTyeVwWGL7oa+sOkF7E sYIj2solGZikrPajBcdTipMFuZ1A6XdiAQxL/8D9PjqUjI8/NuFo2A6HX1vX0AdieT8VFAHR5cm Vt6lYRXvj X-Google-Smtp-Source: AGHT+IHCoCTc8bzAdHFl41wJux2/vtXHi58M963tRA/YjK3/ThnIs7g2bQ2gbZS+H2xk+YOaTmPHMyGOvbkf X-Received: by 2002:ac8:7d14:0:b0:4ec:fce1:fbc8 with SMTP id d75a77b69052e-4ed949c9db9mr25000531cf.30.1762498833134; Thu, 06 Nov 2025 23:00:33 -0800 (PST) Received: from postal.iol.unh.edu (postal.iol.unh.edu. [2606:4100:3880:1234::84]) by smtp-relay.gmail.com with ESMTPS id 6a1803df08f44-880829d2036sm4462416d6.17.2025.11.06.23.00.33 (version=TLS1_2 cipher=ECDHE-ECDSA-AES128-GCM-SHA256 bits=128/128); Thu, 06 Nov 2025 23:00:33 -0800 (PST) X-Relaying-Domain: iol.unh.edu Date: Thu, 06 Nov 2025 23:00:33 -0800 (PST) Message-ID: <690d9911.d40a0220.37509a.7104SMTPIN_ADDED_MISSING@mx.google.com> Received: from [172.21.0.3] (unknown [172.18.0.240]) by postal.iol.unh.edu (Postfix) with ESMTP id CE7616051830; Fri, 7 Nov 2025 02:00:32 -0500 (EST) Subject: |SUCCESS| [GIT MASTER] 9784db2c5af1eecd02fc21132b59b5b266039b87 From: dpdklab@iol.unh.edu To: Test Report Cc: dpdk-test-reports@iol.unh.edu, Xueming Li , Christian Ehrhardt , Kevin Traynor , Luca Boccassi Content-Type: text/plain X-BeenThere: test-report@dpdk.org X-Mailman-Version: 2.1.29 Precedence: list List-Id: automatic DPDK test reports List-Unsubscribe: , List-Archive: List-Post: List-Help: List-Subscribe: , Errors-To: test-report-bounces@dpdk.org _Testing PASS_ Branch: tags/v22.11 9784db2c5af1eecd02fc21132b59b5b266039b87 --> testing pass Upstream job id: Windows-Compile-DPDK-Native#32201 Test environment and result as below: +-------------------------------+--------------------+-------------------------+ | Environment | dpdk_meson_compile | dpdk_llvm_clang_compile | +===============================+====================+=========================+ | CentOS Stream 10 | PASS | SKIPPED | +-------------------------------+--------------------+-------------------------+ | CentOS Stream 9 | PASS | SKIPPED | +-------------------------------+--------------------+-------------------------+ | Debian GNU/Linux 12 | PASS | SKIPPED | +-------------------------------+--------------------+-------------------------+ | Fedora Linux 42 | PASS | SKIPPED | +-------------------------------+--------------------+-------------------------+ | openSUSE Leap 15.6 | PASS | SKIPPED | +-------------------------------+--------------------+-------------------------+ | Red Hat Enterprise Linux 8.10 | PASS | SKIPPED | +-------------------------------+--------------------+-------------------------+ | Red Hat Enterprise Linux 9.5 | PASS | SKIPPED | +-------------------------------+--------------------+-------------------------+ | Ubuntu 20.04 | PASS | SKIPPED | +-------------------------------+--------------------+-------------------------+ | FreeBSD 14.2 | PASS | SKIPPED | +-------------------------------+--------------------+-------------------------+ | Ubuntu 24.04 | PASS | SKIPPED | +-------------------------------+--------------------+-------------------------+ | Ubuntu 22.04 | PASS | SKIPPED | +-------------------------------+--------------------+-------------------------+ | Windows Server 2022 | SKIPPED | PASS | +-------------------------------+--------------------+-------------------------+ CentOS Stream 10 Kernel: 5.15 Compiler: gcc gcc (GCC) 14.2.1 20250110 (Red Hat 14.2.1-8) CentOS Stream 9 Kernel: 5.15 Compiler: gcc gcc (GCC) 11.5.0 20240719 (Red Hat 11.5.0-11) Debian GNU/Linux 12 Kernel: 5.15 Compiler: gcc gcc (Debian 12.2.0-14+deb12u1) 12.2.0 Fedora Linux 42 Kernel: 5.15 Compiler: clang gcc (GCC) 15.2.1 20250808 (Red Hat 15.2.1-1) openSUSE Leap 15.6 Kernel: 5.15 Compiler: gcc gcc (SUSE Linux) 7.5.0 Red Hat Enterprise Linux 8.10 Kernel: 5.15 Compiler: gcc gcc (GCC) 8.5.0 20210514 (Red Hat 8.5.0-22) Red Hat Enterprise Linux 9.5 Kernel: 5.15 Compiler: gcc gcc (GCC) 11.5.0 20240719 (Red Hat 11.5.0-2) Ubuntu 20.04 Kernel: 4.19 Compiler: gcc gcc (Ubuntu 9.4.0-1ubuntu1~20.04.2) 9.4.0 FreeBSD 14.2 Kernel: 14.2-RELEASE Compiler: clang 18.1.6 Ubuntu 24.04 Kernel: 5.15 Compiler: gcc gcc (Ubuntu 13.3.0-6ubuntu2~24.04) 13.3.0 Ubuntu 22.04 Kernel: 5.15 Compiler: gcc gcc (Ubuntu 11.4.0-1ubuntu1~22.04) 11.4.0 Windows Server 2022 Kernel: 10.0.20348.2031 Compiler: clang 15.0.7, gcc 14.1.0 (MinGW), and MSVC VS 19.39.33521 To view detailed results, visit: https://lab.dpdk.org/results/dashboard/tarballs/35497/ UNH-IOL DPDK Community Lab To manage your email subscriptions, visit: https://lab.dpdk.org/results/dashboard/preferences/subscriptions/