From mboxrd@z Thu Jan 1 00:00:00 1970 Return-Path: Received: from mails.dpdk.org (mails.dpdk.org [217.70.189.124]) by inbox.dpdk.org (Postfix) with ESMTP id 535F548A92 for ; Fri, 7 Nov 2025 08:07:30 +0100 (CET) Received: from mails.dpdk.org (localhost [127.0.0.1]) by mails.dpdk.org (Postfix) with ESMTP id 4F41440280; Fri, 7 Nov 2025 08:07:30 +0100 (CET) Received: from mail-yw1-f226.google.com (mail-yw1-f226.google.com [209.85.128.226]) by mails.dpdk.org (Postfix) with ESMTP id B9DD040280 for ; Fri, 7 Nov 2025 08:07:28 +0100 (CET) Received: by mail-yw1-f226.google.com with SMTP id 00721157ae682-7866bca6765so3750727b3.1 for ; Thu, 06 Nov 2025 23:07:28 -0800 (PST) DKIM-Signature: v=1; a=rsa-sha256; c=relaxed/relaxed; d=iol.unh.edu; s=unh-iol; t=1762499248; x=1763104048; darn=dpdk.org; h=cc:to:from:subject:message-id:date:from:to:cc:subject:date :message-id:reply-to; bh=pWQUfA1jFKQDiw0n9ZyHEeBR+9h/aeQtN4rkYBToAcg=; b=g68YZVcAHUspnBkLsA6KVQPI4x8i3msx10I2jJZ4aEEWIGBBJmW7O46x/aI3Tw3/OY iVcZAWipudp19gdze+w7YBttDK/oD7KuAWxdKRWzyHKNT7YYCVdAx8YyzDAOKRHsr1S8 dNsitrYdSKEQGrNpohPRD+Jb24u8I12M+1ri0= X-Google-DKIM-Signature: v=1; a=rsa-sha256; c=relaxed/relaxed; d=1e100.net; s=20230601; t=1762499248; x=1763104048; h=cc:to:from:subject:message-id:date:x-gm-gg:x-gm-message-state:from :to:cc:subject:date:message-id:reply-to; bh=pWQUfA1jFKQDiw0n9ZyHEeBR+9h/aeQtN4rkYBToAcg=; b=EScxfmmawuYaB4goMI254vXu9ueKgUbG9t4HT0+PyvKfn9vBkGg7VCJ31JVXJcpdQx QoXzgfB26WaCsmVX8JRi7uShU8GtipKAD4+ZIT4VmrC+bCqbuOL1wwlI2cnSfo+SLFFC LenfvIbOaxAuZa7/q9QNL25Ad1rBG5Ne0ZGBctMvAB6WK9JBZ1zfRoyD1U+bGT6OVRVO MBfAlv8YY/i7spwnj9hgN6elaadY4Kw2RGXvFoQqgW3qhWFmzWl/a3DqVR42wK1SxbGE Kg4hBbfwKWZaEBI04kwnkbJw01/71cFDBZkOJYpZ0TllOmtH8lyRTBibPWa9qutWqhbC wGsw== X-Gm-Message-State: AOJu0Yy8VFsh6Ibx96aBC94/dnWzpZ0+1R23TBeLISoWXQK8iV1FLtSB iMC9y/zKdQf+KP9DnXN82orTrDGnAG+ZbbKfkw+n+LkzT6vwtA/engz9PfQ+VhMRCTVRYiFhDBY tCL+1bM4t8zau0ZCnNTGfgOz41xkO0PgfQUFJ X-Gm-Gg: ASbGncuIDYXUZUgVXc1qtUieJqbXbSUzQrypP8L+GqTXcdQ5ivuoSJxLuXxpoVxKxy3 Zdc9+TfyGJBleoAbczWQ0U1XUDrw4gE8DBW91khnc2cUFaG8dNwdyj6Aj3MmuTOjE5Npr81BhLj V3yHzL06XxpzBZBfXlOssh0wK9j5mw84E/0/0MBbVemaY3k7EHUW87UX7J+QL899etIyUFGejZ0 04wqeHeH89DCjRXT4MV7U6+XamMIox1RVgBJMYdlMtjIfp6Nogf0T4DT6JP+IQtkRWRNOhR6hVn Fh0oHQB1uINvQA80GYBn2RtWo4AN0mAWu1JFQds/1j9DrmgzfzZcfTF9xRTNap2t/GfuxHoJkVY 8hQLTSd7Xevu0L0bT5pDHztyx6T5e4DA= X-Google-Smtp-Source: AGHT+IGWEFKM+5zdTwBiKMSf/BGYJSWj+xPj07omQbr4XC/KamBd3C6tqmH/IUexeKZL15qzqs9TJI25KT6l X-Received: by 2002:a05:690c:4a13:b0:786:6a33:a754 with SMTP id 00721157ae682-787c532707dmr21431127b3.28.1762499248130; Thu, 06 Nov 2025 23:07:28 -0800 (PST) Received: from postal.iol.unh.edu (postal.iol.unh.edu. [132.177.123.84]) by smtp-relay.gmail.com with ESMTPS id 00721157ae682-787b163d73bsm2329757b3.6.2025.11.06.23.07.28 (version=TLS1_2 cipher=ECDHE-ECDSA-AES128-GCM-SHA256 bits=128/128); Thu, 06 Nov 2025 23:07:28 -0800 (PST) X-Relaying-Domain: iol.unh.edu Date: Thu, 06 Nov 2025 23:07:28 -0800 (PST) Message-ID: <690d9ab0.050a0220.1699c8.c2fdSMTPIN_ADDED_MISSING@mx.google.com> Received: from [172.21.0.2] (unknown [172.18.0.240]) by postal.iol.unh.edu (Postfix) with ESMTP id C8FAF6051830; Fri, 7 Nov 2025 02:07:27 -0500 (EST) Subject: |SUCCESS| [GIT MASTER] 9784db2c5af1eecd02fc21132b59b5b266039b87 From: dpdklab@iol.unh.edu To: Test Report Cc: dpdk-test-reports@iol.unh.edu, Xueming Li , Christian Ehrhardt , Kevin Traynor , Luca Boccassi Content-Type: text/plain X-BeenThere: test-report@dpdk.org X-Mailman-Version: 2.1.29 Precedence: list List-Id: automatic DPDK test reports List-Unsubscribe: , List-Archive: List-Post: List-Help: List-Subscribe: , Errors-To: test-report-bounces@dpdk.org _Testing PASS_ Branch: tags/v22.11 9784db2c5af1eecd02fc21132b59b5b266039b87 --> testing pass Upstream job id: Windows-Compile-DPDK-Native#32202 Test environment and result as below: +-------------------------------+--------------------+-------------------------+----------------------+ | Environment | dpdk_meson_compile | dpdk_llvm_clang_compile | dpdk_mingw64_compile | +===============================+====================+=========================+======================+ | CentOS Stream 10 | PASS | SKIPPED | SKIPPED | +-------------------------------+--------------------+-------------------------+----------------------+ | CentOS Stream 9 | PASS | SKIPPED | SKIPPED | +-------------------------------+--------------------+-------------------------+----------------------+ | Debian GNU/Linux 12 | PASS | SKIPPED | SKIPPED | +-------------------------------+--------------------+-------------------------+----------------------+ | Fedora Linux 42 | PASS | SKIPPED | SKIPPED | +-------------------------------+--------------------+-------------------------+----------------------+ | openSUSE Leap 15.6 | PASS | SKIPPED | SKIPPED | +-------------------------------+--------------------+-------------------------+----------------------+ | Red Hat Enterprise Linux 8.10 | PASS | SKIPPED | SKIPPED | +-------------------------------+--------------------+-------------------------+----------------------+ | Red Hat Enterprise Linux 9.5 | PASS | SKIPPED | SKIPPED | +-------------------------------+--------------------+-------------------------+----------------------+ | Ubuntu 20.04 | PASS | SKIPPED | SKIPPED | +-------------------------------+--------------------+-------------------------+----------------------+ | FreeBSD 14.2 | PASS | SKIPPED | SKIPPED | +-------------------------------+--------------------+-------------------------+----------------------+ | Ubuntu 24.04 | PASS | SKIPPED | SKIPPED | +-------------------------------+--------------------+-------------------------+----------------------+ | Ubuntu 22.04 | PASS | SKIPPED | SKIPPED | +-------------------------------+--------------------+-------------------------+----------------------+ | Windows Server 2022 | SKIPPED | PASS | PASS | +-------------------------------+--------------------+-------------------------+----------------------+ CentOS Stream 10 Kernel: 5.15 Compiler: gcc gcc (GCC) 14.2.1 20250110 (Red Hat 14.2.1-8) CentOS Stream 9 Kernel: 5.15 Compiler: gcc gcc (GCC) 11.5.0 20240719 (Red Hat 11.5.0-11) Debian GNU/Linux 12 Kernel: 5.15 Compiler: gcc gcc (Debian 12.2.0-14+deb12u1) 12.2.0 Fedora Linux 42 Kernel: 5.15 Compiler: clang gcc (GCC) 15.2.1 20250808 (Red Hat 15.2.1-1) openSUSE Leap 15.6 Kernel: 5.15 Compiler: gcc gcc (SUSE Linux) 7.5.0 Red Hat Enterprise Linux 8.10 Kernel: 5.15 Compiler: gcc gcc (GCC) 8.5.0 20210514 (Red Hat 8.5.0-22) Red Hat Enterprise Linux 9.5 Kernel: 5.15 Compiler: gcc gcc (GCC) 11.5.0 20240719 (Red Hat 11.5.0-2) Ubuntu 20.04 Kernel: 4.19 Compiler: gcc gcc (Ubuntu 9.4.0-1ubuntu1~20.04.2) 9.4.0 FreeBSD 14.2 Kernel: 14.2-RELEASE Compiler: clang 18.1.6 Ubuntu 24.04 Kernel: 5.15 Compiler: gcc gcc (Ubuntu 13.3.0-6ubuntu2~24.04) 13.3.0 Ubuntu 22.04 Kernel: 5.15 Compiler: gcc gcc (Ubuntu 11.4.0-1ubuntu1~22.04) 11.4.0 Windows Server 2022 Kernel: 10.0.20348.2031 Compiler: clang 15.0.7, gcc 14.1.0 (MinGW), and MSVC VS 19.39.33521 To view detailed results, visit: https://lab.dpdk.org/results/dashboard/tarballs/35497/ UNH-IOL DPDK Community Lab To manage your email subscriptions, visit: https://lab.dpdk.org/results/dashboard/preferences/subscriptions/