From mboxrd@z Thu Jan 1 00:00:00 1970 Return-Path: Received: from mails.dpdk.org (mails.dpdk.org [217.70.189.124]) by inbox.dpdk.org (Postfix) with ESMTP id 1416C48A92 for ; Fri, 7 Nov 2025 09:25:30 +0100 (CET) Received: from mails.dpdk.org (localhost [127.0.0.1]) by mails.dpdk.org (Postfix) with ESMTP id E147B4021F; Fri, 7 Nov 2025 09:25:29 +0100 (CET) Received: from mail-qk1-f226.google.com (mail-qk1-f226.google.com [209.85.222.226]) by mails.dpdk.org (Postfix) with ESMTP id 6D97A4021F for ; Fri, 7 Nov 2025 09:25:28 +0100 (CET) Received: by mail-qk1-f226.google.com with SMTP id af79cd13be357-88f2aebce7fso48404485a.3 for ; Fri, 07 Nov 2025 00:25:28 -0800 (PST) DKIM-Signature: v=1; a=rsa-sha256; c=relaxed/relaxed; d=iol.unh.edu; s=unh-iol; t=1762503928; x=1763108728; darn=dpdk.org; h=references:in-reply-to:cc:to:from:subject:message-id:date:from:to :cc:subject:date:message-id:reply-to; bh=gWgHob1CKAE/YReA5M1Y1FEHkfG2/P2sbQkdtlhQsRk=; b=dS6eekIr/c4xjydfj0vhwL9YwNgZVz+xk+bBHBFSG1J9ilRz08VrSVzw+5ZWaRuyHQ I9FN7BhgvQvII1jqLHlpkdEKx25lDWJTpOu5dBdMB7ge5bW58J238j/fB0KY88xh5Ihe ZYi2BRLFETJF5sS0CmdI65HpYazxO1Q/6R+Z8= X-Google-DKIM-Signature: v=1; a=rsa-sha256; c=relaxed/relaxed; d=1e100.net; s=20230601; t=1762503928; x=1763108728; h=references:in-reply-to:cc:to:from:subject:message-id:date:x-gm-gg :x-gm-message-state:from:to:cc:subject:date:message-id:reply-to; bh=gWgHob1CKAE/YReA5M1Y1FEHkfG2/P2sbQkdtlhQsRk=; b=vxAhyowk3rB6kpX+rDnks5FkdsvlkjSLCTZjeIsDABF/FzgbMvuD6UXMOHv7d1g+cO fmLNx7CRLv3mWN6dPBAEELScvwWRdcoBsPV6rpj017+cyb1Ko4t3y/+DP4l3yjdrC5F/ 2H6BUMZox8pT7mHUMtKXKWMmaw1JXuXkkDeuUZ5hZcTcK+A1tKe+1aW4lwm5GmxoanrR lIYJJnE/V4RQZD757GV58wNfRz6q/Ytt6HGS1/eHFdeS1M5HBoE3Z4oQO4UJBpOjurim IZ0nty1c2pl1Ur2sqXu9VcDEtDOAMr0cbYPrRJ5M5ThTRr+EJDrXK2lYTneBk1wEHKa7 gAuA== X-Gm-Message-State: AOJu0YwSDZyQW3QdzWwfDqnnJw/GXk7sV37E/FmVkgtPt7HxLfGN+igG wGWkVvOf6djY02ap1+GnX7BlrVURlcBv4IwBkBa1CKR3aF1CFY5K52uimLP2jaxoTFSsZIFH9sJ naKk6N4loKHrAhCE/zEtZ1rulUN4Jbi7PjyfT5h9KkOrQPFHD6XcvdiQUbLGp X-Gm-Gg: ASbGncvqxLEYA4/FvH/MOj47D3eCzLbdeii1NCEGfJO59bxNfbjcGhOQlGEUGTF7aA+ js7sgdOJRzvrvB8FzW5gmQD8U9XOCq4XYhWObnEYrNgwYjbrvRlwhZjE3SdLJzCbEMJgOgrss3v GaT14MHE3t53+/le39S1gKMorM7YcVBzn6g2gbqBp5lYUZ03RKb+L5fDXsMW6asG3qyxWO913eW UIwLDByS1/CNQ4p1FiWToofAU2oo2sPMfIv2+InJTCbZENoDYwgx59GQJGAoT7VBh2a4HJEtt1L NiOA1seJvqeJL0K/VwrNilPlMCv3k0Sjb1gzwhHIhylgs4bn92Wm4PlRhW5bAf22ORfLcGWse6t cqv+YMW8L X-Google-Smtp-Source: AGHT+IH0FQb6oAYG/aOgf4wYUDbmYbCaDBIxBX4ifnRDHF4w1e/WEINtiFoRG+ANwUanb6OfQAuDz0sLwDkg X-Received: by 2002:a05:620a:4490:b0:8a2:595f:64f with SMTP id af79cd13be357-8b24531cbd5mr370130585a.44.1762503927705; Fri, 07 Nov 2025 00:25:27 -0800 (PST) Received: from postal.iol.unh.edu (postal.iol.unh.edu. [2606:4100:3880:1234::84]) by smtp-relay.gmail.com with ESMTPS id af79cd13be357-8b23568d95esm45584685a.3.2025.11.07.00.25.27 (version=TLS1_2 cipher=ECDHE-ECDSA-AES128-GCM-SHA256 bits=128/128); Fri, 07 Nov 2025 00:25:27 -0800 (PST) X-Relaying-Domain: iol.unh.edu Date: Fri, 07 Nov 2025 00:25:27 -0800 (PST) Message-ID: <690dacf7.050a0220.3adbaa.7713SMTPIN_ADDED_MISSING@mx.google.com> Received: from [172.21.0.3] (unknown [172.18.0.240]) by postal.iol.unh.edu (Postfix) with ESMTP id 370B16051830; Fri, 7 Nov 2025 03:25:27 -0500 (EST) Subject: |SUCCESS| pw158528 [PATCH] [v5] net/ice: add option to enable source From: dpdklab@iol.unh.edu To: Test Report Cc: dpdk-test-reports@iol.unh.edu, Bruce Richardson In-Reply-To: <20251106163334.95660-1-anurag.mandal@intel.com> References: <20251106163334.95660-1-anurag.mandal@intel.com> Content-Type: text/plain X-BeenThere: test-report@dpdk.org X-Mailman-Version: 2.1.29 Precedence: list List-Id: automatic DPDK test reports List-Unsubscribe: , List-Archive: List-Post: List-Help: List-Subscribe: , Errors-To: test-report-bounces@dpdk.org Test-Label: iol-unit-arm64-testing Test-Status: SUCCESS http://dpdk.org/patch/158528 _Testing PASS_ Submitter: Anurag Mandal Date: Thursday, November 06 2025 16:33:34 DPDK git baseline: Repo:dpdk-next-net-intel Branch: master CommitID:2a7bebfa5b488f8c49c9c63f2b7b7ce5cc088560 158528 --> testing pass Upstream job id: Generic-Unit-Test-DPDK#389471 Test environment and result as below: +------------------------------+----------------+---------------------------+------------------------------+--------------+ | Environment | dpdk_unit_test | cryptodev_sw_zuc_autotest | cryptodev_sw_snow3g_autotest | lpm_autotest | +==============================+================+===========================+==============================+==============+ | Fedora Linux 40 | PASS | SKIPPED | SKIPPED | SKIPPED | +------------------------------+----------------+---------------------------+------------------------------+--------------+ | Fedora Linux 41 | PASS | SKIPPED | SKIPPED | SKIPPED | +------------------------------+----------------+---------------------------+------------------------------+--------------+ | Debian GNU/Linux 12 | PASS | SKIPPED | SKIPPED | SKIPPED | +------------------------------+----------------+---------------------------+------------------------------+--------------+ | Fedora Linux 42 | PASS | SKIPPED | SKIPPED | SKIPPED | +------------------------------+----------------+---------------------------+------------------------------+--------------+ | CentOS Stream 9 | PASS | SKIPPED | SKIPPED | SKIPPED | +------------------------------+----------------+---------------------------+------------------------------+--------------+ | CentOS Stream 10 | PASS | SKIPPED | SKIPPED | SKIPPED | +------------------------------+----------------+---------------------------+------------------------------+--------------+ | Red Hat Enterprise Linux 9.5 | PASS | SKIPPED | SKIPPED | SKIPPED | +------------------------------+----------------+---------------------------+------------------------------+--------------+ | Ubuntu 20.04 | PASS | SKIPPED | SKIPPED | PASS | +------------------------------+----------------+---------------------------+------------------------------+--------------+ | Ubuntu 24.04 | PASS | SKIPPED | SKIPPED | SKIPPED | +------------------------------+----------------+---------------------------+------------------------------+--------------+ | Ubuntu 22.04 | PASS | SKIPPED | SKIPPED | SKIPPED | +------------------------------+----------------+---------------------------+------------------------------+--------------+ | Debian 12 (arm) | SKIPPED | PASS | PASS | SKIPPED | +------------------------------+----------------+---------------------------+------------------------------+--------------+ Fedora Linux 40 Kernel: 5.4 Compiler: clang gcc (GCC) 14.2.1 20240912 (Red Hat 14.2.1-3) Fedora Linux 41 Kernel: 5.4 Compiler: gcc gcc (GCC) 14.3.1 20250523 (Red Hat 14.3.1-1) Debian GNU/Linux 12 Kernel: 5.4 Compiler: gcc gcc (Debian 12.2.0-14+deb12u1) 12.2.0 Fedora Linux 42 Kernel: 5.4 Compiler: gcc gcc (GCC) 15.2.1 20250808 (Red Hat 15.2.1-1) CentOS Stream 9 Kernel: 5.4 Compiler: gcc gcc (GCC) 11.5.0 20240719 (Red Hat 11.5.0-11) CentOS Stream 10 Kernel: 5.4 Compiler: gcc gcc (GCC) 14.2.1 20250110 (Red Hat 14.2.1-8) Red Hat Enterprise Linux 9.5 Kernel: 5.4 Compiler: gcc gcc (GCC) 11.5.0 20240719 (Red Hat 11.5.0-2) Ubuntu 20.04 Kernel: 5.4 Compiler: gcc gcc (Ubuntu 9.4.0-1ubuntu1~20.04.2) 9.4.0 Ubuntu 24.04 Kernel: 5.4 Compiler: gcc gcc (Ubuntu 13.3.0-6ubuntu2~24.04) 13.3.0 Ubuntu 22.04 Kernel: 5.4 Compiler: gcc gcc (Ubuntu 11.4.0-1ubuntu1~22.04) 11.4.0 Debian 12 (arm) Kernel: Depends on container host Compiler: gcc (Debian 12.2.0-14) 12.2.0 To view detailed results, visit: https://lab.dpdk.org/results/dashboard/patchsets/34490/ UNH-IOL DPDK Community Lab To manage your email subscriptions, visit: https://lab.dpdk.org/results/dashboard/preferences/subscriptions/