From mboxrd@z Thu Jan 1 00:00:00 1970 Return-Path: Received: from mails.dpdk.org (mails.dpdk.org [217.70.189.124]) by inbox.dpdk.org (Postfix) with ESMTP id 8D5B148A92 for ; Fri, 7 Nov 2025 09:31:02 +0100 (CET) Received: from mails.dpdk.org (localhost [127.0.0.1]) by mails.dpdk.org (Postfix) with ESMTP id 5D6224021F; Fri, 7 Nov 2025 09:31:02 +0100 (CET) Received: from mail-oa1-f99.google.com (mail-oa1-f99.google.com [209.85.160.99]) by mails.dpdk.org (Postfix) with ESMTP id A970C4021F for ; Fri, 7 Nov 2025 09:31:01 +0100 (CET) Received: by mail-oa1-f99.google.com with SMTP id 586e51a60fabf-3e4228e0fb7so331848fac.3 for ; Fri, 07 Nov 2025 00:31:01 -0800 (PST) DKIM-Signature: v=1; a=rsa-sha256; c=relaxed/relaxed; d=iol.unh.edu; s=unh-iol; t=1762504261; x=1763109061; darn=dpdk.org; h=references:in-reply-to:cc:to:from:subject:message-id:date:from:to :cc:subject:date:message-id:reply-to; bh=5ZjSYgP+DcRKJc4u6tszlO9dScwU002ETYeA+eDs2Fk=; b=aRnnwZKfOsogriam8HHaxqS7BrzJS0xvQFuOJ5QK+YTPvD319NOi1DoIdSqQlMaHcQ YIxAGkCysaG6sRnWXw3kdFw9FpwRTyWSUsXh2iALXb0zLSqOnqYNZbJk7F8ZZ0107bWs T/zjm80q1v7WbjqsDYGx5luthz7HNbZWOweS8= X-Google-DKIM-Signature: v=1; a=rsa-sha256; c=relaxed/relaxed; d=1e100.net; s=20230601; t=1762504261; x=1763109061; h=references:in-reply-to:cc:to:from:subject:message-id:date:x-gm-gg :x-gm-message-state:from:to:cc:subject:date:message-id:reply-to; bh=5ZjSYgP+DcRKJc4u6tszlO9dScwU002ETYeA+eDs2Fk=; b=e4qwGJLFzLWg9NotXWjxbOQG59CaXEqZ38l9ZXrSj4bQGKd/qTbcs6TLjeGnwDQtMO WDJYxUKpfqK3gO1c9GIlzX15wuzR2zSccwAOCLA2PluZJrtPtUGCB1rCHGcJXkkHk8Ki zKHTG28B2fkBV7NT7FwcBsTThcfoX5LGihckzSzgN91UYhNOqktIPWeTqKxX0q0gFqik 3r8TquD7pGQ0bemIKw8++APpr3Y2K9v33Ry2SQvH8ayahPbe9D303Z22unuBZ2Q7Eq9S EYtnAgJnr9sQ9HZQJr8jlCCqc8qo11OMdKrcVjd3Q9kjrTjQrrZK3ZefIv60Yk2Iv/i3 DQ1g== X-Gm-Message-State: AOJu0YyfsEoNED3O9iMx5zAnflPsWMbEKmU8jl1ZZIBwwOefLPQggBd5 MyIfTohzGfHrAAz2Cz4MjCUAIrtXr3jq8B72yUOGkPiM1JmlJXBg2lN1ypaca3OuDU01hFoMivm i+EHBK/6c/+9T05oIl6plgeStsCNMssSxstEgYnTSV4PHu/C9WO3wAuHmk4az X-Gm-Gg: ASbGncu40mdYA/B/AYAHL4rTpxBdppl52druXOoNsZBb5KjkusrgDcotmP+c8nqXOT/ JFnaARAbRQ0a6ibCu3iaCwc0c0ygs3wv3zMo7HpqgPGMDhX7dL69mwl8rriHTtJ+a9QNfjQEfoq G+9IdGhaF7zQUj4X1rZJMSHBPMuW21X/MZT9tIkX/qdT0g0Ejp0ZN7KKjatsKcjGaBnHqu9E8aT 5iKee6rzZtLc3V58ZHqyp1BU5/kSDBBj4oUXiTxt/llQfu75hqnHljKQJOq07CTDKuwpjXkxHDP s3FAmeUHQRN2ib1JFDrzGtHCyyYndjlaYnewVZPebkNuRXs6BXOejTF/nWjHCMfjV3h2gjg4vCR ZEYgRlSFR X-Google-Smtp-Source: AGHT+IHk2qzmPWV8XyDn9DJniVTb2G5Hd0f9zgkIuWdfR90+B8jyq/Y4CRcqAAmTPYr8pGEm5Z2KrUMirzf8 X-Received: by 2002:a05:6870:a78a:b0:3d2:3a88:f27 with SMTP id 586e51a60fabf-3e41e608847mr1754398fac.27.1762504260944; Fri, 07 Nov 2025 00:31:00 -0800 (PST) Received: from postal.iol.unh.edu (postal.iol.unh.edu. [2606:4100:3880:1234::84]) by smtp-relay.gmail.com with ESMTPS id 586e51a60fabf-3e41ed50befsm167200fac.5.2025.11.07.00.31.00 (version=TLS1_2 cipher=ECDHE-ECDSA-AES128-GCM-SHA256 bits=128/128); Fri, 07 Nov 2025 00:31:00 -0800 (PST) X-Relaying-Domain: iol.unh.edu Date: Fri, 07 Nov 2025 00:31:00 -0800 (PST) Message-ID: <690dae44.050a0220.1b4f7d.8b39SMTPIN_ADDED_MISSING@mx.google.com> Received: from [172.21.0.2] (unknown [172.18.0.240]) by postal.iol.unh.edu (Postfix) with ESMTP id E67416051830; Fri, 7 Nov 2025 03:30:59 -0500 (EST) Subject: |SUCCESS| pw158542 [PATCH] net/ice: fix statistics read error From: dpdklab@iol.unh.edu To: Test Report Cc: dpdk-test-reports@iol.unh.edu, Bruce Richardson In-Reply-To: <20251107074338.957352-1-zhichaox.zeng@intel.com> References: <20251107074338.957352-1-zhichaox.zeng@intel.com> Content-Type: text/plain X-BeenThere: test-report@dpdk.org X-Mailman-Version: 2.1.29 Precedence: list List-Id: automatic DPDK test reports List-Unsubscribe: , List-Archive: List-Post: List-Help: List-Subscribe: , Errors-To: test-report-bounces@dpdk.org Test-Label: iol-compile-amd64-testing Test-Status: SUCCESS http://dpdk.org/patch/158542 _Testing PASS_ Submitter: Zhichao Zeng Date: Friday, November 07 2025 07:43:38 DPDK git baseline: Repo:dpdk-next-net-intel Branch: master CommitID:1655dc989bc95fa85fc76d32912d2e46c0851148 158542 --> testing pass Upstream job id: Windows-Compile-DPDK-Native#32207 Test environment and result as below: +-------------------------------+-------------------+--------------------+------------------+-------------------------+ | Environment | dpdk_msvc_compile | dpdk_meson_compile | dpdk_compile_ovs | dpdk_llvm_clang_compile | +===============================+===================+====================+==================+=========================+ | Windows Server 2022 | PASS | SKIPPED | SKIPPED | PASS | +-------------------------------+-------------------+--------------------+------------------+-------------------------+ | Debian GNU/Linux 12 | SKIPPED | PASS | SKIPPED | SKIPPED | +-------------------------------+-------------------+--------------------+------------------+-------------------------+ | CentOS Stream 10 | SKIPPED | PASS | SKIPPED | SKIPPED | +-------------------------------+-------------------+--------------------+------------------+-------------------------+ | Ubuntu 20.04 | SKIPPED | PASS | SKIPPED | SKIPPED | +-------------------------------+-------------------+--------------------+------------------+-------------------------+ | openSUSE Leap 15.6 | SKIPPED | PASS | SKIPPED | SKIPPED | +-------------------------------+-------------------+--------------------+------------------+-------------------------+ | Red Hat Enterprise Linux 8.10 | SKIPPED | PASS | SKIPPED | SKIPPED | +-------------------------------+-------------------+--------------------+------------------+-------------------------+ | CentOS Stream 9 | SKIPPED | PASS | SKIPPED | SKIPPED | +-------------------------------+-------------------+--------------------+------------------+-------------------------+ | Fedora Linux 42 | SKIPPED | PASS | PASS | SKIPPED | +-------------------------------+-------------------+--------------------+------------------+-------------------------+ | Ubuntu 24.04 | SKIPPED | PASS | PASS | SKIPPED | +-------------------------------+-------------------+--------------------+------------------+-------------------------+ | Ubuntu 22.04 | SKIPPED | PASS | SKIPPED | SKIPPED | +-------------------------------+-------------------+--------------------+------------------+-------------------------+ | Red Hat Enterprise Linux 9.5 | SKIPPED | PASS | SKIPPED | SKIPPED | +-------------------------------+-------------------+--------------------+------------------+-------------------------+ | Alpine Linux 3.22.0 | SKIPPED | PASS | SKIPPED | SKIPPED | +-------------------------------+-------------------+--------------------+------------------+-------------------------+ | FreeBSD 14.2 | SKIPPED | PASS | SKIPPED | SKIPPED | +-------------------------------+-------------------+--------------------+------------------+-------------------------+ Windows Server 2022 Kernel: 10.0.20348.2031 Compiler: clang 15.0.7, gcc 14.1.0 (MinGW), and MSVC VS 19.39.33521 Debian GNU/Linux 12 Kernel: 5.15 Compiler: gcc gcc (Debian 12.2.0-14+deb12u1) 12.2.0 CentOS Stream 10 Kernel: 5.15 Compiler: gcc gcc (GCC) 14.2.1 20250110 (Red Hat 14.2.1-8) Ubuntu 20.04 Kernel: 4.19 Compiler: gcc gcc (Ubuntu 9.4.0-1ubuntu1~20.04.2) 9.4.0 openSUSE Leap 15.6 Kernel: 5.15 Compiler: gcc gcc (SUSE Linux) 7.5.0 Red Hat Enterprise Linux 8.10 Kernel: 5.15 Compiler: gcc gcc (GCC) 8.5.0 20210514 (Red Hat 8.5.0-22) CentOS Stream 9 Kernel: 5.15 Compiler: gcc gcc (GCC) 11.5.0 20240719 (Red Hat 11.5.0-11) Fedora Linux 42 Kernel: 5.15 Compiler: clang gcc (GCC) 15.2.1 20250808 (Red Hat 15.2.1-1) Ubuntu 24.04 Kernel: 5.15 Compiler: gcc gcc (Ubuntu 13.3.0-6ubuntu2~24.04) 13.3.0 Ubuntu 22.04 Kernel: 5.15 Compiler: gcc gcc (Ubuntu 11.4.0-1ubuntu1~22.04) 11.4.0 Red Hat Enterprise Linux 9.5 Kernel: 5.15 Compiler: gcc gcc (GCC) 11.5.0 20240719 (Red Hat 11.5.0-2) Alpine Linux 3.22.0 Kernel: 5.15 Compiler: gcc gcc (Alpine 14.2.0) 14.2.0 FreeBSD 14.2 Kernel: 14.2-RELEASE Compiler: clang 18.1.6 To view detailed results, visit: https://lab.dpdk.org/results/dashboard/patchsets/34504/ UNH-IOL DPDK Community Lab To manage your email subscriptions, visit: https://lab.dpdk.org/results/dashboard/preferences/subscriptions/