From mboxrd@z Thu Jan 1 00:00:00 1970 Return-Path: Received: from mails.dpdk.org (mails.dpdk.org [217.70.189.124]) by inbox.dpdk.org (Postfix) with ESMTP id E449248A92 for ; Fri, 7 Nov 2025 09:41:06 +0100 (CET) Received: from mails.dpdk.org (localhost [127.0.0.1]) by mails.dpdk.org (Postfix) with ESMTP id C54644021F; Fri, 7 Nov 2025 09:41:06 +0100 (CET) Received: from mail-pj1-f99.google.com (mail-pj1-f99.google.com [209.85.216.99]) by mails.dpdk.org (Postfix) with ESMTP id 8712F4021F for ; Fri, 7 Nov 2025 09:41:05 +0100 (CET) Received: by mail-pj1-f99.google.com with SMTP id 98e67ed59e1d1-339d7c4039aso509116a91.0 for ; Fri, 07 Nov 2025 00:41:05 -0800 (PST) DKIM-Signature: v=1; a=rsa-sha256; c=relaxed/relaxed; d=iol.unh.edu; s=unh-iol; t=1762504865; x=1763109665; darn=dpdk.org; h=references:in-reply-to:cc:to:from:subject:message-id:date:from:to :cc:subject:date:message-id:reply-to; bh=I/a1EElwIX9xrv6rlju6Ij9L5tBTrMBdmXPcPX0c5iA=; b=fA/LOLLE02ru2Mo32/XT+SpIR/Zeq+FU+72LclmcudyaJm6SpEdEONNj0SXJ0eSXuv XmwnP7VYL7fu19/Z1qMlsKzsFDIB+Kth1kaBKldJamv685bsoy+v9ORN7PHkOk1xqdAO 4nFZgmSDZeS82K2OOiHqBcUbXPxVpL/ZzUVv4= X-Google-DKIM-Signature: v=1; a=rsa-sha256; c=relaxed/relaxed; d=1e100.net; s=20230601; t=1762504865; x=1763109665; h=references:in-reply-to:cc:to:from:subject:message-id:date:x-gm-gg :x-gm-message-state:from:to:cc:subject:date:message-id:reply-to; bh=I/a1EElwIX9xrv6rlju6Ij9L5tBTrMBdmXPcPX0c5iA=; b=mQ4R1LuO8XDHSxQoCubCj468brQNW/Po0xypeb1mV2b0wRsVco6avbPFx4CvnD+xEF UrlQdno65WG40IkFIwU83iaA1pFbjB9G8Sb6BG3DL/4CIPzS4XzXe2z+TM7TmvHay0ZP KNqSfZzG1ZDiVKKL/Hf2NIX5SoQRflKTI1D2hlvfZDxuaRn2o4zQrLPwtFbzAW4ygKu/ S6VqEEv53kS4ghlM6Lvl0NdIu+bKlKtbQa4RFXQgsJjsrQKGA0WLLJpxZqQvbxgPb1Fh 4uHUgELqFBMOuYKglSgBkR3FCkLMGTeibpNq+WkHEw940+zU0f8vPZPz/VW8fv9HDRs0 PZig== X-Gm-Message-State: AOJu0YwvbvYNf98V5+9PZZ9Cnm2qhAaOjSL6d/eepPB2KDZEofnXf76n R+gRRJIbiWmh44XdUzfIIfoAQDUpcfE4LNC79YYr/8+LMhJmp2PgV5hKekLpZPr96AfZ7gw2ZVw Bh7/cxO5OLbcKA4dxMYVEJYD7rWYWcy40Tw4FuY5WWcCu X-Gm-Gg: ASbGnctL1d6fWwpoZ4lh1KMkHmPR98mOEVpqaRCKTYsfJrLGyMEUDnmhBP8z070WaCg KXzzZTOBTydbd0ajw9LtZHCMK8xPuO4mcVsTdJmL0IVcduALqTJ+uJM60gIOkccq9E3YOMprORs tHAJXmlkx3tOGM7r9fKQmxgTuzG3SjMrRL39X91Dz1Ve6+Tneg6wUtlQ2te2Z0onKPCoOGXtEbh q2jEbC23aOaPefe9Ny3huwK+3Vkj/5az8gQit5vmjXAJfITX9yvbbxw0v542WEL+ZyKbeSoLqtt /4lQHOe2hyjfOoAcfLylXu5kWH7NMhYPNihcCMtMWShHRa7u8nU2PZzR9VDcztRbhnXUfs0Aj+h 8WsdQIUHuzN0w9NA3odd888hI2TyFdPY= X-Google-Smtp-Source: AGHT+IHfZn7n/Zp4iNfQlhU9rsuetP9L4fpimzl8jjL5zHYOyElrkTHlcxpFxZ8gJU/ftrOCa/wlgKAzUHzZ X-Received: by 2002:a17:90b:2e07:b0:340:c60b:f362 with SMTP id 98e67ed59e1d1-3434c4eb26dmr2718471a91.6.1762504864631; Fri, 07 Nov 2025 00:41:04 -0800 (PST) Received: from postal.iol.unh.edu (postal.iol.unh.edu. [132.177.123.84]) by smtp-relay.gmail.com with ESMTPS id 98e67ed59e1d1-341d05c8ec3sm428701a91.5.2025.11.07.00.41.04 (version=TLS1_2 cipher=ECDHE-ECDSA-AES128-GCM-SHA256 bits=128/128); Fri, 07 Nov 2025 00:41:04 -0800 (PST) X-Relaying-Domain: iol.unh.edu Date: Fri, 07 Nov 2025 00:41:04 -0800 (PST) Message-ID: <690db0a0.170a0220.1e797e.62d3SMTPIN_ADDED_MISSING@mx.google.com> Received: from [172.21.0.2] (unknown [172.18.0.240]) by postal.iol.unh.edu (Postfix) with ESMTP id DA3F96051830; Fri, 7 Nov 2025 03:41:03 -0500 (EST) Subject: |SUCCESS| pw158542 [PATCH] net/ice: fix statistics read error From: dpdklab@iol.unh.edu To: Test Report Cc: dpdk-test-reports@iol.unh.edu, Bruce Richardson In-Reply-To: <20251107074338.957352-1-zhichaox.zeng@intel.com> References: <20251107074338.957352-1-zhichaox.zeng@intel.com> Content-Type: text/plain X-BeenThere: test-report@dpdk.org X-Mailman-Version: 2.1.29 Precedence: list List-Id: automatic DPDK test reports List-Unsubscribe: , List-Archive: List-Post: List-Help: List-Subscribe: , Errors-To: test-report-bounces@dpdk.org Test-Label: iol-unit-amd64-testing Test-Status: SUCCESS http://dpdk.org/patch/158542 _Testing PASS_ Submitter: Zhichao Zeng Date: Friday, November 07 2025 07:43:38 DPDK git baseline: Repo:dpdk-next-net-intel Branch: master CommitID:1655dc989bc95fa85fc76d32912d2e46c0851148 158542 --> testing pass Upstream job id: Generic-VM-Unit-Test-DPDK#32381 Test environment and result as below: +-------------------------------+----------------+ | Environment | dpdk_unit_test | +===============================+================+ | CentOS Stream 9 | PASS | +-------------------------------+----------------+ | Fedora Linux 40 | PASS | +-------------------------------+----------------+ | CentOS Stream 10 | PASS | +-------------------------------+----------------+ | Fedora Linux 42 | PASS | +-------------------------------+----------------+ | Debian GNU/Linux 12 | PASS | +-------------------------------+----------------+ | Ubuntu 24.04 | PASS | +-------------------------------+----------------+ | Fedora Linux 41 | PASS | +-------------------------------+----------------+ | Red Hat Enterprise Linux 9.5 | PASS | +-------------------------------+----------------+ | Red Hat Enterprise Linux 8.10 | PASS | +-------------------------------+----------------+ | Ubuntu 20.04 | PASS | +-------------------------------+----------------+ | Ubuntu 22.04 | PASS | +-------------------------------+----------------+ | Windows Server 2022 | PASS | +-------------------------------+----------------+ CentOS Stream 9 Kernel: 5.15 Compiler: gcc gcc (GCC) 11.5.0 20240719 (Red Hat 11.5.0-11) Fedora Linux 40 Kernel: 5.15 Compiler: gcc gcc (GCC) 14.2.1 20240912 (Red Hat 14.2.1-3) CentOS Stream 10 Kernel: 5.15 Compiler: gcc gcc (GCC) 14.2.1 20250110 (Red Hat 14.2.1-8) Fedora Linux 42 Kernel: 5.15 Compiler: gcc gcc (GCC) 15.2.1 20250808 (Red Hat 15.2.1-1) Debian GNU/Linux 12 Kernel: 5.15 Compiler: gcc gcc (Debian 12.2.0-14+deb12u1) 12.2.0 Ubuntu 24.04 Kernel: 5.15 Compiler: gcc gcc (Ubuntu 13.3.0-6ubuntu2~24.04) 13.3.0 Fedora Linux 41 Kernel: 5.15 Compiler: clang gcc (GCC) 14.3.1 20250523 (Red Hat 14.3.1-1) Red Hat Enterprise Linux 9.5 Kernel: 5.15 Compiler: gcc gcc (GCC) 11.5.0 20240719 (Red Hat 11.5.0-2) Red Hat Enterprise Linux 8.10 Kernel: 5.15 Compiler: gcc gcc (GCC) 8.5.0 20210514 (Red Hat 8.5.0-22) Ubuntu 20.04 Kernel: 5.15 Compiler: gcc gcc (Ubuntu 9.4.0-1ubuntu1~20.04.2) 9.4.0 Ubuntu 22.04 Kernel: 5.15 Compiler: gcc gcc (Ubuntu 11.4.0-1ubuntu1~22.04) 11.4.0 Windows Server 2022 Kernel: 10.0.20348.2031 Compiler: clang 15.0.7, gcc 14.1.0 (MinGW), and MSVC VS 19.39.33521 To view detailed results, visit: https://lab.dpdk.org/results/dashboard/patchsets/34504/ UNH-IOL DPDK Community Lab To manage your email subscriptions, visit: https://lab.dpdk.org/results/dashboard/preferences/subscriptions/