From mboxrd@z Thu Jan 1 00:00:00 1970 Return-Path: Received: from mails.dpdk.org (mails.dpdk.org [217.70.189.124]) by inbox.dpdk.org (Postfix) with ESMTP id 235AF48A92 for ; Fri, 7 Nov 2025 09:42:58 +0100 (CET) Received: from mails.dpdk.org (localhost [127.0.0.1]) by mails.dpdk.org (Postfix) with ESMTP id 00F4B4021F; Fri, 7 Nov 2025 09:42:58 +0100 (CET) Received: from mail-oo1-f100.google.com (mail-oo1-f100.google.com [209.85.161.100]) by mails.dpdk.org (Postfix) with ESMTP id 431344021F for ; Fri, 7 Nov 2025 09:42:56 +0100 (CET) Received: by mail-oo1-f100.google.com with SMTP id 006d021491bc7-651c743b2d9so217755eaf.3 for ; Fri, 07 Nov 2025 00:42:56 -0800 (PST) DKIM-Signature: v=1; a=rsa-sha256; c=relaxed/relaxed; d=iol.unh.edu; s=unh-iol; t=1762504975; x=1763109775; darn=dpdk.org; h=references:in-reply-to:cc:to:from:subject:message-id:date:from:to :cc:subject:date:message-id:reply-to; bh=0+adkXcytPfnzNCIm+tDCPburexpypXpb43xMGub8SY=; b=ip1QPpaK+TUT8h4sJJoRkJ5/DJ1v39oTJpTYHzfBDTcY4lLQtl/5PmKIMlwOiW4Wts jhlkUMnWO7Z+pCmBDYnprh9srA/STuSnLGf8HSnzbw1Uvd/AgVWMEjo/QPzw4fJaA3Zl BgIk2N2YdbkPxdBgs7h88X3Aho4LbwWnUwvuU= X-Google-DKIM-Signature: v=1; a=rsa-sha256; c=relaxed/relaxed; d=1e100.net; s=20230601; t=1762504975; x=1763109775; h=references:in-reply-to:cc:to:from:subject:message-id:date:x-gm-gg :x-gm-message-state:from:to:cc:subject:date:message-id:reply-to; bh=0+adkXcytPfnzNCIm+tDCPburexpypXpb43xMGub8SY=; b=qMOaZ4cRIW845rdOyjDkGs1/rmuIDbAyMQfPHUnasxvxNTdamSYkwhVy3EnCQkjF0C EjIT2c2p2qSA0fzcwhh35QOsnpHJQn7f/hrTpT+3NWI06jjohUNAGovnnXCIBFY4vxOH 705nznt3I70JVQJO0LOyGc4LvGhRO5muMu/F3JBPArumS3GXsoXRkyNzypCNkjYZx643 I/CZlw7AHHln62pi/VBSKSTdXJws6GvGgd+vBw4ZNM9WkK0rcS0uBBKFcSG57d8TfbG4 F/wW7YJ2SO2mQUpOLCJum0zovbOEOvbDcgWUIWN86GxBcC3LCzEBLFQhuSL+2LAg52m4 nNEg== X-Gm-Message-State: AOJu0YySPvDMjI0GhPy5iZPUa7vNhq/kz16B6jFTiqhIiCWFeXHI+iCr 2duXY5aEWH11ivri0VmywIZxp/jAZxKsE/zrkxIUlSNRo06qWloNjjxuHqyz+gtAABSELYRU1Z3 Lz1p9ifibGI12g52365yaRmBUlD4IaAZ9zedyb14ly/eBvrc1wxHg2o1kGDtU X-Gm-Gg: ASbGncvdJgKs2YGuo5grD/Hn8rsl54GBTamUzG97mF6QRSXTXXHIBRu+riPdZNjmQdl Vtb40msG3b4KhbVaL12Vgk0XfkD0TcI9w0Sa0B0htoaOeA8EkNNY3fJTvoYwXFx7rRPbqyuQ0lD /hOvpqUOwrUZdtftmwsgHSaUDGPp0rK2fxwiQzsLCOgPvSb+ZY78LPMPP1Pa1re6kh7qC79aRYS c9Vs1QvJ4MrzEY904i4/TI2kT21pfgan01aK68HrK5uMbA4KrBKGjGTQvDSzPK/2gGklvJU16iX 7CzoXKYS9k/plegPfD0rSXpLY4hnDi15TfplLlixURMS+/LO4oVYeWQcEPE1RAqXFhHXoaepgnT RNf7mNXEq X-Google-Smtp-Source: AGHT+IF/yHkzTr2rZlVyAD2e89hIaqU2gA8X8chIyANt3zN/8Y/HZ07tIUXvK3L2+VaSliwA+MPirLCRc/9y X-Received: by 2002:a05:6808:d49:b0:44f:ed49:c845 with SMTP id 5614622812f47-45015d0517emr1259019b6e.19.1762504975415; Fri, 07 Nov 2025 00:42:55 -0800 (PST) Received: from postal.iol.unh.edu (postal.iol.unh.edu. [2606:4100:3880:1234::84]) by smtp-relay.gmail.com with ESMTPS id 46e09a7af769-7c6f0b17ea9sm162419a34.0.2025.11.07.00.42.55 (version=TLS1_2 cipher=ECDHE-ECDSA-AES128-GCM-SHA256 bits=128/128); Fri, 07 Nov 2025 00:42:55 -0800 (PST) X-Relaying-Domain: iol.unh.edu Date: Fri, 07 Nov 2025 00:42:55 -0800 (PST) Message-ID: <690db10f.050a0220.1ae75d.8475SMTPIN_ADDED_MISSING@mx.google.com> Received: from [172.21.0.2] (unknown [172.18.0.240]) by postal.iol.unh.edu (Postfix) with ESMTP id C43016051830; Fri, 7 Nov 2025 03:42:54 -0500 (EST) Subject: |SUCCESS| pw158542 [PATCH] net/ice: fix statistics read error From: dpdklab@iol.unh.edu To: Test Report Cc: dpdk-test-reports@iol.unh.edu, Bruce Richardson In-Reply-To: <20251107074338.957352-1-zhichaox.zeng@intel.com> References: <20251107074338.957352-1-zhichaox.zeng@intel.com> Content-Type: text/plain X-BeenThere: test-report@dpdk.org X-Mailman-Version: 2.1.29 Precedence: list List-Id: automatic DPDK test reports List-Unsubscribe: , List-Archive: List-Post: List-Help: List-Subscribe: , Errors-To: test-report-bounces@dpdk.org Test-Label: iol-compile-amd64-testing Test-Status: SUCCESS http://dpdk.org/patch/158542 _Testing PASS_ Submitter: Zhichao Zeng Date: Friday, November 07 2025 07:43:38 DPDK git baseline: Repo:dpdk-next-net-intel Branch: master CommitID:1655dc989bc95fa85fc76d32912d2e46c0851148 158542 --> testing pass Upstream job id: Windows-Compile-DPDK-Native#32208 Test environment and result as below: +-------------------------------+-------------------+--------------------+------------------+-------------------------+----------------------+ | Environment | dpdk_msvc_compile | dpdk_meson_compile | dpdk_compile_ovs | dpdk_llvm_clang_compile | dpdk_mingw64_compile | +===============================+===================+====================+==================+=========================+======================+ | Windows Server 2022 | PASS | SKIPPED | SKIPPED | PASS | PASS | +-------------------------------+-------------------+--------------------+------------------+-------------------------+----------------------+ | Debian GNU/Linux 12 | SKIPPED | PASS | SKIPPED | SKIPPED | SKIPPED | +-------------------------------+-------------------+--------------------+------------------+-------------------------+----------------------+ | CentOS Stream 10 | SKIPPED | PASS | SKIPPED | SKIPPED | SKIPPED | +-------------------------------+-------------------+--------------------+------------------+-------------------------+----------------------+ | Ubuntu 20.04 | SKIPPED | PASS | SKIPPED | SKIPPED | SKIPPED | +-------------------------------+-------------------+--------------------+------------------+-------------------------+----------------------+ | openSUSE Leap 15.6 | SKIPPED | PASS | SKIPPED | SKIPPED | SKIPPED | +-------------------------------+-------------------+--------------------+------------------+-------------------------+----------------------+ | Red Hat Enterprise Linux 8.10 | SKIPPED | PASS | SKIPPED | SKIPPED | SKIPPED | +-------------------------------+-------------------+--------------------+------------------+-------------------------+----------------------+ | CentOS Stream 9 | SKIPPED | PASS | SKIPPED | SKIPPED | SKIPPED | +-------------------------------+-------------------+--------------------+------------------+-------------------------+----------------------+ | Fedora Linux 42 | SKIPPED | PASS | PASS | SKIPPED | SKIPPED | +-------------------------------+-------------------+--------------------+------------------+-------------------------+----------------------+ | Ubuntu 24.04 | SKIPPED | PASS | PASS | SKIPPED | SKIPPED | +-------------------------------+-------------------+--------------------+------------------+-------------------------+----------------------+ | Ubuntu 22.04 | SKIPPED | PASS | SKIPPED | SKIPPED | SKIPPED | +-------------------------------+-------------------+--------------------+------------------+-------------------------+----------------------+ | Red Hat Enterprise Linux 9.5 | SKIPPED | PASS | SKIPPED | SKIPPED | SKIPPED | +-------------------------------+-------------------+--------------------+------------------+-------------------------+----------------------+ | Alpine Linux 3.22.0 | SKIPPED | PASS | SKIPPED | SKIPPED | SKIPPED | +-------------------------------+-------------------+--------------------+------------------+-------------------------+----------------------+ | FreeBSD 14.2 | SKIPPED | PASS | SKIPPED | SKIPPED | SKIPPED | +-------------------------------+-------------------+--------------------+------------------+-------------------------+----------------------+ Windows Server 2022 Kernel: 10.0.20348.2031 Compiler: clang 15.0.7, gcc 14.1.0 (MinGW), and MSVC VS 19.39.33521 Debian GNU/Linux 12 Kernel: 5.15 Compiler: gcc gcc (Debian 12.2.0-14+deb12u1) 12.2.0 CentOS Stream 10 Kernel: 5.15 Compiler: gcc gcc (GCC) 14.2.1 20250110 (Red Hat 14.2.1-8) Ubuntu 20.04 Kernel: 4.19 Compiler: gcc gcc (Ubuntu 9.4.0-1ubuntu1~20.04.2) 9.4.0 openSUSE Leap 15.6 Kernel: 5.15 Compiler: gcc gcc (SUSE Linux) 7.5.0 Red Hat Enterprise Linux 8.10 Kernel: 5.15 Compiler: gcc gcc (GCC) 8.5.0 20210514 (Red Hat 8.5.0-22) CentOS Stream 9 Kernel: 5.15 Compiler: gcc gcc (GCC) 11.5.0 20240719 (Red Hat 11.5.0-11) Fedora Linux 42 Kernel: 5.15 Compiler: clang gcc (GCC) 15.2.1 20250808 (Red Hat 15.2.1-1) Ubuntu 24.04 Kernel: 5.15 Compiler: gcc gcc (Ubuntu 13.3.0-6ubuntu2~24.04) 13.3.0 Ubuntu 22.04 Kernel: 5.15 Compiler: gcc gcc (Ubuntu 11.4.0-1ubuntu1~22.04) 11.4.0 Red Hat Enterprise Linux 9.5 Kernel: 5.15 Compiler: gcc gcc (GCC) 11.5.0 20240719 (Red Hat 11.5.0-2) Alpine Linux 3.22.0 Kernel: 5.15 Compiler: gcc gcc (Alpine 14.2.0) 14.2.0 FreeBSD 14.2 Kernel: 14.2-RELEASE Compiler: clang 18.1.6 To view detailed results, visit: https://lab.dpdk.org/results/dashboard/patchsets/34504/ UNH-IOL DPDK Community Lab To manage your email subscriptions, visit: https://lab.dpdk.org/results/dashboard/preferences/subscriptions/