From mboxrd@z Thu Jan 1 00:00:00 1970 Return-Path: Received: from mails.dpdk.org (mails.dpdk.org [217.70.189.124]) by inbox.dpdk.org (Postfix) with ESMTP id 5E5D748A96 for ; Fri, 7 Nov 2025 10:21:11 +0100 (CET) Received: from mails.dpdk.org (localhost [127.0.0.1]) by mails.dpdk.org (Postfix) with ESMTP id 3D43A4021F; Fri, 7 Nov 2025 10:21:11 +0100 (CET) Received: from mail-pg1-f228.google.com (mail-pg1-f228.google.com [209.85.215.228]) by mails.dpdk.org (Postfix) with ESMTP id 3371F4021F for ; Fri, 7 Nov 2025 10:21:10 +0100 (CET) Received: by mail-pg1-f228.google.com with SMTP id 41be03b00d2f7-b98983bae80so343704a12.0 for ; Fri, 07 Nov 2025 01:21:10 -0800 (PST) DKIM-Signature: v=1; a=rsa-sha256; c=relaxed/relaxed; d=iol.unh.edu; s=unh-iol; t=1762507269; x=1763112069; darn=dpdk.org; h=references:in-reply-to:cc:to:from:subject:message-id:date:from:to :cc:subject:date:message-id:reply-to; bh=ZRgHd3WP4wHmfoPoGJDTqeUEwX1f0l4fQIPyjRic2f0=; b=MO1fqV6Qqvre3LHxD4+cGAX2l+eZBbbDUPNPR24ak7vBYs2IX1JEMOpSL/5iaZhYvd lCczsyDi1eb9N1rAU/UYnqkqxYwYiw6I+bd+WQ04IDxp9I7Zttr14Q180DVhX0dUpSXh NzWQmlZoCfdmORsQ/Cx7Tb+xqWiYTGXbI9bpg= X-Google-DKIM-Signature: v=1; a=rsa-sha256; c=relaxed/relaxed; d=1e100.net; s=20230601; t=1762507269; x=1763112069; h=references:in-reply-to:cc:to:from:subject:message-id:date:x-gm-gg :x-gm-message-state:from:to:cc:subject:date:message-id:reply-to; bh=ZRgHd3WP4wHmfoPoGJDTqeUEwX1f0l4fQIPyjRic2f0=; b=vdxczA/ewU8UR/qaW72z68bjGzg11r/DRUulUVJ2nYcrcUE/xN3W9xkgQWTe2B0SMu EZQh95PKu97G64f4v9HM7Fk0PHbSGufAJrXQuWmFeY/cvcr6Agqq8KxgvA17EOhQF+i5 uCQ4H4g0xNE3QXVXsYpJPq79Cj+PMuPOO926Mmw8rUjwDn0w9/YBkWJbRFoBRjoN4vNm dNN8aTPhvGl3BoXtYC3VVwBdCnZ79fC9rqTvO01g+R+tq5Yc1y7kWHEBhZ6u2jCnKMlj WT8/2lck4V1SbtrgG3zePZ3OKsDzojrG02KsM5Mb1u5G8LSrw2Zaj3pWUWkMtj3j6eyZ NIWw== X-Gm-Message-State: AOJu0YxSCpZH8qro34v1VUdhtWZvrYRM16+FaHqyfwZVlQfD2r9DZp1c gV1fvhcJ5BVwv04EpNOcyX8Ih6d8GcCQJUSTcklX350HWJcTLNv3u0R0jVggibzKJLhPj2RrGjl rxEVvu7c0/hwwkQPRlfQYwKJ39bymNyEargoeGVM/Wvo+cX3nouu6U4Qxdcd9 X-Gm-Gg: ASbGncsDVTm9kcXKmMXRPP7eNkXX+5z9hc1P1h3RUUBGfNy9ClfumH6nCD1Bju0um2Z avfmDTBaFYNxmrbB0ce4bLKMwtvj7z8t6O1anAgkfVlyMlqI5/eoyfKOUWg6pA7ET0sDvh0NRXj yn673uL/1Yfvg4EgfrTrp7cKSrHaPImkM+XqzZm4pl5qSxE7MYZOcr639XNE/iepN73V0n4dn+C E65JQVcM+gBUM1hJz/jiSHEJte5+x5700fK2B/t6bOL7o+Zd0fie+UCb5rWL9BItRV4mVUvQcSA u66iJO+dFhc4spNrJEtvt1629uV/lvBS6AVHFESVlSGW4Fp50aCt3EH6ajUBZp+A6lea/myWvVi +C3YwnKiq X-Google-Smtp-Source: AGHT+IGnyeYCphsqRdxFOo/NV5LDLK6E9X0MBE/c9wHcTqmntKpXSSBK2Nj/UispeO4DD3uiT6BUyICBv7FP X-Received: by 2002:a17:902:db0e:b0:295:557e:747e with SMTP id d9443c01a7336-297c0478826mr33464325ad.40.1762507269280; Fri, 07 Nov 2025 01:21:09 -0800 (PST) Received: from postal.iol.unh.edu (postal.iol.unh.edu. [2606:4100:3880:1234::84]) by smtp-relay.gmail.com with ESMTPS id d9443c01a7336-29651c8ab3dsm4205115ad.44.2025.11.07.01.21.09 (version=TLS1_2 cipher=ECDHE-ECDSA-AES128-GCM-SHA256 bits=128/128); Fri, 07 Nov 2025 01:21:09 -0800 (PST) X-Relaying-Domain: iol.unh.edu Date: Fri, 07 Nov 2025 01:21:09 -0800 (PST) Message-ID: <690dba05.170a0220.3431d.6043SMTPIN_ADDED_MISSING@mx.google.com> Received: from [172.21.0.2] (unknown [172.18.0.240]) by postal.iol.unh.edu (Postfix) with ESMTP id B4E076051830; Fri, 7 Nov 2025 04:21:08 -0500 (EST) Subject: |SUCCESS| pw158483 [PATCH] [v2] dts: testpmd link check on port star From: dpdklab@iol.unh.edu To: Test Report Cc: dpdk-test-reports@iol.unh.edu In-Reply-To: <20251105194925.1507334-1-probb@iol.unh.edu> References: <20251105194925.1507334-1-probb@iol.unh.edu> Content-Type: text/plain X-BeenThere: test-report@dpdk.org X-Mailman-Version: 2.1.29 Precedence: list List-Id: automatic DPDK test reports List-Unsubscribe: , List-Archive: List-Post: List-Help: List-Subscribe: , Errors-To: test-report-bounces@dpdk.org Test-Label: iol-compile-arm64-testing Test-Status: SUCCESS http://dpdk.org/patch/158483 _Testing PASS_ Submitter: Patrick Robb Date: Wednesday, November 05 2025 19:49:25 DPDK git baseline: Repo:dpdk-next-dts Branch: master CommitID:4f35a61a6a5a31f822c3d7519e8a1de1b7cbd9c4 158483 --> testing pass Upstream job id: Generic-DPDK-Compile-Meson#441820 Test environment and result as below: +------------------------------+--------------------+ | Environment | dpdk_meson_compile | +==============================+====================+ | Red Hat Enterprise Linux 9.5 | PASS | +------------------------------+--------------------+ | Ubuntu 20.04 | PASS | +------------------------------+--------------------+ | Debian GNU/Linux 12 | PASS | +------------------------------+--------------------+ | Fedora Linux 42 | PASS | +------------------------------+--------------------+ | Ubuntu 22.04 | PASS | +------------------------------+--------------------+ | Ubuntu 24.04 | PASS | +------------------------------+--------------------+ | CentOS Stream 9 | PASS | +------------------------------+--------------------+ | CentOS Stream 10 | PASS | +------------------------------+--------------------+ Red Hat Enterprise Linux 9.5 Kernel: 5.4 Compiler: gcc gcc (GCC) 11.5.0 20240719 (Red Hat 11.5.0-2) Ubuntu 20.04 Kernel: 5.15 Compiler: aarch64-linux-gnu-gcc gcc (Ubuntu 9.4.0-1ubuntu1~20.04.2) 9.4.0 Debian GNU/Linux 12 Kernel: 5.4 Compiler: gcc gcc (Debian 12.2.0-14+deb12u1) 12.2.0 Fedora Linux 42 Kernel: 5.4 Compiler: gcc gcc (GCC) 15.2.1 20250808 (Red Hat 15.2.1-1) Ubuntu 22.04 Kernel: 5.4 Compiler: gcc gcc (Ubuntu 11.4.0-1ubuntu1~22.04) 11.4.0 Ubuntu 24.04 Kernel: 5.4 Compiler: gcc gcc (Ubuntu 13.3.0-6ubuntu2~24.04) 13.3.0 CentOS Stream 9 Kernel: 5.4 Compiler: gcc gcc (GCC) 11.5.0 20240719 (Red Hat 11.5.0-11) CentOS Stream 10 Kernel: 5.4 Compiler: gcc gcc (GCC) 14.2.1 20250110 (Red Hat 14.2.1-8) To view detailed results, visit: https://lab.dpdk.org/results/dashboard/patchsets/34500/ UNH-IOL DPDK Community Lab To manage your email subscriptions, visit: https://lab.dpdk.org/results/dashboard/preferences/subscriptions/