From mboxrd@z Thu Jan 1 00:00:00 1970 Return-Path: Received: from mails.dpdk.org (mails.dpdk.org [217.70.189.124]) by inbox.dpdk.org (Postfix) with ESMTP id 5F9D448A96 for ; Fri, 7 Nov 2025 10:22:08 +0100 (CET) Received: from mails.dpdk.org (localhost [127.0.0.1]) by mails.dpdk.org (Postfix) with ESMTP id 594314021F; Fri, 7 Nov 2025 10:22:08 +0100 (CET) Received: from mail-pl1-f227.google.com (mail-pl1-f227.google.com [209.85.214.227]) by mails.dpdk.org (Postfix) with ESMTP id B51674021F for ; Fri, 7 Nov 2025 10:22:06 +0100 (CET) Received: by mail-pl1-f227.google.com with SMTP id d9443c01a7336-2964d616df7so7047265ad.3 for ; Fri, 07 Nov 2025 01:22:06 -0800 (PST) DKIM-Signature: v=1; a=rsa-sha256; c=relaxed/relaxed; d=iol.unh.edu; s=unh-iol; t=1762507326; x=1763112126; darn=dpdk.org; h=references:in-reply-to:cc:to:from:subject:message-id:date:from:to :cc:subject:date:message-id:reply-to; bh=sRtjAURN+msFhS3y/CUVydgkJO7FEUeuFEamnPl9+uY=; b=dQCUdXc1DiWsfz2xnBNINd8Q4rCtHGumzU2HvznHk66TPfPEsNutu3W4IsOZmuSGxE vwyoGoT+SWF0y5HBH8b2DCFM29xUt/YAL4yYfS1KVkVDyl9UdzTpj5/NFozI7UgFgzTB nNT/82Xo9tqlUFxqj9BKkJKcFc4wLp3gOVMM8= X-Google-DKIM-Signature: v=1; a=rsa-sha256; c=relaxed/relaxed; d=1e100.net; s=20230601; t=1762507326; x=1763112126; h=references:in-reply-to:cc:to:from:subject:message-id:date:x-gm-gg :x-gm-message-state:from:to:cc:subject:date:message-id:reply-to; bh=sRtjAURN+msFhS3y/CUVydgkJO7FEUeuFEamnPl9+uY=; b=WX8wNrxpsjKCNtJp3qaO5QkXsgLXchWmOdnbnrVCBf3yLaC6p8uGMLzaMjS3DoDs/e GaIxvxW7Z6BTGqI+wN1QW2r7bAhDw9roi/GT5tbQKpjEcJLlz0rltxBZX39VCBnN3dAl RYSQVjNuXTMVTVgWT8rbL3OWPXDG+38VnZEU8O3biwT50Urm1vzx2iAW21fnVUiVAyKk VPVIBAsTr93Y2P7uuTJaYVBupvw08dXzpU6jvkWeF5GVxb7NhTHFOVd/gqO8oIFLw+sI 9ZN+Zol0RlRbetFoNXpQzoDo3j+1SjxfzNev2uQ/uSGQrRSJY04sLJUsLaVMMMSRPPQs ZYeQ== X-Gm-Message-State: AOJu0YyETtTJPuQUGa3KLHwV0VDJ55ptXKV169og670YMPK6r+/Tc3cw GSdIXJwvzWk0GCSVK11xPKng1hNmW3vpwZw9v87P081xZGaZtciNOjez62FZMqZBDrDjjofPAVx sKK+PNkQqg5sbzY1/42FrWm68du/k2FBwFatgu8jdglej X-Gm-Gg: ASbGnctcLgdA9PZwz+4jo+/mE80vzwsVHYTCjOWXh0A97MUMoM6zca5ydZsvY+aiCuN v0cOavPG1EkNz+ClMdQaapy/OB68NOobYgGJI0L6FHeuccTdjNLZ+2vnQgrRUOE97v2EIQaHy3J euaqO+Ggm1L1MQCIceHdHqWrblaX4PohYX9oqCgCtGKxWP4TydJor2qcuHO0YlTOuq2z/kEDqY+ p/IC7TNTAnQICXPUaYAcuIzN67L7eQw5iSTSmv985oTnzSI8MhxA0J4gF6qxqQW/w6x36yCQnVA dc2caGvzmjdTUJOlG35gMBkMyD4AEXgX9jXAa+wtMcfu14hrEXa0kiD71QP2YwcBkyMm0ze4LOw lS5CthJHooUitBqOt9Baw1N7k0TnTzu8= X-Google-Smtp-Source: AGHT+IEPoimAHHye7B2JU/ZK7VZDHcUD7Lp1zxRSdOKdZMk5czExpV3dJ17UplJFdRtO6naTCU1khqrAnVgF X-Received: by 2002:a17:902:d50f:b0:290:a3b9:d4c7 with SMTP id d9443c01a7336-297c04486dcmr34510145ad.30.1762507325986; Fri, 07 Nov 2025 01:22:05 -0800 (PST) Received: from postal.iol.unh.edu (postal.iol.unh.edu. [132.177.123.84]) by smtp-relay.gmail.com with ESMTPS id d9443c01a7336-29651e6e824sm4494045ad.1.2025.11.07.01.22.05 (version=TLS1_2 cipher=ECDHE-ECDSA-AES128-GCM-SHA256 bits=128/128); Fri, 07 Nov 2025 01:22:05 -0800 (PST) X-Relaying-Domain: iol.unh.edu Date: Fri, 07 Nov 2025 01:22:05 -0800 (PST) Message-ID: <690dba3d.170a0220.252984.6f49SMTPIN_ADDED_MISSING@mx.google.com> Received: from [172.21.0.2] (unknown [172.18.0.240]) by postal.iol.unh.edu (Postfix) with ESMTP id 654806051830; Fri, 7 Nov 2025 04:22:05 -0500 (EST) Subject: |SUCCESS| pw158534 [PATCH] [v4] app/testpmd: support specify TCs whe From: dpdklab@iol.unh.edu To: Test Report Cc: dpdk-test-reports@iol.unh.edu, Stephen Hemminger In-Reply-To: <20251107005357.5682-1-fengchengwen@huawei.com> References: <20251107005357.5682-1-fengchengwen@huawei.com> Content-Type: text/plain X-BeenThere: test-report@dpdk.org X-Mailman-Version: 2.1.29 Precedence: list List-Id: automatic DPDK test reports List-Unsubscribe: , List-Archive: List-Post: List-Help: List-Subscribe: , Errors-To: test-report-bounces@dpdk.org Test-Label: iol-compile-arm64-testing Test-Status: SUCCESS http://dpdk.org/patch/158534 _Testing PASS_ Submitter: fengchengwen Date: Friday, November 07 2025 00:53:57 DPDK git baseline: Repo:dpdk-next-net Branch: master CommitID:591ee7f468aebec30d68d30afa8d5e4dcfc897dc 158534 --> testing pass Upstream job id: Generic-DPDK-Compile-Meson#441845 Test environment and result as below: +------------------------------+--------------------+ | Environment | dpdk_meson_compile | +==============================+====================+ | Red Hat Enterprise Linux 9.5 | PASS | +------------------------------+--------------------+ | Ubuntu 20.04 | PASS | +------------------------------+--------------------+ | Debian GNU/Linux 12 | PASS | +------------------------------+--------------------+ | Fedora Linux 42 | PASS | +------------------------------+--------------------+ | Ubuntu 22.04 | PASS | +------------------------------+--------------------+ | Ubuntu 24.04 | PASS | +------------------------------+--------------------+ | CentOS Stream 9 | PASS | +------------------------------+--------------------+ | CentOS Stream 10 | PASS | +------------------------------+--------------------+ Red Hat Enterprise Linux 9.5 Kernel: 5.4 Compiler: gcc gcc (GCC) 11.5.0 20240719 (Red Hat 11.5.0-2) Ubuntu 20.04 Kernel: 5.15 Compiler: aarch64-linux-gnu-gcc gcc (Ubuntu 9.4.0-1ubuntu1~20.04.2) 9.4.0 Debian GNU/Linux 12 Kernel: 5.4 Compiler: gcc gcc (Debian 12.2.0-14+deb12u1) 12.2.0 Fedora Linux 42 Kernel: 5.4 Compiler: gcc gcc (GCC) 15.2.1 20250808 (Red Hat 15.2.1-1) Ubuntu 22.04 Kernel: 5.4 Compiler: gcc gcc (Ubuntu 11.4.0-1ubuntu1~22.04) 11.4.0 Ubuntu 24.04 Kernel: 5.4 Compiler: gcc gcc (Ubuntu 13.3.0-6ubuntu2~24.04) 13.3.0 CentOS Stream 9 Kernel: 5.4 Compiler: gcc gcc (GCC) 11.5.0 20240719 (Red Hat 11.5.0-11) CentOS Stream 10 Kernel: 5.4 Compiler: gcc gcc (GCC) 14.2.1 20250110 (Red Hat 14.2.1-8) To view detailed results, visit: https://lab.dpdk.org/results/dashboard/patchsets/34502/ UNH-IOL DPDK Community Lab To manage your email subscriptions, visit: https://lab.dpdk.org/results/dashboard/preferences/subscriptions/