From mboxrd@z Thu Jan 1 00:00:00 1970 Return-Path: Received: from mails.dpdk.org (mails.dpdk.org [217.70.189.124]) by inbox.dpdk.org (Postfix) with ESMTP id 0731448A96 for ; Fri, 7 Nov 2025 10:35:11 +0100 (CET) Received: from mails.dpdk.org (localhost [127.0.0.1]) by mails.dpdk.org (Postfix) with ESMTP id 013A64021F; Fri, 7 Nov 2025 10:35:11 +0100 (CET) Received: from mail-pg1-f227.google.com (mail-pg1-f227.google.com [209.85.215.227]) by mails.dpdk.org (Postfix) with ESMTP id 80FD54021F for ; Fri, 7 Nov 2025 10:35:10 +0100 (CET) Received: by mail-pg1-f227.google.com with SMTP id 41be03b00d2f7-ba599137cf7so447839a12.0 for ; Fri, 07 Nov 2025 01:35:10 -0800 (PST) DKIM-Signature: v=1; a=rsa-sha256; c=relaxed/relaxed; d=iol.unh.edu; s=unh-iol; t=1762508109; x=1763112909; darn=dpdk.org; h=references:in-reply-to:cc:to:from:subject:message-id:date:from:to :cc:subject:date:message-id:reply-to; bh=T0KyLpDm6iCBbsEEClGZsVe7biXjlewEAmLVrBUNfhQ=; b=Gq3GLVOlJmsUOgysxvvjAOhcy1jfnML6K9vhxXQ6HdoIhng3u/of2JmXEAGoSpS6Cn dk5zMR5gJdhG/up832H7g8neK+3agjK0bKgRHsrvhvLGyQ7qiOjkpiZEVsjiwWptE2f9 lKPb8isiIbjJbL3Z8IyJ+iOG0EPoGidNLX008= X-Google-DKIM-Signature: v=1; a=rsa-sha256; c=relaxed/relaxed; d=1e100.net; s=20230601; t=1762508109; x=1763112909; h=references:in-reply-to:cc:to:from:subject:message-id:date:x-gm-gg :x-gm-message-state:from:to:cc:subject:date:message-id:reply-to; bh=T0KyLpDm6iCBbsEEClGZsVe7biXjlewEAmLVrBUNfhQ=; b=l4s05C6Qs7xKYhZQeEzuMPGmjhC/7TfXD+CY6df4FfG6Nv+MSGEob+G4gGMsZHjeCZ 59ksEK6wKRpmPiguaPt+QFpatPcs+V1uAM79M9ALYj9GuqsIAps4awoJgCrKsbSFhPW7 m5ovPW81uWUBJds2kyVHTfCYqHbUMbdot9NxLlpj5Ro0KOGy+FYNGT8onHkgiDrBIwEq f7L00jLKgD3DJ+fZ7kvuGzBjAJCatv6n9RG85nDOxABj4ZehEtaWD/91NaiYTkGOHUWk 2BJAbKS4wqy9yUQV9k8OVsFAox4TzeCF3kJIDz/DSxvAXAlGami4IPEv9TYdIZJRxYE9 qs5A== X-Gm-Message-State: AOJu0Yzcr4kQoVJmrAuzq64cYOSDVU0u1lqcrQpVYNqAwYp6ogpLFWwd ulgDSAx1Kg3d+ddYwWOTz5iyboei2Flu7B/clwdP1mThNTmAdWdRI/B3m2JJT6oKGBW16yZnaky Om/ieU6HBSbF1u0aua8IHBkOrsztt/hSW289W0G2wHqR4 X-Gm-Gg: ASbGncv+sBPCpIco5QPTPdQOjFB50HNzmEtKGQ8Bm750uaO2uGqyFJr/1okoO3C7cig a47RIGjb1F1IF6IvcxNeSv1rlL1pidGv84hetoRmirJFn0vf6C2uN2eqR4PJiMWAgs+gw0boQkW tGw84cy6++mtKl6eidxA9EJ2SfV3LgscqzWy73DQibRqLrqAAYLzg9KdpxZflhylRhIRAq85KFR Vyd0Q8AE/vPDfcCzjOVSYP6Lqq2jEIxWCPnFf80QvIgxERwqvZ5UJWByAYnwMyex4uM2UivsUKj xHOMyW5vF41aHsnBivF++WBHN14Fx24PE2GkMEtjdI2JD822YE9DG+mdFJaSLkHWhW/IQ7diuiv RJtfIDQSRi2stAg/zF9+5fbPlYqXaen8= X-Google-Smtp-Source: AGHT+IEKL2ZwOe5VvXMQatrIa1g6GW0H8BuxGPBbsvGVH/YzZrc+c+VhFii6283U8A920VOj+4Za+CghtYif X-Received: by 2002:a17:903:90d:b0:295:6427:87d2 with SMTP id d9443c01a7336-297c04751aemr33021325ad.53.1762508109676; Fri, 07 Nov 2025 01:35:09 -0800 (PST) Received: from postal.iol.unh.edu (postal.iol.unh.edu. [132.177.123.84]) by smtp-relay.gmail.com with ESMTPS id d9443c01a7336-29650c5fd93sm3959755ad.24.2025.11.07.01.35.09 (version=TLS1_2 cipher=ECDHE-ECDSA-AES128-GCM-SHA256 bits=128/128); Fri, 07 Nov 2025 01:35:09 -0800 (PST) X-Relaying-Domain: iol.unh.edu Date: Fri, 07 Nov 2025 01:35:09 -0800 (PST) Message-ID: <690dbd4d.170a0220.212bda.4602SMTPIN_ADDED_MISSING@mx.google.com> Received: from [172.21.0.2] (unknown [172.18.0.240]) by postal.iol.unh.edu (Postfix) with ESMTP id 2A1826051830; Fri, 7 Nov 2025 04:35:09 -0500 (EST) Subject: |SUCCESS| pw158532 [PATCH] net/ice: adjust RSS LUT settings From: dpdklab@iol.unh.edu To: Test Report Cc: dpdk-test-reports@iol.unh.edu, Bruce Richardson In-Reply-To: <20251106171736.163516-1-vladimir.medvedkin@intel.com> References: <20251106171736.163516-1-vladimir.medvedkin@intel.com> Content-Type: text/plain X-BeenThere: test-report@dpdk.org X-Mailman-Version: 2.1.29 Precedence: list List-Id: automatic DPDK test reports List-Unsubscribe: , List-Archive: List-Post: List-Help: List-Subscribe: , Errors-To: test-report-bounces@dpdk.org Test-Label: iol-unit-arm64-testing Test-Status: SUCCESS http://dpdk.org/patch/158532 _Testing PASS_ Submitter: Vladimir Medvedkin Date: Thursday, November 06 2025 17:17:36 DPDK git baseline: Repo:dpdk-next-net-intel Branch: master CommitID:2a7bebfa5b488f8c49c9c63f2b7b7ce5cc088560 158532 --> testing pass Upstream job id: Generic-Unit-Test-DPDK#389508 Test environment and result as below: +------------------------------+----------------+------------------------------+--------------+---------------------------+ | Environment | dpdk_unit_test | cryptodev_sw_snow3g_autotest | lpm_autotest | cryptodev_sw_zuc_autotest | +==============================+================+==============================+==============+===========================+ | CentOS Stream 10 | PASS | SKIPPED | SKIPPED | SKIPPED | +------------------------------+----------------+------------------------------+--------------+---------------------------+ | CentOS Stream 9 | PASS | SKIPPED | SKIPPED | SKIPPED | +------------------------------+----------------+------------------------------+--------------+---------------------------+ | Fedora Linux 40 | PASS | SKIPPED | SKIPPED | SKIPPED | +------------------------------+----------------+------------------------------+--------------+---------------------------+ | Debian GNU/Linux 12 | PASS | SKIPPED | SKIPPED | SKIPPED | +------------------------------+----------------+------------------------------+--------------+---------------------------+ | Fedora Linux 41 | PASS | SKIPPED | SKIPPED | SKIPPED | +------------------------------+----------------+------------------------------+--------------+---------------------------+ | Fedora Linux 42 | PASS | SKIPPED | SKIPPED | SKIPPED | +------------------------------+----------------+------------------------------+--------------+---------------------------+ | Red Hat Enterprise Linux 9.5 | PASS | SKIPPED | SKIPPED | SKIPPED | +------------------------------+----------------+------------------------------+--------------+---------------------------+ | Ubuntu 24.04 | PASS | SKIPPED | SKIPPED | SKIPPED | +------------------------------+----------------+------------------------------+--------------+---------------------------+ | Ubuntu 20.04 | PASS | SKIPPED | PASS | SKIPPED | +------------------------------+----------------+------------------------------+--------------+---------------------------+ | Ubuntu 22.04 | PASS | SKIPPED | SKIPPED | SKIPPED | +------------------------------+----------------+------------------------------+--------------+---------------------------+ | Debian 12 (arm) | SKIPPED | PASS | SKIPPED | PASS | +------------------------------+----------------+------------------------------+--------------+---------------------------+ CentOS Stream 10 Kernel: 5.4 Compiler: gcc gcc (GCC) 14.2.1 20250110 (Red Hat 14.2.1-8) CentOS Stream 9 Kernel: 5.4 Compiler: gcc gcc (GCC) 11.5.0 20240719 (Red Hat 11.5.0-11) Fedora Linux 40 Kernel: 5.4 Compiler: gcc gcc (GCC) 14.2.1 20240912 (Red Hat 14.2.1-3) Debian GNU/Linux 12 Kernel: 5.4 Compiler: gcc gcc (Debian 12.2.0-14+deb12u1) 12.2.0 Fedora Linux 41 Kernel: 5.4 Compiler: gcc gcc (GCC) 14.3.1 20250523 (Red Hat 14.3.1-1) Fedora Linux 42 Kernel: 5.4 Compiler: gcc gcc (GCC) 15.2.1 20250808 (Red Hat 15.2.1-1) Red Hat Enterprise Linux 9.5 Kernel: 5.4 Compiler: gcc gcc (GCC) 11.5.0 20240719 (Red Hat 11.5.0-2) Ubuntu 24.04 Kernel: 5.4 Compiler: gcc gcc (Ubuntu 13.3.0-6ubuntu2~24.04) 13.3.0 Ubuntu 20.04 Kernel: 5.4 Compiler: gcc gcc (Ubuntu 9.4.0-1ubuntu1~20.04.2) 9.4.0 Ubuntu 22.04 Kernel: 5.4 Compiler: gcc gcc (Ubuntu 11.4.0-1ubuntu1~22.04) 11.4.0 Debian 12 (arm) Kernel: Depends on container host Compiler: gcc (Debian 12.2.0-14) 12.2.0 To view detailed results, visit: https://lab.dpdk.org/results/dashboard/patchsets/34491/ UNH-IOL DPDK Community Lab To manage your email subscriptions, visit: https://lab.dpdk.org/results/dashboard/preferences/subscriptions/