From mboxrd@z Thu Jan 1 00:00:00 1970 Return-Path: Received: from mails.dpdk.org (mails.dpdk.org [217.70.189.124]) by inbox.dpdk.org (Postfix) with ESMTP id 5519848A96 for ; Fri, 7 Nov 2025 11:01:01 +0100 (CET) Received: from mails.dpdk.org (localhost [127.0.0.1]) by mails.dpdk.org (Postfix) with ESMTP id 411754021F; Fri, 7 Nov 2025 11:01:01 +0100 (CET) Received: from mail-pj1-f99.google.com (mail-pj1-f99.google.com [209.85.216.99]) by mails.dpdk.org (Postfix) with ESMTP id BF0B34021F for ; Fri, 7 Nov 2025 11:01:00 +0100 (CET) Received: by mail-pj1-f99.google.com with SMTP id 98e67ed59e1d1-34077439166so562204a91.2 for ; Fri, 07 Nov 2025 02:01:00 -0800 (PST) DKIM-Signature: v=1; a=rsa-sha256; c=relaxed/relaxed; d=iol.unh.edu; s=unh-iol; t=1762509660; x=1763114460; darn=dpdk.org; h=cc:to:from:subject:message-id:date:from:to:cc:subject:date :message-id:reply-to; bh=+S71E5Ik6UJArq+EIm6/Ox3uQ3JRxVA8ASiktvvH73g=; b=LVmBwb+27peseEHi25kgWgJUq88SEVzBtaaE9pf7Cy7/rU3OPsvpCr/5ldvawsZPoW mY8AjjMClKTohdXp3Z7cDY1zx9eSn1rc9qGAcLp6XZpjXwx+SHcxoUdjOzdeG6Xs/dIL 7KDrhx8J21bgHtE5LhNKY2zCCKt3oZrDrlWGA= X-Google-DKIM-Signature: v=1; a=rsa-sha256; c=relaxed/relaxed; d=1e100.net; s=20230601; t=1762509660; x=1763114460; h=cc:to:from:subject:message-id:date:x-gm-gg:x-gm-message-state:from :to:cc:subject:date:message-id:reply-to; bh=+S71E5Ik6UJArq+EIm6/Ox3uQ3JRxVA8ASiktvvH73g=; b=suYxP8U8zq4+kD1sp7TRmd7x03jEtOO1AjV7CBrC5m0Dv2foilKhHXe1Lfc0TimQPv fxD9ROOjisWQVrE6hGHNm9PQQoaoMhN+IH6a9Ls1mJVVWd7IrgYvKvcynNM9DJP5d7pS CBYOxvq6o+kGCeI6ImRlSE2EGw0hu1nfPyqy/43r4uGfB1TcXdCAwTPQQPL760L9W7lj lcBrY2jZpDHNrQqoRxNauZxMXXnqbm8OB/Fi6K9bAAsSkP0mSFbDWoUUDqDH8XOiT5OW jD2jG5IN7HHZYroIba7eRuLifDmapBntjur7SubgMl+eIhdn/eQgwkca47NYHsWuS5qb Licw== X-Gm-Message-State: AOJu0YxCs0EjqrZkAcPnfvg9e7PKyrQtIN7t7/gXVo14zByBfbzL1H9Y VSyGke4gOId+FJ08/stRSEbOb0O9hJGM/T0yHlEAOOVZJwrYbaHQhqeDgVGGEFbn4q4Qd4ZIBr9 4HfwroiGZVyLvKCqW8XaS+w1AtgHycBkPKng2DonfvRxrl7pB+tQo X-Gm-Gg: ASbGncsezCn7wGTDdm6Hhf2ForuQhUJfY1rvHWa8TqHEE1c5gUCZB/0a0X1b/Bx5awQ Aw1wAEdr6u/+Fpl6oruEYzDNEdIQkYov7HTWwRzQngqVePEVrQ4ToDXMREQZR5dXBF1k/iFr/DK 5u2W7eB+hReVN8tExRbgS2wnihP3ZlWCoTg84lDcglY/MR+YQRvq4xt1qnL6e9L1FfI4QKKCGHb MkqcZDRIV7/4yhOvL4x/gtFLmXmqGyU53kxP5MWYmyhLDkNo8RDS+2U6QRg8qr15F+Jngd3p1dh OnFYh74hvymnA6oC3QeNN+n9QuB3UcUnkJa7u8nVAy3fuNIhDsb9cgszI7c5pZGktFyBuB34RqC tfcUWPmrG X-Google-Smtp-Source: AGHT+IGISdt8NO9XYMCTWHt/BuPey083KvKn9OiUUpr1FtWz567iyo4if59lb8a7hQPyK0XAdN21DdGI3zlR X-Received: by 2002:a17:90b:1809:b0:340:f05a:3eca with SMTP id 98e67ed59e1d1-3434c55bff8mr2776370a91.20.1762509659698; Fri, 07 Nov 2025 02:00:59 -0800 (PST) Received: from postal.iol.unh.edu (postal.iol.unh.edu. [2606:4100:3880:1234::84]) by smtp-relay.gmail.com with ESMTPS id 98e67ed59e1d1-341a68ac513sm783365a91.2.2025.11.07.02.00.59 (version=TLS1_2 cipher=ECDHE-ECDSA-AES128-GCM-SHA256 bits=128/128); Fri, 07 Nov 2025 02:00:59 -0800 (PST) X-Relaying-Domain: iol.unh.edu Date: Fri, 07 Nov 2025 02:00:59 -0800 (PST) Message-ID: <690dc35b.170a0220.19d446.8f83SMTPIN_ADDED_MISSING@mx.google.com> Received: from [172.21.0.4] (unknown [172.18.0.240]) by postal.iol.unh.edu (Postfix) with ESMTP id CAD9760003E8; Fri, 7 Nov 2025 05:00:58 -0500 (EST) Subject: |SUCCESS| [GIT MASTER] 9784db2c5af1eecd02fc21132b59b5b266039b87 From: dpdklab@iol.unh.edu To: Test Report Cc: dpdk-test-reports@iol.unh.edu, Xueming Li , Christian Ehrhardt , Kevin Traynor , Luca Boccassi Content-Type: text/plain X-BeenThere: test-report@dpdk.org X-Mailman-Version: 2.1.29 Precedence: list List-Id: automatic DPDK test reports List-Unsubscribe: , List-Archive: List-Post: List-Help: List-Subscribe: , Errors-To: test-report-bounces@dpdk.org _Testing PASS_ Branch: tags/v22.11 9784db2c5af1eecd02fc21132b59b5b266039b87 --> testing pass Upstream job id: Generic-DPDK-Compile-Meson#441904 Test environment and result as below: +------------------------------+--------------------+ | Environment | dpdk_meson_compile | +==============================+====================+ | Red Hat Enterprise Linux 9.5 | PASS | +------------------------------+--------------------+ | Ubuntu 20.04 | PASS | +------------------------------+--------------------+ | Debian GNU/Linux 12 | PASS | +------------------------------+--------------------+ | Fedora Linux 42 | PASS | +------------------------------+--------------------+ | CentOS Stream 9 | PASS | +------------------------------+--------------------+ | CentOS Stream 10 | PASS | +------------------------------+--------------------+ | Ubuntu 22.04 | PASS | +------------------------------+--------------------+ | Ubuntu 24.04 | PASS | +------------------------------+--------------------+ Red Hat Enterprise Linux 9.5 Kernel: 5.4 Compiler: gcc gcc (GCC) 11.5.0 20240719 (Red Hat 11.5.0-2) Ubuntu 20.04 Kernel: 5.15 Compiler: aarch64-linux-gnu-gcc gcc (Ubuntu 9.4.0-1ubuntu1~20.04.2) 9.4.0 Debian GNU/Linux 12 Kernel: 5.4 Compiler: gcc gcc (Debian 12.2.0-14+deb12u1) 12.2.0 Fedora Linux 42 Kernel: 5.4 Compiler: clang gcc (GCC) 15.2.1 20250808 (Red Hat 15.2.1-1) CentOS Stream 9 Kernel: 5.4 Compiler: gcc gcc (GCC) 11.5.0 20240719 (Red Hat 11.5.0-11) CentOS Stream 10 Kernel: 5.4 Compiler: gcc gcc (GCC) 14.2.1 20250110 (Red Hat 14.2.1-8) Ubuntu 22.04 Kernel: 5.4 Compiler: gcc gcc (Ubuntu 11.4.0-1ubuntu1~22.04) 11.4.0 Ubuntu 24.04 Kernel: 5.4 Compiler: gcc gcc (Ubuntu 13.3.0-6ubuntu2~24.04) 13.3.0 To view detailed results, visit: https://lab.dpdk.org/results/dashboard/tarballs/35497/ UNH-IOL DPDK Community Lab To manage your email subscriptions, visit: https://lab.dpdk.org/results/dashboard/preferences/subscriptions/