From mboxrd@z Thu Jan 1 00:00:00 1970 Return-Path: Received: from mails.dpdk.org (mails.dpdk.org [217.70.189.124]) by inbox.dpdk.org (Postfix) with ESMTP id 797DD48A98 for ; Fri, 7 Nov 2025 13:47:49 +0100 (CET) Received: from mails.dpdk.org (localhost [127.0.0.1]) by mails.dpdk.org (Postfix) with ESMTP id 5A9F14021F; Fri, 7 Nov 2025 13:47:49 +0100 (CET) Received: from mail-pf1-f228.google.com (mail-pf1-f228.google.com [209.85.210.228]) by mails.dpdk.org (Postfix) with ESMTP id 171D14021F for ; Fri, 7 Nov 2025 13:47:48 +0100 (CET) Received: by mail-pf1-f228.google.com with SMTP id d2e1a72fcca58-77f67ba775aso899101b3a.3 for ; Fri, 07 Nov 2025 04:47:47 -0800 (PST) DKIM-Signature: v=1; a=rsa-sha256; c=relaxed/relaxed; d=iol.unh.edu; s=unh-iol; t=1762519667; x=1763124467; darn=dpdk.org; h=references:in-reply-to:cc:to:from:subject:message-id:date:from:to :cc:subject:date:message-id:reply-to; bh=jMQlKVV6YpCrM/n5QQsImF4KQFAxmDPn3wUtu8RG0w0=; b=AG774aQ3Oqe0elL7lGlQR3nAAGhKN90Ugr+f9B1xAc4Lll+1RjA8sh2Jae4m3pUmHT 9uVKHyPKQ3Yj2JfeyzoO1rZoHU+xq2TRXNqvktr6qj0KamUcbZaPvzqtJcci/kXgbDmW /7qbRll68rHFZGoTOM+UaMKB1C1XEjKPw1FBU= X-Google-DKIM-Signature: v=1; a=rsa-sha256; c=relaxed/relaxed; d=1e100.net; s=20230601; t=1762519667; x=1763124467; h=references:in-reply-to:cc:to:from:subject:message-id:date:x-gm-gg :x-gm-message-state:from:to:cc:subject:date:message-id:reply-to; bh=jMQlKVV6YpCrM/n5QQsImF4KQFAxmDPn3wUtu8RG0w0=; b=LE64T9INE3u3D9lSBL4/YRTQT+uZlc3XXzzDUo19bsKaFjvkhLBJ1UajcT1lK+WB9C e2LxLMQ4PMPXiVO1zZwLzEe7SQfEwW6s/k1t+9aBAmvalP03rqeZiGAodb7OA5zEpHMh YVivV5Zs3ehSaF/kyijkvOqhZX3IvW9Zr9uDqIzcPKkh65021JDgimXM2AzgvCrAJ4/Z uw8KCH7+/H4ORHpQtNdtvIiKayDCPfr6kGdLttsvj55n5FVNvx+AZ6jNOKKiPUvT2AVu XXc4MScevxVTVwVbi7QcfoWFGYd17N1bVFcSS8xkpykvnzL2jTXDxpHIK85RaQq1dm7y 2cUA== X-Gm-Message-State: AOJu0YznRBpRRbO+xRBWxb5xdWPPMIXDs6ZWcd3KLLoFyQD1VnCeKqok MDLBqmhAv0e4f7GOlSS6rD16haGIaUGnRGI2PGDFPRW+MGONWwM/W9wzKbyUSPssBDxMsnpyMns HGOVZXnyIQkLrcUnu4QnRf3ZBH/ckf/kMTLBZYvzp5gcu X-Gm-Gg: ASbGncuk9nWE1XuhGXi7EKJjaFftsNdUSwuLwL+znYhOYcwhebBTNn6SMPurwgrbTzh TSM+3WESTfB4Kg6/8GwDeX7ErfPHO1aROoFzsSl5C1qEHHq4yu3YOkZZxLnhxL8Vev0R9LoB41Y Zu2xrGnv4lv2WUt5xNrc98iZvUyasXIhwOYMr6w51tQPLvFe9qnXmimWssXTGVxiLEXJPkDUQez jUae2GPCgtMawUqTxRBnoDexBDJYw6aQKKEOCYnQgxncxq6I+csjRlAjGNEcGENci3L8HpOlzzW J3efAEW6TLaYFwrFbZznY10Eg2QdBKAONLMmNgxjzLXp7HxHBbgOU7VPqHiEdZTevAXUgLvUNVx 0z8fAHO2ml/l61XsmlsklBDUfgwLZ8k0= X-Google-Smtp-Source: AGHT+IGAPHNeqhQnuIn2gXKu2sxZONls116vPD14noCwAVAHGbBlkN5YBrHaBvhc0njPXK6dugiuF4IUdDpo X-Received: by 2002:a05:6a20:7d9e:b0:342:bd5d:2c56 with SMTP id adf61e73a8af0-3522b39e15emr4577145637.51.1762519667111; Fri, 07 Nov 2025 04:47:47 -0800 (PST) Received: from postal.iol.unh.edu (postal.iol.unh.edu. [132.177.123.84]) by smtp-relay.gmail.com with ESMTPS id 41be03b00d2f7-ba8fd8f4efbsm292994a12.9.2025.11.07.04.47.47 (version=TLS1_2 cipher=ECDHE-ECDSA-AES128-GCM-SHA256 bits=128/128); Fri, 07 Nov 2025 04:47:47 -0800 (PST) X-Relaying-Domain: iol.unh.edu Date: Fri, 07 Nov 2025 04:47:47 -0800 (PST) Message-ID: <690dea73.050a0220.34b656.f250SMTPIN_ADDED_MISSING@mx.google.com> Received: from [172.21.0.2] (unknown [172.18.0.240]) by postal.iol.unh.edu (Postfix) with ESMTP id 9AB826051830; Fri, 7 Nov 2025 07:47:45 -0500 (EST) Subject: |SUCCESS| pw158542 [PATCH] net/ice: fix statistics read error From: dpdklab@iol.unh.edu To: Test Report Cc: dpdk-test-reports@iol.unh.edu, Bruce Richardson In-Reply-To: <20251107074338.957352-1-zhichaox.zeng@intel.com> References: <20251107074338.957352-1-zhichaox.zeng@intel.com> Content-Type: text/plain X-BeenThere: test-report@dpdk.org X-Mailman-Version: 2.1.29 Precedence: list List-Id: automatic DPDK test reports List-Unsubscribe: , List-Archive: List-Post: List-Help: List-Subscribe: , Errors-To: test-report-bounces@dpdk.org Test-Label: iol-compile-arm64-testing Test-Status: SUCCESS http://dpdk.org/patch/158542 _Testing PASS_ Submitter: Zhichao Zeng Date: Friday, November 07 2025 07:43:38 DPDK git baseline: Repo:dpdk-next-net-intel Branch: master CommitID:1655dc989bc95fa85fc76d32912d2e46c0851148 158542 --> testing pass Upstream job id: Generic-DPDK-Compile-Meson#441973 Test environment and result as below: +------------------------------+--------------------+ | Environment | dpdk_meson_compile | +==============================+====================+ | Ubuntu 20.04 | PASS | +------------------------------+--------------------+ | Red Hat Enterprise Linux 9.5 | PASS | +------------------------------+--------------------+ | Fedora Linux 42 | PASS | +------------------------------+--------------------+ | Ubuntu 22.04 | PASS | +------------------------------+--------------------+ | Ubuntu 24.04 | PASS | +------------------------------+--------------------+ | CentOS Stream 9 | PASS | +------------------------------+--------------------+ | CentOS Stream 10 | PASS | +------------------------------+--------------------+ | Debian GNU/Linux 12 | PASS | +------------------------------+--------------------+ Ubuntu 20.04 Kernel: 5.15 Compiler: aarch64-linux-gnu-gcc gcc (Ubuntu 9.4.0-1ubuntu1~20.04.2) 9.4.0 Red Hat Enterprise Linux 9.5 Kernel: 5.4 Compiler: gcc gcc (GCC) 11.5.0 20240719 (Red Hat 11.5.0-2) Fedora Linux 42 Kernel: 5.4 Compiler: gcc gcc (GCC) 15.2.1 20250808 (Red Hat 15.2.1-1) Ubuntu 22.04 Kernel: 5.4 Compiler: gcc gcc (Ubuntu 11.4.0-1ubuntu1~22.04) 11.4.0 Ubuntu 24.04 Kernel: 5.4 Compiler: gcc gcc (Ubuntu 13.3.0-6ubuntu2~24.04) 13.3.0 CentOS Stream 9 Kernel: 5.4 Compiler: gcc gcc (GCC) 11.5.0 20240719 (Red Hat 11.5.0-11) CentOS Stream 10 Kernel: 5.4 Compiler: gcc gcc (GCC) 14.2.1 20250110 (Red Hat 14.2.1-8) Debian GNU/Linux 12 Kernel: 5.4 Compiler: gcc gcc (Debian 12.2.0-14+deb12u1) 12.2.0 To view detailed results, visit: https://lab.dpdk.org/results/dashboard/patchsets/34504/ UNH-IOL DPDK Community Lab To manage your email subscriptions, visit: https://lab.dpdk.org/results/dashboard/preferences/subscriptions/