From mboxrd@z Thu Jan 1 00:00:00 1970 Return-Path: Received: from mails.dpdk.org (mails.dpdk.org [217.70.189.124]) by inbox.dpdk.org (Postfix) with ESMTP id 8A03348A9C for ; Fri, 7 Nov 2025 14:34:18 +0100 (CET) Received: from mails.dpdk.org (localhost [127.0.0.1]) by mails.dpdk.org (Postfix) with ESMTP id 0EBE84021F; Fri, 7 Nov 2025 14:34:18 +0100 (CET) Received: from mail-il1-f227.google.com (mail-il1-f227.google.com [209.85.166.227]) by mails.dpdk.org (Postfix) with ESMTP id 67B844021F for ; Fri, 7 Nov 2025 14:34:17 +0100 (CET) Received: by mail-il1-f227.google.com with SMTP id e9e14a558f8ab-4332674b921so2639645ab.0 for ; Fri, 07 Nov 2025 05:34:17 -0800 (PST) DKIM-Signature: v=1; a=rsa-sha256; c=relaxed/relaxed; d=iol.unh.edu; s=unh-iol; t=1762522456; x=1763127256; darn=dpdk.org; h=references:in-reply-to:cc:to:from:subject:message-id:date:from:to :cc:subject:date:message-id:reply-to; bh=6jcjR9qMCfRqFQntFSuSIRwk/nxmPS5wbgV0lt/aXgE=; b=KJ4uSYZdpvSik325MVIh/WtSRNEbK2RsBQwKmnyqus3l4MLh2n9f54jnZqAv3fQVC9 ehbY/TXdRnJlxW5BkcDnJVY4vYqa47ZzgKZ61vb6F8nnVVZyb8Y7zVvNHSwvCOr/mLD6 ljJBprNOwWce7D77vHFLfYFYI5vsXAnvJ3jmk= X-Google-DKIM-Signature: v=1; a=rsa-sha256; c=relaxed/relaxed; d=1e100.net; s=20230601; t=1762522457; x=1763127257; h=references:in-reply-to:cc:to:from:subject:message-id:date:x-gm-gg :x-gm-message-state:from:to:cc:subject:date:message-id:reply-to; bh=6jcjR9qMCfRqFQntFSuSIRwk/nxmPS5wbgV0lt/aXgE=; b=o9qkXNQFsNTkXR15oQj4Ww8Z6aOMpKm0cS3A2F6JYqkjjiaVFOQgLHBWjKJRIi75O1 JGKtKkAiYJ3eNEAHlztcbdMtdG82w9jPKXq79YZq6rTqz7c1VQyRMe5qPQWFATmjdXpI CHcInJW8MhXjlUpqubs35jPhpo0sNnEMPBoRTyiMwAdy40emMLZfygnlXtXUHVx51tu6 aQseWDt2D0IgQ3ZlOq2x2IS/EmTtq8AEcf73AL2ClkBoegClEOFJgfNhimLPC2miREg6 qhjTmfYiQVMOm1znHZ/GB6LwwCtft2tGjUcoUd3ERi4E0fodrIjX4jzz8/3+JFu1+rXC SqLQ== X-Gm-Message-State: AOJu0YwmAKTkxnTxsEhCyH4TWZlvIRvw5c8R0SZBNkIJHsl1kmTH/2xC sCzO2kim2wmlQaYl9eF8f9UjJonw4ElP57Yf94+KtTpLAqXUkD7LTb0vsddjF/Znd2mfZmvIZi5 b94YBD9W5jaYgZpYKiivxdKhB1rMN1CVTWADxooFj6KuP/w+31ppiuCxY8Nmn X-Gm-Gg: ASbGnctyvRyXTGsxb/d1W526MzVa5R+UMB+sfD3Xo+iJgziHUjIN76Onj0TXAr72vWE hx8I9J/8kJ4CAIDQwGZ/QfpKs9gz9iqRmfpUw4L+RBYxnQkCSS0aj6Iyt2mybP8Y8FBb0PjFZmV Wdqcf3FCXcankbIvicj8Yc2onXbN77qZ+ikGyJS/WIdSYs4Sv7dd2zvXdTgUjx3eTB7aOH8Jsdv gNsGFbPJOh+RBJqsC6SgfFvYNbCNL3uAdrY3bGwkYVjOBTEk8oSPwWnGof3iQ5ByRIgR60PIVGQ vHmE5L1z51rvPH0kSqhCAMawn9IzeCakVEGMCwJDRfkCHbIKifDnmN/bnQeZ4+pV15Ho6Lr8Bsg 1bTmBSuH0 X-Google-Smtp-Source: AGHT+IE8pVlgRna2eBuwriRZGfvLnHMt0Md9TX9NANe1UdoNPF6nXJxcl3V1xhpTd3Fz2ZhHt+QBgRibrhvs X-Received: by 2002:a92:c249:0:b0:433:30d7:7ab4 with SMTP id e9e14a558f8ab-4335f45be49mr39720655ab.26.1762522455223; Fri, 07 Nov 2025 05:34:15 -0800 (PST) Received: from postal.iol.unh.edu (postal.iol.unh.edu. [2606:4100:3880:1234::84]) by smtp-relay.gmail.com with ESMTPS id 8926c6da1cb9f-5b747c8401asm466825173.19.2025.11.07.05.34.15 (version=TLS1_2 cipher=ECDHE-ECDSA-AES128-GCM-SHA256 bits=128/128); Fri, 07 Nov 2025 05:34:15 -0800 (PST) X-Relaying-Domain: iol.unh.edu Date: Fri, 07 Nov 2025 05:34:15 -0800 (PST) Message-ID: <690df557.050a0220.31b792.7d76SMTPIN_ADDED_MISSING@mx.google.com> Received: from [172.21.0.2] (unknown [172.18.0.240]) by postal.iol.unh.edu (Postfix) with ESMTP id C1927604D420; Fri, 7 Nov 2025 08:34:14 -0500 (EST) Subject: |SUCCESS| pw158493-158494 [PATCH] [v4,2/2] net/mlx5: support PF repr From: dpdklab@iol.unh.edu To: Test Report Cc: dpdk-test-reports@iol.unh.edu, Stephen Hemminger In-Reply-To: <20251106055246.360824-2-getelson@nvidia.com> References: <20251106055246.360824-2-getelson@nvidia.com> Content-Type: text/plain X-BeenThere: test-report@dpdk.org X-Mailman-Version: 2.1.29 Precedence: list List-Id: automatic DPDK test reports List-Unsubscribe: , List-Archive: List-Post: List-Help: List-Subscribe: , Errors-To: test-report-bounces@dpdk.org Test-Label: iol-unit-arm64-testing Test-Status: SUCCESS http://dpdk.org/patch/158494 _Testing PASS_ Submitter: Gregory Etelson Date: Thursday, November 06 2025 05:52:45 DPDK git baseline: Repo:dpdk-next-net Branch: master CommitID:591ee7f468aebec30d68d30afa8d5e4dcfc897dc 158493-158494 --> testing pass Upstream job id: Generic-Unit-Test-DPDK#389589 Test environment and result as below: +------------------------------+------------------------------+---------------------------+--------------+----------------+ | Environment | cryptodev_sw_snow3g_autotest | cryptodev_sw_zuc_autotest | lpm_autotest | dpdk_unit_test | +==============================+==============================+===========================+==============+================+ | Debian 12 (arm) | PASS | PASS | SKIPPED | SKIPPED | +------------------------------+------------------------------+---------------------------+--------------+----------------+ | Ubuntu 20.04 | SKIPPED | SKIPPED | PASS | PASS | +------------------------------+------------------------------+---------------------------+--------------+----------------+ | Ubuntu 24.04 | SKIPPED | SKIPPED | SKIPPED | PASS | +------------------------------+------------------------------+---------------------------+--------------+----------------+ | Fedora Linux 40 | SKIPPED | SKIPPED | SKIPPED | PASS | +------------------------------+------------------------------+---------------------------+--------------+----------------+ | Red Hat Enterprise Linux 9.5 | SKIPPED | SKIPPED | SKIPPED | PASS | +------------------------------+------------------------------+---------------------------+--------------+----------------+ | Fedora Linux 42 | SKIPPED | SKIPPED | SKIPPED | PASS | +------------------------------+------------------------------+---------------------------+--------------+----------------+ | CentOS Stream 10 | SKIPPED | SKIPPED | SKIPPED | PASS | +------------------------------+------------------------------+---------------------------+--------------+----------------+ | Fedora Linux 41 | SKIPPED | SKIPPED | SKIPPED | PASS | +------------------------------+------------------------------+---------------------------+--------------+----------------+ | Ubuntu 22.04 | SKIPPED | SKIPPED | SKIPPED | PASS | +------------------------------+------------------------------+---------------------------+--------------+----------------+ | CentOS Stream 9 | SKIPPED | SKIPPED | SKIPPED | PASS | +------------------------------+------------------------------+---------------------------+--------------+----------------+ | Debian GNU/Linux 12 | SKIPPED | SKIPPED | SKIPPED | PASS | +------------------------------+------------------------------+---------------------------+--------------+----------------+ Debian 12 (arm) Kernel: Depends on container host Compiler: gcc (Debian 12.2.0-14) 12.2.0 Ubuntu 20.04 Kernel: 5.4 Compiler: gcc gcc (Ubuntu 9.4.0-1ubuntu1~20.04.2) 9.4.0 Ubuntu 24.04 Kernel: 5.4 Compiler: gcc gcc (Ubuntu 13.3.0-6ubuntu2~24.04) 13.3.0 Fedora Linux 40 Kernel: 5.4 Compiler: gcc gcc (GCC) 14.2.1 20240912 (Red Hat 14.2.1-3) Red Hat Enterprise Linux 9.5 Kernel: 5.4 Compiler: gcc gcc (GCC) 11.5.0 20240719 (Red Hat 11.5.0-2) Fedora Linux 42 Kernel: 5.4 Compiler: gcc gcc (GCC) 15.2.1 20250808 (Red Hat 15.2.1-1) CentOS Stream 10 Kernel: 5.4 Compiler: gcc gcc (GCC) 14.2.1 20250110 (Red Hat 14.2.1-8) Fedora Linux 41 Kernel: 5.4 Compiler: clang gcc (GCC) 14.3.1 20250523 (Red Hat 14.3.1-1) Ubuntu 22.04 Kernel: 5.4 Compiler: gcc gcc (Ubuntu 11.4.0-1ubuntu1~22.04) 11.4.0 CentOS Stream 9 Kernel: 5.4 Compiler: gcc gcc (GCC) 11.5.0 20240719 (Red Hat 11.5.0-11) Debian GNU/Linux 12 Kernel: 5.4 Compiler: gcc gcc (Debian 12.2.0-14+deb12u1) 12.2.0 To view detailed results, visit: https://lab.dpdk.org/results/dashboard/patchsets/34494/ UNH-IOL DPDK Community Lab To manage your email subscriptions, visit: https://lab.dpdk.org/results/dashboard/preferences/subscriptions/