From mboxrd@z Thu Jan 1 00:00:00 1970 Return-Path: Received: from mails.dpdk.org (mails.dpdk.org [217.70.189.124]) by inbox.dpdk.org (Postfix) with ESMTP id 02A2048AA3 for ; Fri, 7 Nov 2025 22:02:00 +0100 (CET) Received: from mails.dpdk.org (localhost [127.0.0.1]) by mails.dpdk.org (Postfix) with ESMTP id D519140261; Fri, 7 Nov 2025 22:02:00 +0100 (CET) Received: from mail-ua1-f97.google.com (mail-ua1-f97.google.com [209.85.222.97]) by mails.dpdk.org (Postfix) with ESMTP id 2319140261 for ; Fri, 7 Nov 2025 22:02:00 +0100 (CET) Received: by mail-ua1-f97.google.com with SMTP id a1e0cc1a2514c-93722262839so178433241.2 for ; Fri, 07 Nov 2025 13:02:00 -0800 (PST) DKIM-Signature: v=1; a=rsa-sha256; c=relaxed/relaxed; d=iol.unh.edu; s=unh-iol; t=1762549319; x=1763154119; darn=dpdk.org; h=references:in-reply-to:cc:to:from:subject:message-id:date:from:to :cc:subject:date:message-id:reply-to; bh=lLRBcpwQHQQhFUXvy30WMVhvQRJIbCKPxVdxKbllZUY=; b=Ncoe0jelbX6vXIhzOWlTSS1DYkNJw7VjIB/BmxMzBSwdGH3L3vl/BwArpX8BAGKAke 69jc7XpDxZqL1R6MPjHASNwy9RfxhebP7IAiov67f0CG8yJMwRhfgHekR3V+xNWS7j5h 7Rw5AadEykShcUg28u/1kdx5qHxYtaHSHU7NU= X-Google-DKIM-Signature: v=1; a=rsa-sha256; c=relaxed/relaxed; d=1e100.net; s=20230601; t=1762549319; x=1763154119; h=references:in-reply-to:cc:to:from:subject:message-id:date:x-gm-gg :x-gm-message-state:from:to:cc:subject:date:message-id:reply-to; bh=lLRBcpwQHQQhFUXvy30WMVhvQRJIbCKPxVdxKbllZUY=; b=IRim5vYSI1dmTK2DUIvgMmTUWz18d4yf/McMwN+g6NAZNtVxFp0mqQG/XRuTQNVUWr RhoVNlLcDJagc/Xysu77eT/zqRItDpxACPxISPHO1HMXS2TOKJUZeuqKr4dMkAyg5n7E dh70jorL6QMCL4t/QW/k2o7F4IQWYDlS97lGjPGpc5vHT08KrJ4BcqWcrtUvAB2kXseP jIeMChBqkgfLSausGJnBu4aDWUhhM+vg6kDvdPFOjPPTWHUedCaSnpgAPuSIYFDbevol 4Ice1hai7eqePKOsqJufU9fyKX99cdjx+o/DBJz+HkdyFYREsbAJ1dZN673s1mGaReBG sm4Q== X-Gm-Message-State: AOJu0YzBnu9/Y/gkJ7eVqwr/C8Vmh0/iV6h3bTSej5xhnyKcrEpx1Qy1 6G3qvCNLROhL3rP/85nhLJYOZDHVBdKk0f8kDdmTbQud4ZMbUfn5FZUb+x9lMlFO1cbZiY3tSOU w7QyFlK7FKlVxMvmIpgCWuBODh7rbt3M3c2IRfoPZD7b8 X-Gm-Gg: ASbGnctG8gyUjAujT27hpxTl6by9vutMaZerRBQNQAWaZQx1C3Fs8QH18jXzAsi+23x 6tshr59gIbpAJea8dI5hP3s1dXy0q/mBIeMXFfzq7H90sIb15OoFrgPQ7O3pihvvGsz9h3od0qT N0+EGcXa4v734IyKiV4RUANWfP/T346wb86XhWvh+cet5yIcxZvTXEnUhQtObLB+fHDfIyN39zs BJ/V589fyfItSETBlQFRitYzp6yXzJl80d1qx68TJlkOV50M0MaC7J+NU5j4ROJ6cc9GKymsKxD p5ywQf71rzUX3+Oin/51AZlZib0BY1M5OlJ7noXoeHgGzgqd10jcVP4i141YRLowIaWCaU1TQ2n qOSpEI0+P0B0pUE1O8oEztI15G8+BGEo= X-Google-Smtp-Source: AGHT+IErrOeoBwlRi1cdnGrr6/mitacsi0x4DBywD+Z4TNqO4u2pCoU4qcjCLgrNGQ6oQ4ZdSlGOF88AzpZr X-Received: by 2002:a05:6102:3908:b0:529:fc9e:84ae with SMTP id ada2fe7eead31-5ddc47533f4mr379511137.24.1762549319521; Fri, 07 Nov 2025 13:01:59 -0800 (PST) Received: from postal.iol.unh.edu (postal.iol.unh.edu. [132.177.123.84]) by smtp-relay.gmail.com with ESMTPS id 6a1803df08f44-8823896af40sm265736d6.2.2025.11.07.13.01.59 (version=TLS1_2 cipher=ECDHE-ECDSA-AES128-GCM-SHA256 bits=128/128); Fri, 07 Nov 2025 13:01:59 -0800 (PST) X-Relaying-Domain: iol.unh.edu Date: Fri, 07 Nov 2025 13:01:59 -0800 (PST) Message-ID: <690e5e47.050a0220.2e98d0.1661SMTPIN_ADDED_MISSING@mx.google.com> Received: from [172.21.0.2] (unknown [172.18.0.240]) by postal.iol.unh.edu (Postfix) with ESMTP id 357A360003E8; Fri, 7 Nov 2025 16:01:59 -0500 (EST) Subject: |SUCCESS| pw158534 [PATCH] [v4] app/testpmd: support specify TCs whe From: dpdklab@iol.unh.edu To: Test Report Cc: dpdk-test-reports@iol.unh.edu, Stephen Hemminger In-Reply-To: <20251107005357.5682-1-fengchengwen@huawei.com> References: <20251107005357.5682-1-fengchengwen@huawei.com> Content-Type: text/plain X-BeenThere: test-report@dpdk.org X-Mailman-Version: 2.1.29 Precedence: list List-Id: automatic DPDK test reports List-Unsubscribe: , List-Archive: List-Post: List-Help: List-Subscribe: , Errors-To: test-report-bounces@dpdk.org Test-Label: iol-unit-arm64-testing Test-Status: SUCCESS http://dpdk.org/patch/158534 _Testing PASS_ Submitter: fengchengwen Date: Friday, November 07 2025 00:53:57 DPDK git baseline: Repo:dpdk-next-net Branch: master CommitID:591ee7f468aebec30d68d30afa8d5e4dcfc897dc 158534 --> testing pass Upstream job id: Generic-Unit-Test-DPDK#389775 Test environment and result as below: +------------------------------+----------------+--------------+------------------------------+---------------------------+ | Environment | dpdk_unit_test | lpm_autotest | cryptodev_sw_snow3g_autotest | cryptodev_sw_zuc_autotest | +==============================+================+==============+==============================+===========================+ | CentOS Stream 9 | PASS | SKIPPED | SKIPPED | SKIPPED | +------------------------------+----------------+--------------+------------------------------+---------------------------+ | Fedora Linux 40 | PASS | SKIPPED | SKIPPED | SKIPPED | +------------------------------+----------------+--------------+------------------------------+---------------------------+ | CentOS Stream 10 | PASS | SKIPPED | SKIPPED | SKIPPED | +------------------------------+----------------+--------------+------------------------------+---------------------------+ | Fedora Linux 41 | PASS | SKIPPED | SKIPPED | SKIPPED | +------------------------------+----------------+--------------+------------------------------+---------------------------+ | Red Hat Enterprise Linux 9.5 | PASS | SKIPPED | SKIPPED | SKIPPED | +------------------------------+----------------+--------------+------------------------------+---------------------------+ | Fedora Linux 42 | PASS | SKIPPED | SKIPPED | SKIPPED | +------------------------------+----------------+--------------+------------------------------+---------------------------+ | Debian GNU/Linux 12 | PASS | SKIPPED | SKIPPED | SKIPPED | +------------------------------+----------------+--------------+------------------------------+---------------------------+ | Ubuntu 22.04 | PASS | SKIPPED | SKIPPED | SKIPPED | +------------------------------+----------------+--------------+------------------------------+---------------------------+ | Ubuntu 24.04 | PASS | SKIPPED | SKIPPED | SKIPPED | +------------------------------+----------------+--------------+------------------------------+---------------------------+ | Ubuntu 20.04 | PASS | PASS | SKIPPED | SKIPPED | +------------------------------+----------------+--------------+------------------------------+---------------------------+ | Debian 12 (arm) | SKIPPED | SKIPPED | PASS | PASS | +------------------------------+----------------+--------------+------------------------------+---------------------------+ CentOS Stream 9 Kernel: 5.4 Compiler: gcc gcc (GCC) 11.5.0 20240719 (Red Hat 11.5.0-11) Fedora Linux 40 Kernel: 5.4 Compiler: gcc gcc (GCC) 14.2.1 20240912 (Red Hat 14.2.1-3) CentOS Stream 10 Kernel: 5.4 Compiler: gcc gcc (GCC) 14.2.1 20250110 (Red Hat 14.2.1-8) Fedora Linux 41 Kernel: 5.4 Compiler: gcc gcc (GCC) 14.3.1 20250523 (Red Hat 14.3.1-1) Red Hat Enterprise Linux 9.5 Kernel: 5.4 Compiler: gcc gcc (GCC) 11.5.0 20240719 (Red Hat 11.5.0-2) Fedora Linux 42 Kernel: 5.4 Compiler: gcc gcc (GCC) 15.2.1 20250808 (Red Hat 15.2.1-1) Debian GNU/Linux 12 Kernel: 5.4 Compiler: gcc gcc (Debian 12.2.0-14+deb12u1) 12.2.0 Ubuntu 22.04 Kernel: 5.4 Compiler: gcc gcc (Ubuntu 11.4.0-1ubuntu1~22.04) 11.4.0 Ubuntu 24.04 Kernel: 5.4 Compiler: gcc gcc (Ubuntu 13.3.0-6ubuntu2~24.04) 13.3.0 Ubuntu 20.04 Kernel: 5.4 Compiler: gcc gcc (Ubuntu 9.4.0-1ubuntu1~20.04.2) 9.4.0 Debian 12 (arm) Kernel: Depends on container host Compiler: gcc (Debian 12.2.0-14) 12.2.0 To view detailed results, visit: https://lab.dpdk.org/results/dashboard/patchsets/34502/ UNH-IOL DPDK Community Lab To manage your email subscriptions, visit: https://lab.dpdk.org/results/dashboard/preferences/subscriptions/