From mboxrd@z Thu Jan 1 00:00:00 1970 Return-Path: Received: from mails.dpdk.org (mails.dpdk.org [217.70.189.124]) by inbox.dpdk.org (Postfix) with ESMTP id 5814248AA3 for ; Fri, 7 Nov 2025 22:16:14 +0100 (CET) Received: from mails.dpdk.org (localhost [127.0.0.1]) by mails.dpdk.org (Postfix) with ESMTP id 2D4EB40261; Fri, 7 Nov 2025 22:16:14 +0100 (CET) Received: from mail-il1-f227.google.com (mail-il1-f227.google.com [209.85.166.227]) by mails.dpdk.org (Postfix) with ESMTP id 0A63F40261 for ; Fri, 7 Nov 2025 22:16:13 +0100 (CET) Received: by mail-il1-f227.google.com with SMTP id e9e14a558f8ab-43346da8817so6526755ab.0 for ; Fri, 07 Nov 2025 13:16:12 -0800 (PST) DKIM-Signature: v=1; a=rsa-sha256; c=relaxed/relaxed; d=iol.unh.edu; s=unh-iol; t=1762550172; x=1763154972; darn=dpdk.org; h=references:in-reply-to:cc:to:from:subject:message-id:date:from:to :cc:subject:date:message-id:reply-to; bh=9B8wGiLQBUc9wItSyIWItXKFUb2eUth8vm5mmJ/Q1jQ=; b=dUzmEcqsHAoqqVDCPQbRkjb6DvVvxqdlOWGnM+6Vrn2s7pwSKP/A1iKXayquM1hb+U W6dN/XsV1SBArZM1O9dBpesxSOpOCV95i0ebT6z/m42V/7z6cAHqii/wZ9N8BNE0SltK 0LPOZJNxvRPQ3RDOlpJ/01DorNXzkcPVWcmLI= X-Google-DKIM-Signature: v=1; a=rsa-sha256; c=relaxed/relaxed; d=1e100.net; s=20230601; t=1762550172; x=1763154972; h=references:in-reply-to:cc:to:from:subject:message-id:date:x-gm-gg :x-gm-message-state:from:to:cc:subject:date:message-id:reply-to; bh=9B8wGiLQBUc9wItSyIWItXKFUb2eUth8vm5mmJ/Q1jQ=; b=vY7KAt+l3Ux68xFcpBXkcdvs+FS0jmYmZORPxLYTvf53X+krLPK69/WdMAi4QvMP0Z JXx3nCSoUdaeTen++t8LqmIWP018o3Qosg6h0fEEXGRMFwbf0OauAkOaj+Ygb91csSt3 onNHhg3fz9uKSHiP4fvQm9Fd01CVSTaeUq/yevEaM17v3wTPQyQZt4swSXsV/0OH9Zbx thfm4Mzr1UN/oP2kQ4PLD/Ps2xysgECh8UkpCuSvXvGPZ28tSF3XVQLZkz5/12bj4PuN xyctaK5YYdXUiqP0aKv4zsrkxugBHHh3t681zvwo6VvRmNRbB/se1+7M3j6qSeKD6dLi OWbg== X-Gm-Message-State: AOJu0YzE0MbQkyxP6rpA4aALsV6dSvYIJS3Uh/sOjEHH7Vhe7FCD7Url OkqgABZFvVotE2iQ7vGmyyJYh6dkHVISXl39HLVDL3e2XmSA9Jz+WFUKBFAv+WaImRt4sCqSUWb +cKWG2JFCqQOfpBDpXazXk2/VU1xZ8GcZglJ7FWgqG7LB X-Gm-Gg: ASbGncteflHw7XLduE/rA1eXWa9WeK60gbfY8JRH/k7i7ncsz4JyR3/RPfQ4jxdXKsS 05/Xdi45VQNjB7HpHFtRQBabn0H1HAe/rwJVO2+qhZlYGbUnqvhAKtGlDdXkV5CCiJD55PMHUh+ OnqKprtFAEvrVCrgye2I5tUlynkbZ8oVyow65mslaEcYzZDV8jLdSmRReh6WFWbceWMr/i1o1UU GTlPRqWzvHz+nwrHimhESNJNfm/qbQ1vEiPJ6CjdMcTxhOPMMdLKwTimuJTTA0vFt+kfekHR0ui IA/LeKmdXetOvDTG99EiFx/KLEllImrydchN3PXvJlIveF29pD1fpGPQWwXQpazsYzZXGit68f4 0Za7H04vnN9OIbqF3FWoLAFyh9NHacAA= X-Google-Smtp-Source: AGHT+IH0BGqkuH7WSmvvrqBjSTZwFbfmTkqF44pkS8pyGpaJF9NaXgpFYXcJq9BcT6vwYkMNKCpCruh0GICJ X-Received: by 2002:a05:6e02:1a61:b0:433:2390:3a4a with SMTP id e9e14a558f8ab-43367e54926mr13474105ab.14.1762550172328; Fri, 07 Nov 2025 13:16:12 -0800 (PST) Received: from postal.iol.unh.edu (postal.iol.unh.edu. [132.177.123.84]) by smtp-relay.gmail.com with ESMTPS id e9e14a558f8ab-4334f4c683esm5663755ab.31.2025.11.07.13.16.12 (version=TLS1_2 cipher=ECDHE-ECDSA-AES128-GCM-SHA256 bits=128/128); Fri, 07 Nov 2025 13:16:12 -0800 (PST) X-Relaying-Domain: iol.unh.edu Date: Fri, 07 Nov 2025 13:16:12 -0800 (PST) Message-ID: <690e619c.050a0220.23ec6b.d1b7SMTPIN_ADDED_MISSING@mx.google.com> Received: from [172.21.0.3] (unknown [172.18.0.240]) by postal.iol.unh.edu (Postfix) with ESMTP id EA6386051830; Fri, 7 Nov 2025 16:16:11 -0500 (EST) Subject: |SUCCESS| pw158607 [PATCH] crypto/qat: fix CCM request descriptor ha From: dpdklab@iol.unh.edu To: Test Report Cc: dpdk-test-reports@iol.unh.edu, Akhil Goyal In-Reply-To: <20251107164329.2154794-1-emma.finn@intel.com> References: <20251107164329.2154794-1-emma.finn@intel.com> Content-Type: text/plain X-BeenThere: test-report@dpdk.org X-Mailman-Version: 2.1.29 Precedence: list List-Id: automatic DPDK test reports List-Unsubscribe: , List-Archive: List-Post: List-Help: List-Subscribe: , Errors-To: test-report-bounces@dpdk.org Test-Label: iol-compile-arm64-testing Test-Status: SUCCESS http://dpdk.org/patch/158607 _Testing PASS_ Submitter: Emma Finn Date: Friday, November 07 2025 16:43:29 DPDK git baseline: Repo:dpdk-next-crypto Branch: master CommitID:9cec61fe8175f6d0ce8067734d3f7e8b02afe697 158607 --> testing pass Upstream job id: Generic-DPDK-Compile-Meson#442041 Test environment and result as below: +------------------------------+--------------------+ | Environment | dpdk_meson_compile | +==============================+====================+ | Ubuntu 20.04 | PASS | +------------------------------+--------------------+ | Debian GNU/Linux 12 | PASS | +------------------------------+--------------------+ | Fedora Linux 42 | PASS | +------------------------------+--------------------+ | Ubuntu 24.04 | PASS | +------------------------------+--------------------+ | Ubuntu 22.04 | PASS | +------------------------------+--------------------+ | CentOS Stream 10 | PASS | +------------------------------+--------------------+ | Red Hat Enterprise Linux 9.5 | PASS | +------------------------------+--------------------+ | CentOS Stream 9 | PASS | +------------------------------+--------------------+ Ubuntu 20.04 Kernel: 5.15 Compiler: aarch64-linux-gnu-gcc gcc (Ubuntu 9.4.0-1ubuntu1~20.04.2) 9.4.0 Debian GNU/Linux 12 Kernel: 5.4 Compiler: gcc gcc (Debian 12.2.0-14+deb12u1) 12.2.0 Fedora Linux 42 Kernel: 5.4 Compiler: clang gcc (GCC) 15.2.1 20250808 (Red Hat 15.2.1-1) Ubuntu 24.04 Kernel: 5.4 Compiler: gcc gcc (Ubuntu 13.3.0-6ubuntu2~24.04) 13.3.0 Ubuntu 22.04 Kernel: 5.4 Compiler: gcc gcc (Ubuntu 11.4.0-1ubuntu1~22.04) 11.4.0 CentOS Stream 10 Kernel: 5.4 Compiler: gcc gcc (GCC) 14.2.1 20250110 (Red Hat 14.2.1-8) Red Hat Enterprise Linux 9.5 Kernel: 5.4 Compiler: gcc gcc (GCC) 11.5.0 20240719 (Red Hat 11.5.0-2) CentOS Stream 9 Kernel: 5.4 Compiler: gcc gcc (GCC) 11.5.0 20240719 (Red Hat 11.5.0-11) To view detailed results, visit: https://lab.dpdk.org/results/dashboard/patchsets/34510/ UNH-IOL DPDK Community Lab To manage your email subscriptions, visit: https://lab.dpdk.org/results/dashboard/preferences/subscriptions/