From mboxrd@z Thu Jan 1 00:00:00 1970 Return-Path: Received: from mails.dpdk.org (mails.dpdk.org [217.70.189.124]) by inbox.dpdk.org (Postfix) with ESMTP id 436D048AA3 for ; Fri, 7 Nov 2025 23:07:55 +0100 (CET) Received: from mails.dpdk.org (localhost [127.0.0.1]) by mails.dpdk.org (Postfix) with ESMTP id 259AA4026D; Fri, 7 Nov 2025 23:07:55 +0100 (CET) Received: from mail-io1-f97.google.com (mail-io1-f97.google.com [209.85.166.97]) by mails.dpdk.org (Postfix) with ESMTP id 549194026D for ; Fri, 7 Nov 2025 23:07:53 +0100 (CET) Received: by mail-io1-f97.google.com with SMTP id ca18e2360f4ac-9486d008fdbso48422139f.1 for ; Fri, 07 Nov 2025 14:07:53 -0800 (PST) DKIM-Signature: v=1; a=rsa-sha256; c=relaxed/relaxed; d=iol.unh.edu; s=unh-iol; t=1762553272; x=1763158072; darn=dpdk.org; h=references:in-reply-to:cc:to:from:subject:message-id:date:from:to :cc:subject:date:message-id:reply-to; bh=h/ana4GQRkVvqh105SE64gseZ9Jy+G52QWef/PzLyAs=; b=BbJF/iVsNuLuAOGAfW9sm/723tqmgu2tMgba3DlebXb3K0p3meXB9QV6blqa0uw3yD 5oY1u+NyetdIrW3OgnKXea29S6yBON9KcNaTotiygpNYshWbUO/1AfjyvHnVVbm35MOk +Tx/KtZSAXzeEFq6w0sr27OPLEx7F9e4bVUxg= X-Google-DKIM-Signature: v=1; a=rsa-sha256; c=relaxed/relaxed; d=1e100.net; s=20230601; t=1762553272; x=1763158072; h=references:in-reply-to:cc:to:from:subject:message-id:date:x-gm-gg :x-gm-message-state:from:to:cc:subject:date:message-id:reply-to; bh=h/ana4GQRkVvqh105SE64gseZ9Jy+G52QWef/PzLyAs=; b=I5it1dfDN1ibn/ojgNnfli5KkBOnMxmAu2qAEHcgGc/Pkak4Mcj1eJwymVfb12dy0o lhOIdMs72WUi+L0eGTcpbihzuP2EGVt43BMDUElnmIUQ9CJwJV/Al0hJLdhi7AE4PK5/ WuDxYV6gFe+k/CkayWdafQxlxQf1jJCTPNbd3MbmVYx5FAANnKk5P4wdTAs1KEyyaWRw Bflo2cADkejB4sAY3uVvbUKB6uVhtinHIJF5xQjKBM+ZA66KaIMFtMYWnkcNP0BrtDMC 2acROPJ43CDA+0lU7MEt+M5VmCw9eZ1xOr5/4DTKHZ1jLVFYABMyuLYYJzy6a0jS2iiY 97Yg== X-Gm-Message-State: AOJu0YzHUBJTgrvbfU7LZYeCLJErxkEyxvx5bjNX7QfeWp8Uri8hXg6e o5agBx0P0hbObOhyMhuCCy4kQ2qDaZh+nViM1xWfdwlZgd6Gua4eNbK1fuVl/ohGMuvOuSZxknb GlUh6ok0JboyM/z6iSq+4Yr38IZyK0djA8ipE5hSQ7O5Q8ob07D2DrrGU4d2e X-Gm-Gg: ASbGncu+oxeqohPszryWhZP8xmWlApKhcPcKatQwNxi6z+B6zVKVOsVv7575HhcYcZt DWNuVFLyM18uQYclY4teb1CdyBDVXJG5gQ3LzJ6JqCESa1wLGSsb/Yu6QAW9EuEbuF2IAQP8TBB yn6NoagDbzf9kVvyvCEK4yuCi4h0gktGwaywP4jqgCdMgRWakI2WjaRHSuuiC1AR4eSFaW71dGC Pi7uhfqo3LoN8waEpR0T8jIPUuajKCn6m2wP9+AzOSWKFBroeyYNabb2JY+iBGIBn5wmJUIbrjr DtnAjol4TKTvtFn8iUwPM/h9r859ceXsdvtgJnVRn4O5G4OrtgPuhRpoD5dOr/56WWJSA6GcvuC wPJY6fIh0 X-Google-Smtp-Source: AGHT+IGRtlwt4B6do5avPgvGZ3lMuvYaP3ZewVeM7oBFS3VO7ldNdp6WlosuFVypYTp472MwV6Ruv1bsOFKq X-Received: by 2002:a6b:4e0f:0:b0:940:e0bd:ed8b with SMTP id ca18e2360f4ac-9488d615989mr369225139f.0.1762553272554; Fri, 07 Nov 2025 14:07:52 -0800 (PST) Received: from postal.iol.unh.edu (postal.iol.unh.edu. [2606:4100:3880:1234::84]) by smtp-relay.gmail.com with ESMTPS id 8926c6da1cb9f-5b7467391fbsm629769173.8.2025.11.07.14.07.52 (version=TLS1_2 cipher=ECDHE-ECDSA-AES128-GCM-SHA256 bits=128/128); Fri, 07 Nov 2025 14:07:52 -0800 (PST) X-Relaying-Domain: iol.unh.edu Date: Fri, 07 Nov 2025 14:07:52 -0800 (PST) Message-ID: <690e6db8.050a0220.1ea286.0ac1SMTPIN_ADDED_MISSING@mx.google.com> Received: from [172.21.0.2] (unknown [172.18.0.240]) by postal.iol.unh.edu (Postfix) with ESMTP id 0A95C6051830; Fri, 7 Nov 2025 17:07:52 -0500 (EST) Subject: |SUCCESS| pw158535 [PATCH] [v1,1/1] net/e1000: use device timestamp From: dpdklab@iol.unh.edu To: Test Report Cc: dpdk-test-reports@iol.unh.edu, Bruce Richardson In-Reply-To: <20251107031507.3890366-1-yoong.siang.song@intel.com> References: <20251107031507.3890366-1-yoong.siang.song@intel.com> Content-Type: text/plain X-BeenThere: test-report@dpdk.org X-Mailman-Version: 2.1.29 Precedence: list List-Id: automatic DPDK test reports List-Unsubscribe: , List-Archive: List-Post: List-Help: List-Subscribe: , Errors-To: test-report-bounces@dpdk.org Test-Label: iol-unit-arm64-testing Test-Status: SUCCESS http://dpdk.org/patch/158535 _Testing PASS_ Submitter: Song Yoong Siang Date: Friday, November 07 2025 03:15:07 DPDK git baseline: Repo:dpdk-next-net-intel Branch: master CommitID:1655dc989bc95fa85fc76d32912d2e46c0851148 158535 --> testing pass Upstream job id: Generic-Unit-Test-DPDK#389805 Test environment and result as below: +------------------------------+--------------+------------------------------+---------------------------+----------------+ | Environment | lpm_autotest | cryptodev_sw_snow3g_autotest | cryptodev_sw_zuc_autotest | dpdk_unit_test | +==============================+==============+==============================+===========================+================+ | Ubuntu 20.04 | PASS | SKIPPED | SKIPPED | PASS | +------------------------------+--------------+------------------------------+---------------------------+----------------+ | Debian 12 (arm) | SKIPPED | PASS | PASS | SKIPPED | +------------------------------+--------------+------------------------------+---------------------------+----------------+ | Fedora Linux 40 | SKIPPED | SKIPPED | SKIPPED | PASS | +------------------------------+--------------+------------------------------+---------------------------+----------------+ | CentOS Stream 10 | SKIPPED | SKIPPED | SKIPPED | PASS | +------------------------------+--------------+------------------------------+---------------------------+----------------+ | CentOS Stream 9 | SKIPPED | SKIPPED | SKIPPED | PASS | +------------------------------+--------------+------------------------------+---------------------------+----------------+ | Ubuntu 22.04 | SKIPPED | SKIPPED | SKIPPED | PASS | +------------------------------+--------------+------------------------------+---------------------------+----------------+ | Debian GNU/Linux 12 | SKIPPED | SKIPPED | SKIPPED | PASS | +------------------------------+--------------+------------------------------+---------------------------+----------------+ | Fedora Linux 42 | SKIPPED | SKIPPED | SKIPPED | PASS | +------------------------------+--------------+------------------------------+---------------------------+----------------+ | Fedora Linux 41 | SKIPPED | SKIPPED | SKIPPED | PASS | +------------------------------+--------------+------------------------------+---------------------------+----------------+ | Red Hat Enterprise Linux 9.5 | SKIPPED | SKIPPED | SKIPPED | PASS | +------------------------------+--------------+------------------------------+---------------------------+----------------+ | Ubuntu 24.04 | SKIPPED | SKIPPED | SKIPPED | PASS | +------------------------------+--------------+------------------------------+---------------------------+----------------+ Ubuntu 20.04 Kernel: 5.4 Compiler: gcc gcc (Ubuntu 9.4.0-1ubuntu1~20.04.2) 9.4.0 Debian 12 (arm) Kernel: Depends on container host Compiler: gcc (Debian 12.2.0-14) 12.2.0 Fedora Linux 40 Kernel: 5.4 Compiler: gcc gcc (GCC) 14.2.1 20240912 (Red Hat 14.2.1-3) CentOS Stream 10 Kernel: 5.4 Compiler: gcc gcc (GCC) 14.2.1 20250110 (Red Hat 14.2.1-8) CentOS Stream 9 Kernel: 5.4 Compiler: gcc gcc (GCC) 11.5.0 20240719 (Red Hat 11.5.0-11) Ubuntu 22.04 Kernel: 5.15 Compiler: gcc gcc (Ubuntu 11.4.0-1ubuntu1~22.04.2) 11.4.0 Debian GNU/Linux 12 Kernel: 5.4 Compiler: gcc gcc (Debian 12.2.0-14+deb12u1) 12.2.0 Fedora Linux 42 Kernel: 5.4 Compiler: clang gcc (GCC) 15.2.1 20250808 (Red Hat 15.2.1-1) Fedora Linux 41 Kernel: 5.4 Compiler: clang gcc (GCC) 14.3.1 20250523 (Red Hat 14.3.1-1) Red Hat Enterprise Linux 9.5 Kernel: 5.4 Compiler: gcc gcc (GCC) 11.5.0 20240719 (Red Hat 11.5.0-2) Ubuntu 24.04 Kernel: 5.4 Compiler: gcc gcc (Ubuntu 13.3.0-6ubuntu2~24.04) 13.3.0 To view detailed results, visit: https://lab.dpdk.org/results/dashboard/patchsets/34503/ UNH-IOL DPDK Community Lab To manage your email subscriptions, visit: https://lab.dpdk.org/results/dashboard/preferences/subscriptions/