From mboxrd@z Thu Jan 1 00:00:00 1970 Return-Path: Received: from mails.dpdk.org (mails.dpdk.org [217.70.189.124]) by inbox.dpdk.org (Postfix) with ESMTP id 7DF7048AA3 for ; Sat, 8 Nov 2025 00:09:17 +0100 (CET) Received: from mails.dpdk.org (localhost [127.0.0.1]) by mails.dpdk.org (Postfix) with ESMTP id 593454026D; Sat, 8 Nov 2025 00:09:17 +0100 (CET) Received: from mail-qv1-f98.google.com (mail-qv1-f98.google.com [209.85.219.98]) by mails.dpdk.org (Postfix) with ESMTP id 184B24026D for ; Sat, 8 Nov 2025 00:09:16 +0100 (CET) Received: by mail-qv1-f98.google.com with SMTP id 6a1803df08f44-88057f5d041so12358366d6.1 for ; Fri, 07 Nov 2025 15:09:16 -0800 (PST) DKIM-Signature: v=1; a=rsa-sha256; c=relaxed/relaxed; d=iol.unh.edu; s=unh-iol; t=1762556955; x=1763161755; darn=dpdk.org; h=references:in-reply-to:cc:to:from:subject:message-id:date:from:to :cc:subject:date:message-id:reply-to; bh=Ff18v6mNJObBnYHzWWmfdCsYITVDxe5dfMsrrVRCeMA=; b=aoLAx5Dtam5SNZTnKlESyqVrfvr8+fGMHU7uHIBO/VDMSF6pFWSZDiQH5/BwZxP1yH D+8LEn4d8AiPb+FxfPxc1ENm9reyKxmwvK6zcGJP3Wh2ZopvHDDsqx2xLzW3vjPhOOD9 tuOS6X12TTri8fQ68wuHRsTTESSqxYaldYxo4= X-Google-DKIM-Signature: v=1; a=rsa-sha256; c=relaxed/relaxed; d=1e100.net; s=20230601; t=1762556955; x=1763161755; h=references:in-reply-to:cc:to:from:subject:message-id:date:x-gm-gg :x-gm-message-state:from:to:cc:subject:date:message-id:reply-to; bh=Ff18v6mNJObBnYHzWWmfdCsYITVDxe5dfMsrrVRCeMA=; b=NQg/sXAA1qBlMTjSbvyScOiPnsu5mGHHmmUuyLJWVI+E/gk/oYwJGDPco7IdwuwDH+ 53gOHU56fot+S8H097umZVdUToknAmh/58vRQVlniCHzI16E4ZnzkbSjaWkO2lFRjf7I 8EgeVtnQq5nYq1LAB/1D/OFUgpQ2cEjedXfcs9mwSHny4exoEDsht3MvDme+DaY0Txe7 xJS+Dml+KO6TDKqp7jRkgwa5cd+wEuHgElHsW/zwHa4bPDAIhqYQHBDRHRgq51tOqdEM sfMKrPbP2E2zTzZ0sFbvctj/nZjC4RZzF/PPkmz5Vcb0ooFnmBw8NmwmPVEH/Js5seQY ukNQ== X-Gm-Message-State: AOJu0Yzu5vrb9choTC56MZcRad9WikiYa/DBvWjR9c8EWMu1M7JK3tIr Ak8XWc0h/C7MC0mtftpD42TFHYwhAcWcxO8PHSrjwrPcVTzewx50/WBNH38Yj0marxR59x7NELM c/K68amnQ3hzvXdAtL/4TV+h14e81DTSR2W7HUYEuLRNX X-Gm-Gg: ASbGncsle2T8nQjmOQ3sPWqhJ9zVHhwiOArMh/+smp42NuRoRNmK7X7FkkQ8SaRA7LY rZUKup3yzlYcACuGJXS9SNAdxbShjIgWYQT+EJoamhqDgjF5T819FAVQH2so8fnx9Pw7yg8BiSv 4r9Gp+j9T3RjnTzxW0g7rRDHbIlHSzoPWk8DKJJvzEixt9qk+q32wIeoqt+OSuplX6Xu1FJVijA I/4RQfXO1i81yS67pw7LGp3cI7eq9soNQHh+5CPSKG6TURqkf6a68i+gS60jiRnlBn6ZAIx8SsB OVE4CQ3fwLpHyJMW/fcIjgsY/P/Xhc/3G7dwiHStgTcAu3JmtRLjm8n1qZXB0pkCMb2u/jSdgB8 t9bV03mbkmzdOG4WJ0gV8gwxk+ZP8PMo= X-Google-Smtp-Source: AGHT+IGfK+mYmElVn/DZ/q9bjOEjIiflSjZwmZkCf+1FEF3bMZxANQigUlwUAFjFtmQ700fEw00oNVcN5D/Y X-Received: by 2002:a05:6214:d4c:b0:880:56f6:92ae with SMTP id 6a1803df08f44-882386d7384mr11495836d6.57.1762556955415; Fri, 07 Nov 2025 15:09:15 -0800 (PST) Received: from postal.iol.unh.edu (postal.iol.unh.edu. [132.177.123.84]) by smtp-relay.gmail.com with ESMTPS id 6a1803df08f44-882389720d0sm543506d6.5.2025.11.07.15.09.15 (version=TLS1_2 cipher=ECDHE-ECDSA-AES128-GCM-SHA256 bits=128/128); Fri, 07 Nov 2025 15:09:15 -0800 (PST) X-Relaying-Domain: iol.unh.edu Date: Fri, 07 Nov 2025 15:09:15 -0800 (PST) Message-ID: <690e7c1b.d40a0220.3632d4.3190SMTPIN_ADDED_MISSING@mx.google.com> Received: from [172.21.0.3] (unknown [172.18.0.240]) by postal.iol.unh.edu (Postfix) with ESMTP id 21E916051830; Fri, 7 Nov 2025 18:09:15 -0500 (EST) Subject: |SUCCESS| pw158608-158611 [PATCH] [v5,4/4] dts: add virtio forwardin From: dpdklab@iol.unh.edu To: Test Report Cc: dpdk-test-reports@iol.unh.edu In-Reply-To: <20251107215020.255182-4-dmarx@iol.unh.edu> References: <20251107215020.255182-4-dmarx@iol.unh.edu> Content-Type: text/plain X-BeenThere: test-report@dpdk.org X-Mailman-Version: 2.1.29 Precedence: list List-Id: automatic DPDK test reports List-Unsubscribe: , List-Archive: List-Post: List-Help: List-Subscribe: , Errors-To: test-report-bounces@dpdk.org Test-Label: iol-compile-amd64-testing Test-Status: SUCCESS http://dpdk.org/patch/158611 _Testing PASS_ Submitter: Dean Marx Date: Friday, November 07 2025 21:50:18 DPDK git baseline: Repo:dpdk-next-dts Branch: master CommitID:86938398c8d6d8b88ff8237e30d3b7024d52c7bc 158608-158611 --> testing pass Upstream job id: Windows-Compile-DPDK-Native#32216 Test environment and result as below: +-------------------------------+--------------------+------------------+-------------------------+-------------------+----------------------+ | Environment | dpdk_meson_compile | dpdk_compile_ovs | dpdk_llvm_clang_compile | dpdk_msvc_compile | dpdk_mingw64_compile | +===============================+====================+==================+=========================+===================+======================+ | CentOS Stream 9 | PASS | SKIPPED | SKIPPED | SKIPPED | SKIPPED | +-------------------------------+--------------------+------------------+-------------------------+-------------------+----------------------+ | CentOS Stream 10 | PASS | SKIPPED | SKIPPED | SKIPPED | SKIPPED | +-------------------------------+--------------------+------------------+-------------------------+-------------------+----------------------+ | Fedora Linux 42 | PASS | PASS | SKIPPED | SKIPPED | SKIPPED | +-------------------------------+--------------------+------------------+-------------------------+-------------------+----------------------+ | Debian GNU/Linux 12 | PASS | SKIPPED | SKIPPED | SKIPPED | SKIPPED | +-------------------------------+--------------------+------------------+-------------------------+-------------------+----------------------+ | openSUSE Leap 15.6 | PASS | SKIPPED | SKIPPED | SKIPPED | SKIPPED | +-------------------------------+--------------------+------------------+-------------------------+-------------------+----------------------+ | Ubuntu 20.04 | PASS | SKIPPED | SKIPPED | SKIPPED | SKIPPED | +-------------------------------+--------------------+------------------+-------------------------+-------------------+----------------------+ | Red Hat Enterprise Linux 8.10 | PASS | SKIPPED | SKIPPED | SKIPPED | SKIPPED | +-------------------------------+--------------------+------------------+-------------------------+-------------------+----------------------+ | FreeBSD 14.2 | PASS | SKIPPED | SKIPPED | SKIPPED | SKIPPED | +-------------------------------+--------------------+------------------+-------------------------+-------------------+----------------------+ | Red Hat Enterprise Linux 9.5 | PASS | SKIPPED | SKIPPED | SKIPPED | SKIPPED | +-------------------------------+--------------------+------------------+-------------------------+-------------------+----------------------+ | Ubuntu 22.04 | PASS | SKIPPED | SKIPPED | SKIPPED | SKIPPED | +-------------------------------+--------------------+------------------+-------------------------+-------------------+----------------------+ | Ubuntu 24.04 | PASS | PASS | SKIPPED | SKIPPED | SKIPPED | +-------------------------------+--------------------+------------------+-------------------------+-------------------+----------------------+ | Alpine Linux 3.22.0 | PASS | SKIPPED | SKIPPED | SKIPPED | SKIPPED | +-------------------------------+--------------------+------------------+-------------------------+-------------------+----------------------+ | Windows Server 2022 | SKIPPED | SKIPPED | PASS | PASS | PASS | +-------------------------------+--------------------+------------------+-------------------------+-------------------+----------------------+ CentOS Stream 9 Kernel: 5.15 Compiler: gcc gcc (GCC) 11.5.0 20240719 (Red Hat 11.5.0-11) CentOS Stream 10 Kernel: 5.15 Compiler: gcc gcc (GCC) 14.2.1 20250110 (Red Hat 14.2.1-8) Fedora Linux 42 Kernel: 5.15 Compiler: gcc gcc (GCC) 15.2.1 20250808 (Red Hat 15.2.1-1) Debian GNU/Linux 12 Kernel: 5.15 Compiler: gcc gcc (Debian 12.2.0-14+deb12u1) 12.2.0 openSUSE Leap 15.6 Kernel: 5.15 Compiler: gcc gcc (SUSE Linux) 7.5.0 Ubuntu 20.04 Kernel: 4.19 Compiler: gcc gcc (Ubuntu 9.4.0-1ubuntu1~20.04.2) 9.4.0 Red Hat Enterprise Linux 8.10 Kernel: 5.15 Compiler: gcc gcc (GCC) 8.5.0 20210514 (Red Hat 8.5.0-22) FreeBSD 14.2 Kernel: 14.2-RELEASE Compiler: clang 18.1.6 Red Hat Enterprise Linux 9.5 Kernel: 5.15 Compiler: gcc gcc (GCC) 11.5.0 20240719 (Red Hat 11.5.0-2) Ubuntu 22.04 Kernel: 5.15 Compiler: gcc gcc (Ubuntu 11.4.0-1ubuntu1~22.04) 11.4.0 Ubuntu 24.04 Kernel: 5.15 Compiler: gcc gcc (Ubuntu 13.3.0-6ubuntu2~24.04) 13.3.0 Alpine Linux 3.22.0 Kernel: 5.15 Compiler: gcc gcc (Alpine 14.2.0) 14.2.0 Windows Server 2022 Kernel: 10.0.20348.2031 Compiler: clang 15.0.7, gcc 14.1.0 (MinGW), and MSVC VS 19.39.33521 To view detailed results, visit: https://lab.dpdk.org/results/dashboard/patchsets/34511/ UNH-IOL DPDK Community Lab To manage your email subscriptions, visit: https://lab.dpdk.org/results/dashboard/preferences/subscriptions/