From mboxrd@z Thu Jan 1 00:00:00 1970 Return-Path: Received: from mails.dpdk.org (mails.dpdk.org [217.70.189.124]) by inbox.dpdk.org (Postfix) with ESMTP id 770ED48AA3 for ; Sat, 8 Nov 2025 00:19:02 +0100 (CET) Received: from mails.dpdk.org (localhost [127.0.0.1]) by mails.dpdk.org (Postfix) with ESMTP id 4DE8E40261; Sat, 8 Nov 2025 00:19:02 +0100 (CET) Received: from mail-vk1-f226.google.com (mail-vk1-f226.google.com [209.85.221.226]) by mails.dpdk.org (Postfix) with ESMTP id 6ABF240261 for ; Sat, 8 Nov 2025 00:19:01 +0100 (CET) Received: by mail-vk1-f226.google.com with SMTP id 71dfb90a1353d-5598b58d816so856482e0c.3 for ; Fri, 07 Nov 2025 15:19:01 -0800 (PST) DKIM-Signature: v=1; a=rsa-sha256; c=relaxed/relaxed; d=iol.unh.edu; s=unh-iol; t=1762557541; x=1763162341; darn=dpdk.org; h=references:in-reply-to:cc:to:from:subject:message-id:date:from:to :cc:subject:date:message-id:reply-to; bh=R6gkr1468iVgi8uDFkarirxaUTuUKYGcnDDw9dB++IU=; b=QcAIcwJv7d0RKzYl+lv8Ln6uMKdbJmXOoXttVHX3pS80Lk/sLZFbGV597EkVFv39fW ZCZV3efLGFnaiHoWfRUGm8hYNjqZClqTwTD4+hLcwhW/0E6uZeOKe1vS2G9zyd2amZVs HFhzwVwyKuexVpLKMTnCuDQL9L49ny9EDUhjo= X-Google-DKIM-Signature: v=1; a=rsa-sha256; c=relaxed/relaxed; d=1e100.net; s=20230601; t=1762557541; x=1763162341; h=references:in-reply-to:cc:to:from:subject:message-id:date:x-gm-gg :x-gm-message-state:from:to:cc:subject:date:message-id:reply-to; bh=R6gkr1468iVgi8uDFkarirxaUTuUKYGcnDDw9dB++IU=; b=D/ljouYJwJITE036L4VX/X2EKAxl29/ZLhoyuieE3p2GqcmXHCxueLzABPL+dVh9DM k4+H93z7xAA5ce987yD4/fDS1qO3n7WrvudmrmNTWWfssUwqeIB4oj5e+mQLE5wIw74V gOfYpklPJUw00bT083qF1aTh7WSIAL1XXyDdaNpyJ6XRyh+Dn7/gU1VeMnlPX/imvq+u Akbw0L3ypdEzur85yiXbkt8BVXUKxC/ddZLTPuI5THa1UD3oYN1klwrf8WW1/QX+vsZz 2RLFheCBANew7xYG8VwjSyulXdoEmBykzKin8fKdVpsnblQnHf2VMY3mdE4sUAXw6nwa nvJA== X-Gm-Message-State: AOJu0YxaBrBAQL1DYUFXD+hr4cZqKXFruBHSWS25xCHsazjh2aTTrMws NbQ/eITNq9yRVgVDdZkV256n2jPrUox/JQh0fvSagtWgweOit3vWsxzTQvgKWx/qlClIyo1DX5g KV5ogeIxvNXcUSStKrEthncu66j+yNE2IvmJ0eQB98wmU X-Gm-Gg: ASbGncvajH6tPDZSqSzeCW/LXtCYc9X/x0NZt62RRMiw5zGJriWKAdfNFHvqAlSrasq OwN6qrzzEcgNH8oszS3/c3VGIs33LFCuZwX8ACGrLooKNFICNINchyxM+6Bd386cJG9y0GI+fFg 3ufHaQFZ6ys2fMBzmX19xZ9RZAsDm2gft9OBXUfCvukhcsSaQd1iU7Um4zRjIdVeKcm2xKz3hYx /RXJxGqRRTBSj5KX1n0r4LyubbbFkI4XXdtHcMPyxn4YPqZCXPp9k2IJCstp4d0KkAJhOgvUd8D 9Zf08bBhV2gUN37qOnAH7fkIR2NI2J4pFouJlf4/jSiv0TVo0AngS75UPJtCS2ArE/Bx8hNJOZ1 duvIlmy70ZSxpcn34SKP2KfUbyQUqMPc= X-Google-Smtp-Source: AGHT+IEzDwvhzz8BOlbkR6IpDcWCgJbv8IZKrjyV2kxW1jynDdF82tx0pHC1OqTG0IFLy6xuMz5xvy+mK9nP X-Received: by 2002:a05:6122:d94:b0:559:b2cb:5dcf with SMTP id 71dfb90a1353d-559b32c497bmr581512e0c.14.1762557540725; Fri, 07 Nov 2025 15:19:00 -0800 (PST) Received: from postal.iol.unh.edu (postal.iol.unh.edu. [132.177.123.84]) by smtp-relay.gmail.com with ESMTPS id 71dfb90a1353d-559a1f1e3a8sm409969e0c.8.2025.11.07.15.19.00 (version=TLS1_2 cipher=ECDHE-ECDSA-AES128-GCM-SHA256 bits=128/128); Fri, 07 Nov 2025 15:19:00 -0800 (PST) X-Relaying-Domain: iol.unh.edu Date: Fri, 07 Nov 2025 15:19:00 -0800 (PST) Message-ID: <690e7e64.050a0220.31756f.5739SMTPIN_ADDED_MISSING@mx.google.com> Received: from [172.21.0.2] (unknown [172.18.0.240]) by postal.iol.unh.edu (Postfix) with ESMTP id 530766051830; Fri, 7 Nov 2025 18:19:00 -0500 (EST) Subject: |SUCCESS| pw158608-158611 [PATCH] [v5,4/4] dts: add virtio forwardin From: dpdklab@iol.unh.edu To: Test Report Cc: dpdk-test-reports@iol.unh.edu In-Reply-To: <20251107215020.255182-4-dmarx@iol.unh.edu> References: <20251107215020.255182-4-dmarx@iol.unh.edu> Content-Type: text/plain X-BeenThere: test-report@dpdk.org X-Mailman-Version: 2.1.29 Precedence: list List-Id: automatic DPDK test reports List-Unsubscribe: , List-Archive: List-Post: List-Help: List-Subscribe: , Errors-To: test-report-bounces@dpdk.org Test-Label: iol-unit-amd64-testing Test-Status: SUCCESS http://dpdk.org/patch/158611 _Testing PASS_ Submitter: Dean Marx Date: Friday, November 07 2025 21:50:18 DPDK git baseline: Repo:dpdk-next-dts Branch: master CommitID:86938398c8d6d8b88ff8237e30d3b7024d52c7bc 158608-158611 --> testing pass Upstream job id: Generic-VM-Unit-Test-DPDK#32389 Test environment and result as below: +-------------------------------+----------------+ | Environment | dpdk_unit_test | +===============================+================+ | CentOS Stream 9 | PASS | +-------------------------------+----------------+ | Debian GNU/Linux 12 | PASS | +-------------------------------+----------------+ | CentOS Stream 10 | PASS | +-------------------------------+----------------+ | Fedora Linux 40 | PASS | +-------------------------------+----------------+ | Fedora Linux 41 | PASS | +-------------------------------+----------------+ | Red Hat Enterprise Linux 8.10 | PASS | +-------------------------------+----------------+ | Fedora Linux 42 | PASS | +-------------------------------+----------------+ | Ubuntu 24.04 | PASS | +-------------------------------+----------------+ | Ubuntu 20.04 | PASS | +-------------------------------+----------------+ | Ubuntu 22.04 | PASS | +-------------------------------+----------------+ | Red Hat Enterprise Linux 9.5 | PASS | +-------------------------------+----------------+ | Windows Server 2022 | PASS | +-------------------------------+----------------+ CentOS Stream 9 Kernel: 5.15 Compiler: gcc gcc (GCC) 11.5.0 20240719 (Red Hat 11.5.0-11) Debian GNU/Linux 12 Kernel: 5.15 Compiler: gcc gcc (Debian 12.2.0-14+deb12u1) 12.2.0 CentOS Stream 10 Kernel: 5.15 Compiler: gcc gcc (GCC) 14.2.1 20250110 (Red Hat 14.2.1-8) Fedora Linux 40 Kernel: 5.15 Compiler: gcc gcc (GCC) 14.2.1 20240912 (Red Hat 14.2.1-3) Fedora Linux 41 Kernel: 5.15 Compiler: gcc gcc (GCC) 14.3.1 20250523 (Red Hat 14.3.1-1) Red Hat Enterprise Linux 8.10 Kernel: 5.15 Compiler: gcc gcc (GCC) 8.5.0 20210514 (Red Hat 8.5.0-22) Fedora Linux 42 Kernel: 5.15 Compiler: clang gcc (GCC) 15.2.1 20250808 (Red Hat 15.2.1-1) Ubuntu 24.04 Kernel: 5.15 Compiler: gcc gcc (Ubuntu 13.3.0-6ubuntu2~24.04) 13.3.0 Ubuntu 20.04 Kernel: 5.15 Compiler: gcc gcc (Ubuntu 9.4.0-1ubuntu1~20.04.2) 9.4.0 Ubuntu 22.04 Kernel: 5.15 Compiler: gcc gcc (Ubuntu 11.4.0-1ubuntu1~22.04) 11.4.0 Red Hat Enterprise Linux 9.5 Kernel: 5.15 Compiler: gcc gcc (GCC) 11.5.0 20240719 (Red Hat 11.5.0-2) Windows Server 2022 Kernel: 10.0.20348.2031 Compiler: clang 15.0.7, gcc 14.1.0 (MinGW), and MSVC VS 19.39.33521 To view detailed results, visit: https://lab.dpdk.org/results/dashboard/patchsets/34511/ UNH-IOL DPDK Community Lab To manage your email subscriptions, visit: https://lab.dpdk.org/results/dashboard/preferences/subscriptions/