From mboxrd@z Thu Jan 1 00:00:00 1970 Return-Path: Received: from mails.dpdk.org (mails.dpdk.org [217.70.189.124]) by inbox.dpdk.org (Postfix) with ESMTP id 188BE48AA3 for ; Sat, 8 Nov 2025 00:27:01 +0100 (CET) Received: from mails.dpdk.org (localhost [127.0.0.1]) by mails.dpdk.org (Postfix) with ESMTP id EFE9540261; Sat, 8 Nov 2025 00:27:00 +0100 (CET) Received: from mail-pj1-f98.google.com (mail-pj1-f98.google.com [209.85.216.98]) by mails.dpdk.org (Postfix) with ESMTP id 9865C40261 for ; Sat, 8 Nov 2025 00:26:59 +0100 (CET) Received: by mail-pj1-f98.google.com with SMTP id 98e67ed59e1d1-341c68c953bso1539634a91.1 for ; Fri, 07 Nov 2025 15:26:59 -0800 (PST) DKIM-Signature: v=1; a=rsa-sha256; c=relaxed/relaxed; d=iol.unh.edu; s=unh-iol; t=1762558019; x=1763162819; darn=dpdk.org; h=references:in-reply-to:cc:to:from:subject:message-id:date:from:to :cc:subject:date:message-id:reply-to; bh=uHTym1EIcPVBoc9hy9vCNElxALpok6Pwa84pmVbV3NQ=; b=M/EnOkeNN6x2TA2lEA9iOukNoP7tjuq+44sBnHvdEwqKyOwFiwo15D+lgS4XkcPv1H j6yk+c9W8mBPKvKBPpR5XK/rElx+4O4WlIv8kYgYKV77TGZL3eV3wUP1vBJjUr78mEMQ Dslk+xBH2aB1RGbfpahm9Q5M02Q8Z+P47nL5U= X-Google-DKIM-Signature: v=1; a=rsa-sha256; c=relaxed/relaxed; d=1e100.net; s=20230601; t=1762558019; x=1763162819; h=references:in-reply-to:cc:to:from:subject:message-id:date:x-gm-gg :x-gm-message-state:from:to:cc:subject:date:message-id:reply-to; bh=uHTym1EIcPVBoc9hy9vCNElxALpok6Pwa84pmVbV3NQ=; b=AVRgg1V7QZtvmBS7RDIw+1N3mS22971QqN78Wp9lMBLSYEkF2akSTiwSbTDW/KzKhx jkTpP11fgnjEsyxuGonO2HySl1m27ENURuz2UH/bvWdsnJEIWYl9LGs3bB2llIeHDrrs apYvlWhMORQ2W4wiXptrC6+4SDVWyXIMuXA+cEehTFaYySV6x3XmcWJEodDBgmobstOD 6d8MBPX/tQS0Wax7Aa5TsICE6NiJya+6utgRs+PLwsJ0GXYH4gvf/61ONW+8rLCVUPxl ZkJ3AZD7nLLW1C+1Mcza55kOBWKWSiU0S9+REw1ht+E0fE3383e9XDbhyKrAUapzyoc2 StXg== X-Gm-Message-State: AOJu0Yy6X3WSm08jyO9omb0TQ8xMKUVLJmnZHX2uVuIsiitF/d4EMkQn ARZE4yy96N4PijGnyKo8/RqZTCQns17dYvuMhNswSeuO6MKNDwvYq3yOKVitFGIwpIE5LGkGwXZ XOWGp2TI/ueKrrO6vfs2MvYxIJ3aKfASWabmawrdqzZwsrdrqOn7GfbfjZb7S X-Gm-Gg: ASbGnctOrZHOT6UaJzaGnM1lw24tfq8QFH6vy51SrJcz1WN/WRE1t6v1O37cizJt7NJ rYOePZZpVt6OxJ2RuZKDLFWpglH2jpntF+kX4+FRxkBgSHLxw/Y4AanRHqh6RrkAuNPVlSfIXpU G6xdW1pw9yrjbhzFIS7UGp/RHewvUdZM/lC/fLotOybA6P0tsnAaZApmQz7RuxxmzrTsTuxTqv0 DZb7ZXJHUegTJXGioqGmvYNEW32mPK+5ugdqHQS4u5MoFj20n0G98Pdw/pn6hAFrtu9ULvMj2iO Yrdsm9i8G9jbbT4Mf1RsZrDhGhDAN89SBmYTWzT+sUXkJhQzoqNUx5c+LGvFFu6NJ4Uo3xeoy4W duR+wHLDs X-Google-Smtp-Source: AGHT+IHtsLMRP1DYz944oEIsjd4HkWW9pNDbb1YoiIertIMUySu9KL4sKTgnTzo5VXtvBiW+wxPIIcNxmlMT X-Received: by 2002:a17:90b:42:b0:340:cb39:74cd with SMTP id 98e67ed59e1d1-3436cbc3d9fmr789976a91.32.1762558018706; Fri, 07 Nov 2025 15:26:58 -0800 (PST) Received: from postal.iol.unh.edu (postal.iol.unh.edu. [2606:4100:3880:1234::84]) by smtp-relay.gmail.com with ESMTPS id 41be03b00d2f7-ba8f7a23e39sm336842a12.8.2025.11.07.15.26.58 (version=TLS1_2 cipher=ECDHE-ECDSA-AES128-GCM-SHA256 bits=128/128); Fri, 07 Nov 2025 15:26:58 -0800 (PST) X-Relaying-Domain: iol.unh.edu Date: Fri, 07 Nov 2025 15:26:58 -0800 (PST) Message-ID: <690e8042.630a0220.35f584.220eSMTPIN_ADDED_MISSING@mx.google.com> Received: from [172.21.0.2] (unknown [172.18.0.240]) by postal.iol.unh.edu (Postfix) with ESMTP id 7AAC16051830; Fri, 7 Nov 2025 18:26:57 -0500 (EST) Subject: |SUCCESS| pw158608-158611 [PATCH] [v5,4/4] dts: add virtio forwardin From: dpdklab@iol.unh.edu To: Test Report Cc: dpdk-test-reports@iol.unh.edu In-Reply-To: <20251107215020.255182-4-dmarx@iol.unh.edu> References: <20251107215020.255182-4-dmarx@iol.unh.edu> Content-Type: text/plain X-BeenThere: test-report@dpdk.org X-Mailman-Version: 2.1.29 Precedence: list List-Id: automatic DPDK test reports List-Unsubscribe: , List-Archive: List-Post: List-Help: List-Subscribe: , Errors-To: test-report-bounces@dpdk.org Test-Label: iol-unit-amd64-testing Test-Status: SUCCESS http://dpdk.org/patch/158611 _Testing PASS_ Submitter: Dean Marx Date: Friday, November 07 2025 21:50:18 DPDK git baseline: Repo:dpdk-next-dts Branch: master CommitID:86938398c8d6d8b88ff8237e30d3b7024d52c7bc 158608-158611 --> testing pass Upstream job id: Generic-VM-Unit-Test-DPDK#32390 Test environment and result as below: +-------------------------------+----------------+ | Environment | dpdk_unit_test | +===============================+================+ | CentOS Stream 9 | PASS | +-------------------------------+----------------+ | Debian GNU/Linux 12 | PASS | +-------------------------------+----------------+ | CentOS Stream 10 | PASS | +-------------------------------+----------------+ | Fedora Linux 40 | PASS | +-------------------------------+----------------+ | Fedora Linux 41 | PASS | +-------------------------------+----------------+ | Red Hat Enterprise Linux 8.10 | PASS | +-------------------------------+----------------+ | Fedora Linux 42 | PASS | +-------------------------------+----------------+ | Ubuntu 24.04 | PASS | +-------------------------------+----------------+ | Ubuntu 20.04 | PASS | +-------------------------------+----------------+ | Ubuntu 22.04 | PASS | +-------------------------------+----------------+ | Red Hat Enterprise Linux 9.5 | PASS | +-------------------------------+----------------+ | Windows Server 2022 | PASS | +-------------------------------+----------------+ CentOS Stream 9 Kernel: 5.15 Compiler: gcc gcc (GCC) 11.5.0 20240719 (Red Hat 11.5.0-11) Debian GNU/Linux 12 Kernel: 5.15 Compiler: gcc gcc (Debian 12.2.0-14+deb12u1) 12.2.0 CentOS Stream 10 Kernel: 5.15 Compiler: gcc gcc (GCC) 14.2.1 20250110 (Red Hat 14.2.1-8) Fedora Linux 40 Kernel: 5.15 Compiler: gcc gcc (GCC) 14.2.1 20240912 (Red Hat 14.2.1-3) Fedora Linux 41 Kernel: 5.15 Compiler: gcc gcc (GCC) 14.3.1 20250523 (Red Hat 14.3.1-1) Red Hat Enterprise Linux 8.10 Kernel: 5.15 Compiler: gcc gcc (GCC) 8.5.0 20210514 (Red Hat 8.5.0-22) Fedora Linux 42 Kernel: 5.15 Compiler: clang gcc (GCC) 15.2.1 20250808 (Red Hat 15.2.1-1) Ubuntu 24.04 Kernel: 5.15 Compiler: gcc gcc (Ubuntu 13.3.0-6ubuntu2~24.04) 13.3.0 Ubuntu 20.04 Kernel: 5.15 Compiler: gcc gcc (Ubuntu 9.4.0-1ubuntu1~20.04.2) 9.4.0 Ubuntu 22.04 Kernel: 5.15 Compiler: gcc gcc (Ubuntu 11.4.0-1ubuntu1~22.04) 11.4.0 Red Hat Enterprise Linux 9.5 Kernel: 5.15 Compiler: gcc gcc (GCC) 11.5.0 20240719 (Red Hat 11.5.0-2) Windows Server 2022 Kernel: 10.0.20348.2031 Compiler: clang 15.0.7, gcc 14.1.0 (MinGW), and MSVC VS 19.39.33521 To view detailed results, visit: https://lab.dpdk.org/results/dashboard/patchsets/34511/ UNH-IOL DPDK Community Lab To manage your email subscriptions, visit: https://lab.dpdk.org/results/dashboard/preferences/subscriptions/