From mboxrd@z Thu Jan 1 00:00:00 1970 Return-Path: Received: from mails.dpdk.org (mails.dpdk.org [217.70.189.124]) by inbox.dpdk.org (Postfix) with ESMTP id 522B348AA4 for ; Sat, 8 Nov 2025 02:07:04 +0100 (CET) Received: from mails.dpdk.org (localhost [127.0.0.1]) by mails.dpdk.org (Postfix) with ESMTP id 2F94840261; Sat, 8 Nov 2025 02:07:04 +0100 (CET) Received: from mail-pj1-f98.google.com (mail-pj1-f98.google.com [209.85.216.98]) by mails.dpdk.org (Postfix) with ESMTP id E7CC440261 for ; Sat, 8 Nov 2025 02:07:02 +0100 (CET) Received: by mail-pj1-f98.google.com with SMTP id 98e67ed59e1d1-340c1c05feeso1146862a91.1 for ; Fri, 07 Nov 2025 17:07:02 -0800 (PST) DKIM-Signature: v=1; a=rsa-sha256; c=relaxed/relaxed; d=iol.unh.edu; s=unh-iol; t=1762564022; x=1763168822; darn=dpdk.org; h=cc:to:from:subject:message-id:date:from:to:cc:subject:date :message-id:reply-to; bh=35eDrfn68mY7lHuYjjNRkx+ZsKFp605xu1YsnGNBovU=; b=IXf5SDhY0Szj2FtCO0+IcqNajD3q+jdoLYahz4DJMmVWOVRZlyqfkf/wopQCpy2Qjg 3Out1l2Hg3c2e4gk7q3H3yBflO+ydrQajcb4N0lYEOx/0NwlW7HI3ipclcVFGYxvLfqa AGVk015vWAhpnEFhSMBlyWADF5uma7hvfYlB8= X-Google-DKIM-Signature: v=1; a=rsa-sha256; c=relaxed/relaxed; d=1e100.net; s=20230601; t=1762564022; x=1763168822; h=cc:to:from:subject:message-id:date:x-gm-gg:x-gm-message-state:from :to:cc:subject:date:message-id:reply-to; bh=35eDrfn68mY7lHuYjjNRkx+ZsKFp605xu1YsnGNBovU=; b=M0vD+Kew7DvBgeX9XjIWnk2R0vmaIHYQYu8eTAKm9iTo0K+L81AnYXOlRRsTsN4Fda bDa6966RSj1fTw3dU83zkqPvoS23uWWs4hpbkYkj0UnINdZsTZ6zyIEAhnQwKdcFYSD0 GYSr+AvIYHvXP9XrzsljiQUTlHtS+S0u9NtdOfxIue0CLfGUcEQIc0MbYbfpSKscucF6 cWBKzDRWDxOjR5d3oZ0Ohz1nUkpbMzyf/yqusVdfhiyv2eetxgJeWnl/AGcW1ij3Clhk PUE9Dgu8w9aOUeYrjBPpz+1X1VPkkXwLuGK3Ve5CKWi0Q/SKLFuHH0i/BnVT24LWlF7R n7Gg== X-Gm-Message-State: AOJu0Yxf297FzaICnCEOf95bHXCF2KfhuRDtRUz9ur+7uWV8g6cTN6y+ yU1W7J5jJ3c8WTVg2Jva2+XmuHCNYjlZwsFFQ9M9FAjF1hidcHEPDIc5uvfxqKgI3OBc/7fR2Br 7syTDwWSnhxfX8vjXfq+6f3N2KRl6p0ZEhjM7 X-Gm-Gg: ASbGnct+R15Hry4eiJgQZfpk7neB55IOSQKtq/8RokpLfwLPkZWb1CDW17ZILtMnUOh y89+etyZ3Kp9mU8poKyZFDG9kMA2pOJ0r8V4K1/qcKMd/VaWSjxirWkzHUpZl98fcUe+Mha2u48 lMhgrTKvQnMf+Om2VcIsHn4XXDFELpaucChS3LJ4UCjuv1LYFRAUYncMEy93GxpgXgW8i4tzJUF hFo3QfkqQ/S9ZH1fvjPBwHc1VrCOql3XWs8M0rTqyroig62z4Vq9vqfz857zFohf2AJ8q6sfqLJ MgAMyDvMVF3fNm3A6eq37PKs9+Jt5Ru8nVggXYDOxToOfvmcp/GUlCLzyVHDltDpdj91DHE7Jj5 NW74INLVml2HFOqRLIyYfpDpU135kDZE= X-Google-Smtp-Source: AGHT+IH4xu4a2vQNIPv4D2ryKW6gFQp7zf8IWS4O9pY4tVsKe17dBqSv3Xc7quUTJDc8bDhEsgOjfWg5y8Lj X-Received: by 2002:a17:903:19e3:b0:24b:24dc:91a7 with SMTP id d9443c01a7336-297e56df30emr12207475ad.45.1762564021991; Fri, 07 Nov 2025 17:07:01 -0800 (PST) Received: from postal.iol.unh.edu (postal.iol.unh.edu. [132.177.123.84]) by smtp-relay.gmail.com with ESMTPS id d9443c01a7336-29650c62b45sm6193095ad.25.2025.11.07.17.07.01 (version=TLS1_2 cipher=ECDHE-ECDSA-AES128-GCM-SHA256 bits=128/128); Fri, 07 Nov 2025 17:07:01 -0800 (PST) X-Relaying-Domain: iol.unh.edu Date: Fri, 07 Nov 2025 17:07:01 -0800 (PST) Message-ID: <690e97b5.170a0220.34a14f.0b2dSMTPIN_ADDED_MISSING@mx.google.com> Received: from [172.21.0.2] (unknown [172.18.0.240]) by postal.iol.unh.edu (Postfix) with ESMTP id 937B160003E8; Fri, 7 Nov 2025 20:07:00 -0500 (EST) Subject: |SUCCESS| [GIT MASTER] 0bd935abcb823f581ce53986986aa54eaf6f8140 From: dpdklab@iol.unh.edu To: Test Report Cc: dpdk-test-reports@iol.unh.edu, Xueming Li , Christian Ehrhardt , Kevin Traynor , Luca Boccassi Content-Type: text/plain X-BeenThere: test-report@dpdk.org X-Mailman-Version: 2.1.29 Precedence: list List-Id: automatic DPDK test reports List-Unsubscribe: , List-Archive: List-Post: List-Help: List-Subscribe: , Errors-To: test-report-bounces@dpdk.org _Testing PASS_ Branch: tags/v24.11 0bd935abcb823f581ce53986986aa54eaf6f8140 --> testing pass Upstream job id: Generic-Unit-Test-DPDK#389877 Test environment and result as below: +------------------------------+----------------+--------------+---------------------------+------------------------------+ | Environment | dpdk_unit_test | lpm_autotest | cryptodev_sw_zuc_autotest | cryptodev_sw_snow3g_autotest | +==============================+================+==============+===========================+==============================+ | Ubuntu 22.04 | PASS | SKIPPED | SKIPPED | SKIPPED | +------------------------------+----------------+--------------+---------------------------+------------------------------+ | CentOS Stream 10 | PASS | SKIPPED | SKIPPED | SKIPPED | +------------------------------+----------------+--------------+---------------------------+------------------------------+ | Fedora Linux 40 | PASS | SKIPPED | SKIPPED | SKIPPED | +------------------------------+----------------+--------------+---------------------------+------------------------------+ | CentOS Stream 9 | PASS | SKIPPED | SKIPPED | SKIPPED | +------------------------------+----------------+--------------+---------------------------+------------------------------+ | Debian GNU/Linux 12 | PASS | SKIPPED | SKIPPED | SKIPPED | +------------------------------+----------------+--------------+---------------------------+------------------------------+ | Fedora Linux 41 | PASS | SKIPPED | SKIPPED | SKIPPED | +------------------------------+----------------+--------------+---------------------------+------------------------------+ | Fedora Linux 42 | PASS | SKIPPED | SKIPPED | SKIPPED | +------------------------------+----------------+--------------+---------------------------+------------------------------+ | Ubuntu 20.04 | PASS | PASS | SKIPPED | SKIPPED | +------------------------------+----------------+--------------+---------------------------+------------------------------+ | Red Hat Enterprise Linux 9.5 | PASS | SKIPPED | SKIPPED | SKIPPED | +------------------------------+----------------+--------------+---------------------------+------------------------------+ | Ubuntu 24.04 | PASS | SKIPPED | SKIPPED | SKIPPED | +------------------------------+----------------+--------------+---------------------------+------------------------------+ | Debian 12 (arm) | SKIPPED | SKIPPED | PASS | PASS | +------------------------------+----------------+--------------+---------------------------+------------------------------+ Ubuntu 22.04 Kernel: 5.15 Compiler: gcc gcc (Ubuntu 11.4.0-1ubuntu1~22.04.2) 11.4.0 CentOS Stream 10 Kernel: 5.4 Compiler: gcc gcc (GCC) 14.2.1 20250110 (Red Hat 14.2.1-8) Fedora Linux 40 Kernel: 5.4 Compiler: gcc gcc (GCC) 14.2.1 20240912 (Red Hat 14.2.1-3) CentOS Stream 9 Kernel: 5.4 Compiler: gcc gcc (GCC) 11.5.0 20240719 (Red Hat 11.5.0-11) Debian GNU/Linux 12 Kernel: 5.4 Compiler: gcc gcc (Debian 12.2.0-14+deb12u1) 12.2.0 Fedora Linux 41 Kernel: 5.4 Compiler: gcc gcc (GCC) 14.3.1 20250523 (Red Hat 14.3.1-1) Fedora Linux 42 Kernel: 5.4 Compiler: gcc gcc (GCC) 15.2.1 20250808 (Red Hat 15.2.1-1) Ubuntu 20.04 Kernel: 5.4 Compiler: gcc gcc (Ubuntu 9.4.0-1ubuntu1~20.04.2) 9.4.0 Red Hat Enterprise Linux 9.5 Kernel: 5.4 Compiler: gcc gcc (GCC) 11.5.0 20240719 (Red Hat 11.5.0-2) Ubuntu 24.04 Kernel: 5.4 Compiler: gcc gcc (Ubuntu 13.3.0-6ubuntu2~24.04) 13.3.0 Debian 12 (arm) Kernel: Depends on container host Compiler: gcc (Debian 12.2.0-14) 12.2.0 To view detailed results, visit: https://lab.dpdk.org/results/dashboard/tarballs/35498/ UNH-IOL DPDK Community Lab To manage your email subscriptions, visit: https://lab.dpdk.org/results/dashboard/preferences/subscriptions/