From mboxrd@z Thu Jan 1 00:00:00 1970 Return-Path: Received: from mails.dpdk.org (mails.dpdk.org [217.70.189.124]) by inbox.dpdk.org (Postfix) with ESMTP id 190E548AA4 for ; Sat, 8 Nov 2025 02:53:00 +0100 (CET) Received: from mails.dpdk.org (localhost [127.0.0.1]) by mails.dpdk.org (Postfix) with ESMTP id E454B40261; Sat, 8 Nov 2025 02:52:59 +0100 (CET) Received: from mail-ot1-f97.google.com (mail-ot1-f97.google.com [209.85.210.97]) by mails.dpdk.org (Postfix) with ESMTP id AFE6940261 for ; Sat, 8 Nov 2025 02:52:57 +0100 (CET) Received: by mail-ot1-f97.google.com with SMTP id 46e09a7af769-7c28c21aba1so844302a34.0 for ; Fri, 07 Nov 2025 17:52:57 -0800 (PST) DKIM-Signature: v=1; a=rsa-sha256; c=relaxed/relaxed; d=iol.unh.edu; s=unh-iol; t=1762566777; x=1763171577; darn=dpdk.org; h=cc:to:from:subject:message-id:date:from:to:cc:subject:date :message-id:reply-to; bh=MX3qQtSwmI9XxeXLKWgZUcceVLmqpcotvHCSYyRnqaA=; b=cFZr4A4OWAJd4wpGqqEKwWD8orPqkZIVY3NeIlubioE352A68cUKW5H/PDLkoWXGar uQI2PBfkKx1h1mQ4dw+k7rMYksDaI0caxzqDbKF7ueqpx1FCMO4rxYcyrJcbLtxFDlpL lm2GKNoHWzcC27mwsbxEzkrVca9Qj3cEv2Ndk= X-Google-DKIM-Signature: v=1; a=rsa-sha256; c=relaxed/relaxed; d=1e100.net; s=20230601; t=1762566777; x=1763171577; h=cc:to:from:subject:message-id:date:x-gm-gg:x-gm-message-state:from :to:cc:subject:date:message-id:reply-to; bh=MX3qQtSwmI9XxeXLKWgZUcceVLmqpcotvHCSYyRnqaA=; b=i8Bkgax2FC1W+HSEpeqI0ZYZbPNwcDRtVO7XQ5s0Qf+CHUQ3KBBHDSpMrLiDmZfI8A Y6UTLVOil6abx6v7VXGyU1eKi5m41GR85RR2WDF+bEwFLy0gxPbhKGyLVlyolD20y92R PlSBBYCbdp8l0kg1XVqHZTtGv3eCcjpbI4Uq28ipuOA9bX35nTMXToxO3LyXHT8quqFE a41AXglx2A5ZAruSZWkxYUMdHY6w+g7VH1rmwPthcvwUfbji5nlvizphS8vRcydeC2DP 88bY+4wq928XKbFunsbnTBV6objUcT0ofbgP5p2WuDmGgM9/h4ozfLgYahzK9wGTTJnK VTBQ== X-Gm-Message-State: AOJu0YwvXplvYQgbFue65H5zGb8yP8H+nB0UJVxQXtiF3tgvGKkIN+x+ 3JOu5UvPxmOOCrhG8ts4FZuTYuZRGfwQ+zkjpRXNxyDXF2TjPabarQm8Sit++WrftYpFW49/u/V 9BM55QQXoeSQJ2KajvARKaTTk3s+uAVnbASz0 X-Gm-Gg: ASbGncts1RwsuHhL01CNGVQBS2gXjrf0WdvMD5EVNo7KLwAK1hQP8kEQ57TOWECHZjq me/I/JnzWyBXVVoqnzr3xQ8QSMRmUh0tRGSychXOCnK/TKazH6LgfqRJsWC/zbuEUBlwu9P55b6 aIK2hobZaa73RkbsZ2ekUhuZ+B/kCEHV9LgqWz9/j6l8TSTfRit6ekOvB3aGIaaa71fLaIUpIcw 8nK0qDRW/joUTB9fsXT9/ByMGj7nOCSzg2e8ZDlDI+JoqG0K44D41Wq2/hNsVOZh8UTFgea8Ow9 FKDrZ7aLCjraBhbabtBIGnTEpDhpX8dV+ZDkG7mj1Yd7dRb6BR9u2VuXnCykIYbDqBvJzcOUQSM 7SqvLhTm1NK1QWAyq4my7QvGZEmsar0Y= X-Google-Smtp-Source: AGHT+IFY69QqPO4O9bmfWyIubyl3ReauaMdjMRZ5I8cihoifzIeUjTxzr5ZDMgg7tWZJGKG1A5EWTwqnsnun X-Received: by 2002:a05:6830:411f:b0:7c6:8c73:ab0c with SMTP id 46e09a7af769-7c6fd7198ffmr1007431a34.4.1762566776963; Fri, 07 Nov 2025 17:52:56 -0800 (PST) Received: from postal.iol.unh.edu (postal.iol.unh.edu. [132.177.123.84]) by smtp-relay.gmail.com with ESMTPS id 46e09a7af769-7c6f0f0efc5sm361890a34.1.2025.11.07.17.52.56 (version=TLS1_2 cipher=ECDHE-ECDSA-AES128-GCM-SHA256 bits=128/128); Fri, 07 Nov 2025 17:52:56 -0800 (PST) X-Relaying-Domain: iol.unh.edu Date: Fri, 07 Nov 2025 17:52:56 -0800 (PST) Message-ID: <690ea278.050a0220.58738.2fb0SMTPIN_ADDED_MISSING@mx.google.com> Received: from [172.21.0.2] (unknown [172.18.0.240]) by postal.iol.unh.edu (Postfix) with ESMTP id 0B0886051830; Fri, 7 Nov 2025 20:52:56 -0500 (EST) Subject: |WARNING| [GIT MASTER] 62f583c49bf67dd4d6733ece14e55fe6839e66d1 From: dpdklab@iol.unh.edu To: Test Report Cc: dpdk-test-reports@iol.unh.edu, Xueming Li , Christian Ehrhardt , Kevin Traynor , Luca Boccassi Content-Type: text/plain X-BeenThere: test-report@dpdk.org X-Mailman-Version: 2.1.29 Precedence: list List-Id: automatic DPDK test reports List-Unsubscribe: , List-Archive: List-Post: List-Help: List-Subscribe: , Errors-To: test-report-bounces@dpdk.org _Testing issues_ Branch: tags/v23.11 62f583c49bf67dd4d6733ece14e55fe6839e66d1 --> testing issues Upstream job id: Generic-Unit-Test-DPDK#389885 Test environment and result as below: +------------------------------+----------------+--------------+------------------------------+---------------------------+ | Environment | dpdk_unit_test | lpm_autotest | cryptodev_sw_snow3g_autotest | cryptodev_sw_zuc_autotest | +==============================+================+==============+==============================+===========================+ | Ubuntu 22.04 | PASS | SKIPPED | SKIPPED | SKIPPED | +------------------------------+----------------+--------------+------------------------------+---------------------------+ | CentOS Stream 9 | PASS | SKIPPED | SKIPPED | SKIPPED | +------------------------------+----------------+--------------+------------------------------+---------------------------+ | CentOS Stream 10 | PASS | SKIPPED | SKIPPED | SKIPPED | +------------------------------+----------------+--------------+------------------------------+---------------------------+ | Debian GNU/Linux 12 | PASS | SKIPPED | SKIPPED | SKIPPED | +------------------------------+----------------+--------------+------------------------------+---------------------------+ | Fedora Linux 40 | PASS | SKIPPED | SKIPPED | SKIPPED | +------------------------------+----------------+--------------+------------------------------+---------------------------+ | Fedora Linux 41 | PASS | SKIPPED | SKIPPED | SKIPPED | +------------------------------+----------------+--------------+------------------------------+---------------------------+ | Ubuntu 20.04 | PASS | PASS | SKIPPED | SKIPPED | +------------------------------+----------------+--------------+------------------------------+---------------------------+ | Red Hat Enterprise Linux 9.5 | PASS | SKIPPED | SKIPPED | SKIPPED | +------------------------------+----------------+--------------+------------------------------+---------------------------+ | Fedora Linux 42 | PASS | SKIPPED | SKIPPED | SKIPPED | +------------------------------+----------------+--------------+------------------------------+---------------------------+ | Ubuntu 24.04 | PASS | SKIPPED | SKIPPED | SKIPPED | +------------------------------+----------------+--------------+------------------------------+---------------------------+ | Debian 12 (arm) | SKIPPED | SKIPPED | PASS | PASS | +------------------------------+----------------+--------------+------------------------------+---------------------------+ Ubuntu 22.04 Kernel: 5.15 Compiler: gcc gcc (Ubuntu 11.4.0-1ubuntu1~22.04.2) 11.4.0 CentOS Stream 9 Kernel: 5.4 Compiler: gcc gcc (GCC) 11.5.0 20240719 (Red Hat 11.5.0-11) CentOS Stream 10 Kernel: 5.4 Compiler: gcc gcc (GCC) 14.2.1 20250110 (Red Hat 14.2.1-8) Debian GNU/Linux 12 Kernel: 5.4 Compiler: gcc gcc (Debian 12.2.0-14+deb12u1) 12.2.0 Fedora Linux 40 Kernel: 5.4 Compiler: clang gcc (GCC) 14.2.1 20240912 (Red Hat 14.2.1-3) Fedora Linux 41 Kernel: 5.4 Compiler: clang gcc (GCC) 14.3.1 20250523 (Red Hat 14.3.1-1) Ubuntu 20.04 Kernel: 5.4 Compiler: gcc gcc (Ubuntu 9.4.0-1ubuntu1~20.04.2) 9.4.0 Red Hat Enterprise Linux 9.5 Kernel: 5.4 Compiler: gcc gcc (GCC) 11.5.0 20240719 (Red Hat 11.5.0-2) Fedora Linux 42 Kernel: 5.4 Compiler: gcc gcc (GCC) 15.2.1 20250808 (Red Hat 15.2.1-1) Ubuntu 24.04 Kernel: 5.4 Compiler: gcc gcc (Ubuntu 13.3.0-6ubuntu2~24.04) 13.3.0 Debian 12 (arm) Kernel: Depends on container host Compiler: gcc (Debian 12.2.0-14) 12.2.0 To view detailed results, visit: https://lab.dpdk.org/results/dashboard/tarballs/35499/ UNH-IOL DPDK Community Lab To manage your email subscriptions, visit: https://lab.dpdk.org/results/dashboard/preferences/subscriptions/